BEGIN:VCALENDAR
VERSION:2.0
PRODID:-//Geauga Growth Partnership, Inc. - ECPv6.15.20//NONSGML v1.0//EN
CALSCALE:GREGORIAN
METHOD:PUBLISH
X-WR-CALNAME:Geauga Growth Partnership, Inc.
X-ORIGINAL-URL:https://geaugagrowthpartnership.com
X-WR-CALDESC:Events for Geauga Growth Partnership, Inc.
REFRESH-INTERVAL;VALUE=DURATION:PT1H
X-Robots-Tag:noindex
X-PUBLISHED-TTL:PT1H
BEGIN:VTIMEZONE
TZID:America/New_York
BEGIN:DAYLIGHT
TZOFFSETFROM:-0500
TZOFFSETTO:-0400
TZNAME:EDT
DTSTART:20250309T070000
END:DAYLIGHT
BEGIN:STANDARD
TZOFFSETFROM:-0400
TZOFFSETTO:-0500
TZNAME:EST
DTSTART:20251102T060000
END:STANDARD
BEGIN:DAYLIGHT
TZOFFSETFROM:-0500
TZOFFSETTO:-0400
TZNAME:EDT
DTSTART:20260308T070000
END:DAYLIGHT
BEGIN:STANDARD
TZOFFSETFROM:-0400
TZOFFSETTO:-0500
TZNAME:EST
DTSTART:20261101T060000
END:STANDARD
BEGIN:DAYLIGHT
TZOFFSETFROM:-0500
TZOFFSETTO:-0400
TZNAME:EDT
DTSTART:20270314T070000
END:DAYLIGHT
BEGIN:STANDARD
TZOFFSETFROM:-0400
TZOFFSETTO:-0500
TZNAME:EST
DTSTART:20271107T060000
END:STANDARD
END:VTIMEZONE
BEGIN:VEVENT
DTSTART;TZID=America/New_York:20260309T090000
DTEND;TZID=America/New_York:20260310T160000
DTSTAMP:20260425T205510
CREATED:20260304T150436Z
LAST-MODIFIED:20260304T150436Z
UID:8935-1773046800-1773158400@geaugagrowthpartnership.com
SUMMARY:Virtual – Excel 365 Formulas
DESCRIPTION:03/09/2026 – 03/10/2026 from 09:00 AM – 04:00 PM \nSimple Description: Master Excel formulas to calculate\, troubleshoot\, and automate your work. \nGreat For: Business analysts\, finance professionals\, advanced Excel users. \nFull description: In this course\, you will cover the different ways to enter formulas and functions in Excel\, as well as how to use functions in formulas\, including nested functions. You will use the Function Wizard and work with a variety of functions such as logical\, statistical\, date/time\, and financial. You will learn about formula auditing and common errors\, and how to correct them. You will also cover using the Watch Window to see changes in formulas\, and will learn about using the Trace Dependents and Precedents features. \nPrerequesites:\nExcel Level 2 \nCourse price: $598 \n\n\n                \n                        \n                            Virtual - Misc Excel Classes\n                             \n                        \n                        Attendee Name(Required)\n                            \n                            \n                                                    \n                                                    First\n                                                \n                            \n                            \n                                                    \n                                                    Last\n                                                \n                            \n                        Company Name(Required)Email(Required)\n                            \n                        Phone(Required)Select class registration (select one class):(Required)\n								\n								Excel 2019 Charts | 04/24/2026 | 08:00 AM - 12:00 PM\n							\n								\n								Excel 2019 Pivot Tables | 04/24/2026| 01:00 PM - 05:00 PM\n							\n								\n								Excel 365 Formulas | 04/29/2026 - 04/30/2026| 09:00 AM - 04:00 PM\n							\n								\n								Excel 2019 Pivot Tables | 05/20/2026| 01:00 PM - 05:00 PM\n							Are you a GGP Member?(Required)\n			\n					\n					Yes\n			\n			\n					\n					No\n			\n			\n					\n					Unknown\n			Comments - Please let us know what's on your mind. Have a question for GGP? Ask away!CAPTCHA\n          \n            \n            \n            \n            \n            \n            \n            \n            \n            \n            \n            \n            \n            \n        \n                        \n                        \n \nPlease contact the Geauga Growth Partnership (GGP) office if you have any questions.\n440-564-1060 or info@geaugagrowth.com.  \nThis course is TechCred eligible for reimbursement! Learn more and see if you qualify by clicking here: FAQ | TechCred \nRegistration closes one week before the class date. If you’re interested in registering within a week of the class\, please contact a member of the Geauga Growth Partnership team for availability. Contact information: 440-564-1060 | info@geaugagrowth.com  \nGeauga Growth Partnership Board of Directors is dedicated to providing a positive and respectful environment for all event and training participants. GGP employees\, members\, guests of members\, attendees\, speakers\, sponsors\, and volunteers are expected to observe high standards of behavior and personal ethics in their conduct at any GGP event or training.  \nAnyone engaging in inappropriate behavior during these events or trainings will be asked by a GGP representative to discontinue the offensive behavior immediately. Should the behavior continue or if the behavior is deemed severe enough\, the individual(s) will be removed from the event or training (without a refund) and may be denied entry to future events or trainings.  \n 
URL:https://geaugagrowthpartnership.com/event/virtual-excel-365-formulas-3/
CATEGORIES:All GGP Events,Virtual Training,Workforce Development
END:VEVENT
BEGIN:VEVENT
DTSTART;TZID=America/New_York:20260310T090000
DTEND;TZID=America/New_York:20260310T170000
DTSTAMP:20260425T205510
CREATED:20260304T150510Z
LAST-MODIFIED:20260304T150510Z
UID:8937-1773133200-1773162000@geaugagrowthpartnership.com
SUMMARY:Virtual – Excel 365 Level 1
DESCRIPTION:03/10/2026 from 09:00 AM – 05:00 PM \nSimple Description: Build your Excel 365 foundation with shortcuts\, formulas\, and quick tools. \nGreat For: Beginners\, professionals needing a refresher\, office staff. \nFull description: The Computer Workshop writes their own curriculum for Excel\, making it easy to customize a class specific to your needs. Many think they are past the basics\, but our course has many valuable shortcuts and quick data entry methods built in to give you a good foundation. Even if you have used Excel for a number of years\, it is worth taking the Level 1 class. This course will make ordinary tasks much easier for you to accomplish in much less time. \nCourse price: $279 \n\n                \n                        \n                            Virtual - Excel Level 1\n                             \n                        \n                        Attendee Name(Required)\n                            \n                            \n                                                    \n                                                    First\n                                                \n                            \n                            \n                                                    \n                                                    Last\n                                                \n                            \n                        Company Name(Required)Email(Required)\n                            \n                        Phone(Required)Select class registration (select one class):(Required)\n								\n								Excel 365 Level 1 | 03/10/2026| 09:00 AM - 05:00 PM\n							\n								\n								Excel 365 Level 1 | 04/25/2026 - 05/02/2026| 01:00 PM - 04:30 PM\n							\n								\n								Excel 365 Level 1 | 04/29/2026| 09:00 AM - 05:00 PM\n							Are you a GGP Member?(Required)\n			\n					\n					Yes\n			\n			\n					\n					No\n			\n			\n					\n					Unknown\n			Comments - Please let us know what's on your mind. Have a question for GGP? Ask away!CAPTCHA\n          \n            \n            \n            \n            \n            \n            \n            \n            \n            \n            \n            \n            \n            \n        \n                        \n                        \n \nPlease contact the Geauga Growth Partnership (GGP) office if you have any questions.\n440-564-1060 or info@geaugagrowth.com.  \nThis course is TechCred eligible for reimbursement! Learn more and see if you qualify by clicking here: FAQ | TechCred \nRegistration closes one week before the class date. If you’re interested in registering within a week of the class\, please contact a member of the Geauga Growth Partnership team for availability. Contact information: 440-564-1060 | info@geaugagrowth.com  \nGeauga Growth Partnership Board of Directors is dedicated to providing a positive and respectful environment for all event and training participants. GGP employees\, members\, guests of members\, attendees\, speakers\, sponsors\, and volunteers are expected to observe high standards of behavior and personal ethics in their conduct at any GGP event or training.  \nAnyone engaging in inappropriate behavior during these events or trainings will be asked by a GGP representative to discontinue the offensive behavior immediately. Should the behavior continue or if the behavior is deemed severe enough\, the individual(s) will be removed from the event or training (without a refund) and may be denied entry to future events or trainings.  \n 
URL:https://geaugagrowthpartnership.com/event/virtual-excel-365-level-1-4/
CATEGORIES:All GGP Events,Virtual Training,Workforce Development
END:VEVENT
BEGIN:VEVENT
DTSTART;TZID=America/New_York:20260311T090000
DTEND;TZID=America/New_York:20260311T170000
DTSTAMP:20260425T205511
CREATED:20260128T170237Z
LAST-MODIFIED:20260128T170237Z
UID:8801-1773219600-1773248400@geaugagrowthpartnership.com
SUMMARY:Virtual – Excel 365 Level 2
DESCRIPTION:03/11/2026 @ 09:00 AM – 05:00 PM \nSimple Description: Take Excel 365 to the next level with multiple worksheets\, charts\, and advanced formatting. \nGreat For: Intermediate Excel users\, business professionals managing complex data. \nFull description: In this course\, you will cover how to work with large worksheets in Microsoft Excel 365\, and use multiple worksheets and workbooks efficiently. You will sort and filter data\, use conditional formatting\, and create and format tables and charts. You will learn how to protect worksheets and files\, as well as referring to data in other workbooks through 3D formulas. Finally\, you will create names\, customize a template\, and work with comments and graphics. \nPrerequesites:\nTo ensure success\, students should have completed Microsoft® Excel® for Office 365™ (Desktop or Online): Part 1 or have the equivalent knowledge and experience. \nCourse price: $289 \n\n                \n                        \n                            Virtual - Excel Level 2\n                             \n                        \n                        Attendee Name(Required)\n                            \n                            \n                                                    \n                                                    First\n                                                \n                            \n                            \n                                                    \n                                                    Last\n                                                \n                            \n                        Company Name(Required)Email(Required)\n                            \n                        Phone(Required)Select class registration (select one class):(Required)\n								\n								Excel 365 Level 2 | 02/19/2026 | 09:00 AM - 05:00 PM\n							\n								\n								Excel 365 Level 2 | 03/11/2026 | 09:00 AM - 05:00 PM\n							\n								\n								Excel 365 Level 2 | 05/15/2026 | 09:00 AM - 05:00 PM\n							Are you a GGP Member?(Required)\n			\n					\n					Yes\n			\n			\n					\n					No\n			\n			\n					\n					Unknown\n			Comments - Please let us know what's on your mind. Have a question for GGP? Ask away!CAPTCHA\n          \n            \n            \n            \n            \n            \n            \n            \n            \n            \n            \n            \n            \n            \n        \n                        \n                        \n \nPlease contact the Geauga Growth Partnership (GGP) office if you have any questions.\n440-564-1060 or info@geaugagrowth.com.  \nThis course is TechCred eligible for reimbursement! Learn more and see if you qualify by clicking here: FAQ | TechCred \nRegistration closes one week before the class date. If you’re interested in registering within a week of the class\, please contact a member of the Geauga Growth Partnership team for availability. Contact information: 440-564-1060 | info@geaugagrowth.com  \nGeauga Growth Partnership Board of Directors is dedicated to providing a positive and respectful environment for all event and training participants. GGP employees\, members\, guests of members\, attendees\, speakers\, sponsors\, and volunteers are expected to observe high standards of behavior and personal ethics in their conduct at any GGP event or training.  \nAnyone engaging in inappropriate behavior during these events or trainings will be asked by a GGP representative to discontinue the offensive behavior immediately. Should the behavior continue or if the behavior is deemed severe enough\, the individual(s) will be removed from the event or training (without a refund) and may be denied entry to future events or trainings.  \n 
URL:https://geaugagrowthpartnership.com/event/virtual-excel-365-level-2-5/
CATEGORIES:All GGP Events,Virtual Training,Workforce Development
END:VEVENT
BEGIN:VEVENT
DTSTART;TZID=America/New_York:20260317T090000
DTEND;TZID=America/New_York:20260317T170000
DTSTAMP:20260425T205511
CREATED:20260304T150559Z
LAST-MODIFIED:20260304T150559Z
UID:8939-1773738000-1773766800@geaugagrowthpartnership.com
SUMMARY:Virtual – Excel 365 Level 3
DESCRIPTION:03/17/2026 from 09:00 AM – 05:00 PM \nSimple Description: Master Excel 365 with advanced formulas\, macros\, and collaboration tools. \nGreat For: Advanced Excel users\, analysts\, professionals automating or sharing data. \nFull description: In this course\, you will cover how to create and work with Macros and VBA Programming\, as well as how to add Form Controls and assign a Macro to a Form Control. You will learn about formula auditing\, and will learn about common errors\, how to correct them\, and how to use the Watch Window to see changes in formulas. You will also work with creating and modifying hyperlinks\, getting data from the internet\, as well as saving workbooks\, worksheets\, charts\, and ranges as web pages. You will create custom styles and learn how to use advanced conditional formatting. Finally\, you will learn how to create and use a shared workbook\, including how to protect\, consolidate\, and resolve editing conflicts in a shared workbook. \nPrerequesites:\nTo ensure success\, students can take the following courses\, or should possess the equivalent skill level: \nMicrosoft® Excel® for Office 365™ (Desktop or Online): Part 1 \nMicrosoft® Excel® for Office 365™ (Desktop or Online): Part 2 \nCourse price: $299 \n\n                \n                        \n                            Virtual - Excel Level 3\n                             \n                        \n                        Attendee Name(Required)\n                            \n                            \n                                                    \n                                                    First\n                                                \n                            \n                            \n                                                    \n                                                    Last\n                                                \n                            \n                        Company Name(Required)Email(Required)\n                            \n                        Phone(Required)Select class registration (select one class):(Required)\n								\n								Excel 365 Level 3 | 03/17/2026| 09:00 AM - 05:00 PM\n							Are you a GGP Member?(Required)\n			\n					\n					Yes\n			\n			\n					\n					No\n			\n			\n					\n					Unknown\n			Comments - Please let us know what's on your mind. Have a question for GGP? Ask away!CAPTCHA\n          \n            \n            \n            \n            \n            \n            \n            \n            \n            \n            \n            \n            \n            \n        \n                        \n                        \n \nPlease contact the Geauga Growth Partnership (GGP) office if you have any questions.\n440-564-1060 or info@geaugagrowth.com.  \nThis course is TechCred eligible for reimbursement! Learn more and see if you qualify by clicking here: FAQ | TechCred \nRegistration closes one week before the class date. If you’re interested in registering within a week of the class\, please contact a member of the Geauga Growth Partnership team for availability. Contact information: 440-564-1060 | info@geaugagrowth.com  \nGeauga Growth Partnership Board of Directors is dedicated to providing a positive and respectful environment for all event and training participants. GGP employees\, members\, guests of members\, attendees\, speakers\, sponsors\, and volunteers are expected to observe high standards of behavior and personal ethics in their conduct at any GGP event or training.  \nAnyone engaging in inappropriate behavior during these events or trainings will be asked by a GGP representative to discontinue the offensive behavior immediately. Should the behavior continue or if the behavior is deemed severe enough\, the individual(s) will be removed from the event or training (without a refund) and may be denied entry to future events or trainings.  \n 
URL:https://geaugagrowthpartnership.com/event/virtual-excel-365-level-3-5/
CATEGORIES:All GGP Events,Virtual Training,Workforce Development
END:VEVENT
END:VCALENDAR