BEGIN:VCALENDAR
VERSION:2.0
PRODID:-//Geauga Growth Partnership, Inc. - ECPv6.15.20//NONSGML v1.0//EN
CALSCALE:GREGORIAN
METHOD:PUBLISH
X-ORIGINAL-URL:https://geaugagrowthpartnership.com
X-WR-CALDESC:Events for Geauga Growth Partnership, Inc.
REFRESH-INTERVAL;VALUE=DURATION:PT1H
X-Robots-Tag:noindex
X-PUBLISHED-TTL:PT1H
BEGIN:VTIMEZONE
TZID:America/New_York
BEGIN:DAYLIGHT
TZOFFSETFROM:-0500
TZOFFSETTO:-0400
TZNAME:EDT
DTSTART:20250309T070000
END:DAYLIGHT
BEGIN:STANDARD
TZOFFSETFROM:-0400
TZOFFSETTO:-0500
TZNAME:EST
DTSTART:20251102T060000
END:STANDARD
BEGIN:DAYLIGHT
TZOFFSETFROM:-0500
TZOFFSETTO:-0400
TZNAME:EDT
DTSTART:20260308T070000
END:DAYLIGHT
BEGIN:STANDARD
TZOFFSETFROM:-0400
TZOFFSETTO:-0500
TZNAME:EST
DTSTART:20261101T060000
END:STANDARD
BEGIN:DAYLIGHT
TZOFFSETFROM:-0500
TZOFFSETTO:-0400
TZNAME:EDT
DTSTART:20270314T070000
END:DAYLIGHT
BEGIN:STANDARD
TZOFFSETFROM:-0400
TZOFFSETTO:-0500
TZNAME:EST
DTSTART:20271107T060000
END:STANDARD
END:VTIMEZONE
BEGIN:VEVENT
DTSTART;TZID=America/New_York:20260907T090000
DTEND;TZID=America/New_York:20260911T170000
DTSTAMP:20260425T115631
CREATED:20260319T213820Z
LAST-MODIFIED:20260413T152353Z
UID:9188-1788771600-1789146000@geaugagrowthpartnership.com
SUMMARY:C)WSE: Certified Wireless Security Engineer
DESCRIPTION:Description\nIn this course\, you will cover how a Wireless Security Engineer designs\, implements\, and maintains secure wireless networks. You will also learn how they assess security risks and vulnerabilities\, configure security solutions\, and ensure the confidentiality\, integrity\, and availability of data transmitted over wireless networks. This includes implementing security protocols such as WPA2\, 802.1X\, and others\, monitoring network activity for security threats\, and responding to security incidents. They also stay up to date with emerging security trends and technologies to continuously improve the security posture of their organization’s wireless network. \n  \nObjectives\nUpon successful completion of this course students will: \n\nBe able to establish industry acceptable Cyber Security & IS management standards with current best practices\nBe prepared to competently take the C)WSE exam\n\n  \nPre-Requisites\n\nC)SP\n12 months of Information Systems Management Experience\n\n\n\n                \n                        \n                            Virtual - C)WSE: Certified Wireless Security Engineer\n                             \n                        \n                        Attendee Name(Required)\n                            \n                            \n                                                    \n                                                    First\n                                                \n                            \n                            \n                                                    \n                                                    Last\n                                                \n                            \n                        Company Name(Required)Email(Required)\n                            \n                        Phone(Required)Select class registration (select one class):(Required)\n								\n								04/13/2026 - 04/17/2026 | 09:00 AM - 05:00 PM\n							\n								\n								09/07/2026 - 09/11/2026 | 09:00 AM - 05:00 PM\n							Are you a GGP Member?(Required)\n			\n					\n					Yes\n			\n			\n					\n					No\n			\n			\n					\n					Unknown\n			Comments - Please let us know what's on your mind. Have a question for GGP? Ask away!CAPTCHA\n          \n            \n            \n            \n            \n            \n            \n            \n            \n            \n            \n            \n            \n            \n        \n                        \n                        \n\nCourse Details\nBrand: Mile2\nExam: Mile2 C)WSE\nCEU Credits: 3.5\nCourse Hours: 35\nNumber of Days: 5\nCourse PDF
URL:https://geaugagrowthpartnership.com/event/cwse-certified-wireless-security-engineer-2/
CATEGORIES:All GGP Events,Workforce Development
END:VEVENT
BEGIN:VEVENT
DTSTART;TZID=America/New_York:20260907T090000
DTEND;TZID=America/New_York:20260911T170000
DTSTAMP:20260425T115631
CREATED:20260320T131445Z
LAST-MODIFIED:20260320T153305Z
UID:8996-1788771600-1789146000@geaugagrowthpartnership.com
SUMMARY:CyberSec First Responder (CFR)
DESCRIPTION:Description\nThis course covers network defense and incident response methods\, tactics\, and procedures that are in alignment with industry frameworks such as NIST 800-61r2 (Computer Security Incident Handling Guide)\, US-CERT’s National Cyber Incident Response Plan (NCIRP)\, and Presidential Policy Directive (PPD)-41 on Cyber Incident Coordination. It is ideal for candidates who have been tasked with the responsibility of monitoring and detecting security incidents in information systems and networks\, and for executing standardized responses to such incidents. The course introduces tools\, tactics\, and procedures to manage cybersecurity risks\, identify various types of common threats\, evaluate the organization’s security\, collect and analyze cybersecurity intelligence\, and remediate and report incidents as they occur. This course provides a comprehensive methodology for individuals responsible for defending the cybersecurity of their organization. \n \nPre-Requisites\nTo ensure your success in this course\, you should meet the following requirements: \n\nAt least two years (recommended) of experience or education in computer network security technology or a related field.\nThe ability or curiosity to recognize information security vulnerabilities and threats in the context of risk management.\nFoundational knowledge of the concepts and operational framework of common assurance safeguards in network environments. Safeguards include\, but are not limited to\, firewalls\, intrusion prevention systems\, and VPNs.\nGeneral knowledge of the concepts and operational framework of common assurance safeguards in computing environments. Safeguards include\, but are not limited to\, basic authentication and authorization\, resource permissions\, and anti-malware mechanisms.\nFoundation-level skills with some of the common operating systems for computing environments.\nEntry-level understanding of some of the common concepts for network environments\, such as routing and switching.\nGeneral or practical knowledge of major TCP/IP networking protocols\, including\, but not limited to\, TCP\, IP\, UDP\, DNS\, HTTP\, ARP\, ICMP\, and DHCP.\n\n \nCourse Details\nBrand: CertNexus\nExam: CFR\nCEU Credits: 3.5\nCourse Hours: 35\nNumber of Days: 5\nCourse PDF
URL:https://geaugagrowthpartnership.com/event/cybersec-first-responder-cfr-6/
CATEGORIES:All GGP Events,Workforce Development
END:VEVENT
BEGIN:VEVENT
DTSTART;TZID=America/New_York:20260907T090000
DTEND;TZID=America/New_York:20260911T170000
DTSTAMP:20260425T115631
CREATED:20260320T135738Z
LAST-MODIFIED:20260406T160609Z
UID:9165-1788771600-1789146000@geaugagrowthpartnership.com
SUMMARY:MD-102T00: Microsoft 365 Endpoint Administrator
DESCRIPTION:Description\nIn this course\, students will learn to plan and execute an endpoint deployment strategy using contemporary deployment techniques and implementing update strategies. The course introduces essential elements of modern management\, co-management approaches\, and Microsoft Intune integration. It covers app deployment\, management of browser-based applications\, and key security concepts such as authentication\, identities\, access\, and compliance policies. Technologies like Azure Active Directory\, Azure Information Protection\, and Microsoft Defender for Endpoint are explored to protect devices and data. \n  \nObjectives\n\nExplain the enterprise desktop life-cycle model.\nSelect the most suitable Windows device for your needs.\nUse Windows PowerShell cmdlets to manage Azure AD.\nManage devices joined to Azure AD.\nDeploy the Configuration Manager client.\nConfigure Microsoft Intune for automatic enrollment.\nAnd so much more!\n\n  \nPre-Requisites\nThe Modern Desktop Administrator must be familiar with M365 workloads and must have strong skills and experience of deploying\, configuring\, and maintaining Windows 11 and later\, and non-Windows devices. \n\n                \n                        \n                            Virtual - MD-102T00: Microsoft 365 Endpoint Administrator\n                             \n                        \n                        Attendee Name(Required)\n                            \n                            \n                                                    \n                                                    First\n                                                \n                            \n                            \n                                                    \n                                                    Last\n                                                \n                            \n                        Company Name(Required)Email(Required)\n                            \n                        Phone(Required)Select class registration (select one class):(Required)\n								\n								04/06/2026 - 04/10/2026 | 09:00 AM - 05:00 PM\n							\n								\n								05/11/2026 - 05/15/2026 | 09:00 AM - 05:00 PM\n							\n								\n								07/13/2026 - 07/17/2026 | 09:00 AM - 05:00 PM\n							\n								\n								09/07/2026 - 09/11/2026 | 09:00 AM - 05:00 PM\n							\n								\n								11/02/2026 - 11/06/2026 | 09:00 AM - 05:00 PM\n							Are you a GGP Member?(Required)\n			\n					\n					Yes\n			\n			\n					\n					No\n			\n			\n					\n					Unknown\n			Comments - Please let us know what's on your mind. Have a question for GGP? Ask away!CAPTCHA\n          \n            \n            \n            \n            \n            \n            \n            \n            \n            \n            \n            \n            \n            \n        \n                        \n                        \n\nCourse Details\nBrand: Microsoft\nExam: MD-102: Endpoint Administrator\nCEU Credits: 3.5\nCourse Hours: 35\nNumber of Days: 5\nCourse PDF
URL:https://geaugagrowthpartnership.com/event/md-102t00-microsoft-365-endpoint-administrator-3/
CATEGORIES:All GGP Events,Workforce Development
END:VEVENT
END:VCALENDAR