BEGIN:VCALENDAR
VERSION:2.0
PRODID:-//Geauga Growth Partnership, Inc. - ECPv6.15.20//NONSGML v1.0//EN
CALSCALE:GREGORIAN
METHOD:PUBLISH
X-WR-CALNAME:Geauga Growth Partnership, Inc.
X-ORIGINAL-URL:https://geaugagrowthpartnership.com
X-WR-CALDESC:Events for Geauga Growth Partnership, Inc.
REFRESH-INTERVAL;VALUE=DURATION:PT1H
X-Robots-Tag:noindex
X-PUBLISHED-TTL:PT1H
BEGIN:VTIMEZONE
TZID:America/New_York
BEGIN:DAYLIGHT
TZOFFSETFROM:-0500
TZOFFSETTO:-0400
TZNAME:EDT
DTSTART:20250309T070000
END:DAYLIGHT
BEGIN:STANDARD
TZOFFSETFROM:-0400
TZOFFSETTO:-0500
TZNAME:EST
DTSTART:20251102T060000
END:STANDARD
BEGIN:DAYLIGHT
TZOFFSETFROM:-0500
TZOFFSETTO:-0400
TZNAME:EDT
DTSTART:20260308T070000
END:DAYLIGHT
BEGIN:STANDARD
TZOFFSETFROM:-0400
TZOFFSETTO:-0500
TZNAME:EST
DTSTART:20261101T060000
END:STANDARD
BEGIN:DAYLIGHT
TZOFFSETFROM:-0500
TZOFFSETTO:-0400
TZNAME:EDT
DTSTART:20270314T070000
END:DAYLIGHT
BEGIN:STANDARD
TZOFFSETFROM:-0400
TZOFFSETTO:-0500
TZNAME:EST
DTSTART:20271107T060000
END:STANDARD
END:VTIMEZONE
BEGIN:VEVENT
DTSTART;TZID=America/New_York:20260921T090000
DTEND;TZID=America/New_York:20260925T170000
DTSTAMP:20260425T064001
CREATED:20260319T211302Z
LAST-MODIFIED:20260420T143703Z
UID:9014-1789981200-1790355600@geaugagrowthpartnership.com
SUMMARY:C)PTE: Penetration Testing Engineer
DESCRIPTION:Description\nIn this course you will cover 5 Key Elements of Pen Testing; Information Gathering\, Scanning\, Enumeration\, Exploitation and Reporting. Plus\, discover the latest vulnerabilities and the techniques malicious hackers are using to acquire and destroy data. Additionally\, you will learn more about the business skills needed to identify protection opportunities\, justify testing activities and optimize security controls appropriate to the business needs in order to reduce business risk. \n  \nObjectives\nUpon successful completion of this course\, students will: \n\nHave solid knowledge of testing and reporting procedures which will prepare them for upper management roles within a cybersecurity system\nBe able to competently take the C)PTE exam\n\n  \nPre-Requisites\n\nC)PEH or equivalent knowledge\n12 months of Networking Experience\nSound Knowledge of TCP/IP\nBasic Knowledge of Linux\nMicrosoft Security experience\n\n\n\n                \n                        \n                            Virtual - C)PTE: Penetration Testing Engineer\n                             \n                        \n                        Attendee Name(Required)\n                            \n                            \n                                                    \n                                                    First\n                                                \n                            \n                            \n                                                    \n                                                    Last\n                                                \n                            \n                        Company Name(Required)Email(Required)\n                            \n                        Phone(Required)Select class registration (select one class):(Required)\n								\n								06/01/2026 - 06/03/2026 | 09:00 AM - 05:00 PM\n							\n								\n								09/21/2026 - 09/23/2026 | 09:00 AM - 05:00 PM\n							\n								\n								11/09/2026 - 11/11/2026 | 09:00 AM - 05:00 PM\n							Are you a GGP Member?(Required)\n			\n					\n					Yes\n			\n			\n					\n					No\n			\n			\n					\n					Unknown\n			Comments - Please let us know what's on your mind. Have a question for GGP? Ask away!CAPTCHA\n          \n            \n            \n            \n            \n            \n            \n            \n            \n            \n            \n            \n            \n            \n        \n                        \n                        \n\nCourse Details\nBrand: Mile2\nExam: Mile2 C)PTE\nCEU Credits: 3.5\nCourse Hours: 35\nNumber of Days: 5\nCourse PDF
URL:https://geaugagrowthpartnership.com/event/cpte-penetration-testing-engineer-2/
CATEGORIES:All GGP Events,Workforce Development
END:VEVENT
BEGIN:VEVENT
DTSTART;TZID=America/New_York:20260921T090000
DTEND;TZID=America/New_York:20260925T170000
DTSTAMP:20260425T064001
CREATED:20260319T211329Z
LAST-MODIFIED:20260420T143441Z
UID:9224-1789981200-1790355600@geaugagrowthpartnership.com
SUMMARY:C)PEH: Certified Professional Ethical Hacker
DESCRIPTION:Description\nIn this course\, you will learn the value of vulnerability assessments. Then\, you will discover how to use those assessments to make powerful changes in an information system’s security. Additionally\, you will learn how malware and destructive viruses function and how to implement counter response and preventative measures when it comes to a network hack. \n  \nObjectives\nUpon successful completion of this course students will be able to competently take the C)PEH exam. \n  \nPre-Requisites\n\nC)SP\n12 months of IT Experience\n12 Months of Networking Experience\n\n\n                \n                        \n                            Virtual - C)PEH: Certified Professional Ethical Hacker\n                             \n                        \n                        Attendee Name(Required)\n                            \n                            \n                                                    \n                                                    First\n                                                \n                            \n                            \n                                                    \n                                                    Last\n                                                \n                            \n                        Company Name(Required)Email(Required)\n                            \n                        Phone(Required)Select class registration (select one class):(Required)\n								\n								06/01/2026 - 06/03/2026 | 09:00 AM - 05:00 PM\n							\n								\n								09/21/2026 - 09/23/2026 | 09:00 AM - 05:00 PM\n							\n								\n								11/09/2026 - 11/11/2026 | 09:00 AM - 05:00 PM\n							Are you a GGP Member?(Required)\n			\n					\n					Yes\n			\n			\n					\n					No\n			\n			\n					\n					Unknown\n			Comments - Please let us know what's on your mind. Have a question for GGP? Ask away!CAPTCHA\n          \n            \n            \n            \n            \n            \n            \n            \n            \n            \n            \n            \n            \n            \n        \n                        \n                        \n\nCourse Details\nBrand: Mile2\nExam: Mile2 C)PEH\nCEU Credits: 3.5\nCourse Hours: 35\nNumber of Days: 5\nCourse PDF
URL:https://geaugagrowthpartnership.com/event/cpeh-certified-professional-ethical-hacker-2/
CATEGORIES:All GGP Events,Workforce Development
END:VEVENT
BEGIN:VEVENT
DTSTART;TZID=America/New_York:20260921T090000
DTEND;TZID=America/New_York:20260925T170000
DTSTAMP:20260425T064001
CREATED:20260319T214018Z
LAST-MODIFIED:20260420T140639Z
UID:9207-1789981200-1790355600@geaugagrowthpartnership.com
SUMMARY:CDSP: Certified Data Science Practitioner
DESCRIPTION:Description\nFor a business to thrive in our data-driven world\, it must treat data as one of its most important assets. Data is crucial for understanding where the business is and where it’s headed. Not only can data reveal insights\, it can also inform—by guiding decisions and influencing day-to-day operations. This calls for a robust workforce of professionals who can analyze\, understand\, manipulate\, and present data within an effective and repeatable process framework. In other words\, the business world needs data science practitioners. This course will enable you to bring value to the business by putting data science concepts into practice. This course includes hands on activities for each topic area. \n  \nObjectives\nIn this course\, you will implement data science techniques to address business issues. \nYou will: \nUse data science principles to address business issues.\nApply the extract\, transform\, and load (ETL) process to prepare datasets.\nUse multiple techniques to analyze data and extract valuable insights.\nDesign a machine learning approach to address business issues.\nTrain\, tune\, and evaluate classification models.\nTrain\, tune\, and evaluate regression and forecasting models.\nTrain\, tune\, and evaluate clustering models.\nFinalize a data science project by presenting models to an audience\, putting models into production\, and monitoring model performance.\n\n  \nPre-Requisites\nTo ensure your success in this course\, you should have at least a high-level understanding of fundamental data science concepts\, including\, but not limited to: types of data\, data science roles\, the overall data science lifecycle\, and the benefits and challenges of data science. You can obtain this level of knowledge by taking the DSBIZ (Data Science for Business Professionals) course. \nYou should have also have experience with high-level programming languages like Python. It is recommended that you complete our Introduction to Python course. In addition to programming\, you should also have experience working with databases\, including querying languages like SQL. It is recommended that you complete our SQL Level 1 and Level 2 courses if you do not possess the experience currently. \n\n                \n                        \n                            Virtual - CDSP: Certified Data Science Practitioner\n                             \n                        \n                        Attendee Name(Required)\n                            \n                            \n                                                    \n                                                    First\n                                                \n                            \n                            \n                                                    \n                                                    Last\n                                                \n                            \n                        Company Name(Required)Email(Required)\n                            \n                        Phone(Required)Select class registration (select one class):(Required)\n								\n								05/18/2026 - 05/22/2026 | 09:00 AM - 05:00 PM\n							\n								\n								09/21/2026 - 09/25/2026 | 09:00 AM - 05:00 PM\n							Are you a GGP Member?(Required)\n			\n					\n					Yes\n			\n			\n					\n					No\n			\n			\n					\n					Unknown\n			Comments - Please let us know what's on your mind. Have a question for GGP? Ask away!CAPTCHA\n          \n            \n            \n            \n            \n            \n            \n            \n            \n            \n            \n            \n            \n            \n        \n                        \n                        \n\nCourse Details\nBrand: CertNexus\nExam: CDSP\nCEU Credits: 3.5\nCourse Hours: 35\nNumber of Days: 5\nCourse PDF
URL:https://geaugagrowthpartnership.com/event/cdsp-certified-data-science-practitioner-2/
CATEGORIES:All GGP Events,Workforce Development
END:VEVENT
BEGIN:VEVENT
DTSTART;TZID=America/New_York:20260921T090000
DTEND;TZID=America/New_York:20260925T170000
DTSTAMP:20260425T064001
CREATED:20260319T222111Z
LAST-MODIFIED:20260420T151214Z
UID:9120-1789981200-1790355600@geaugagrowthpartnership.com
SUMMARY:CompTIA: A+ Core 1
DESCRIPTION:Description\nCompTIA A+ Core 1 is the first of two exams required to earn the industry-standard A+ certification\, designed to launch your tech career. This exam focuses on foundational skills in hardware\, networking\, mobile devices\, and troubleshooting. Passing Core 1 and Core 2 prepares you for roles like IT support specialist and help desk technician while building the knowledge needed to pursue advanced certifications like Network+ and Security+. \n  \nObjectives\nUpon successful completion of this course\, students will: \n\nInstall\, configure\, and maintain computer equipment\, mobile devices\, and software for end users.\nService components based on customer requirements.\nUnderstand networking basics and apply basic cybersecurity methods to mitigate threats.\nProperly and safely diagnose\, resolve\, and document common hardware and software issues.\nApply troubleshooting skills and provide customer support using appropriate communication skills.\nUnderstand the basics of scripting\, cloud technologies\, virtualization\, and multi-OS deployments in corporate environments.\n\n  \nPre-Requisites\nNone \n\n                \n                        \n                            Virtual - CompTIA: A+ Core 1\n                             \n                        \n                        Attendee Name(Required)\n                            \n                            \n                                                    \n                                                    First\n                                                \n                            \n                            \n                                                    \n                                                    Last\n                                                \n                            \n                        Company Name(Required)Email(Required)\n                            \n                        Phone(Required)Select class registration (select one class):(Required)\n								\n								08/03/2026 - 08/05/2026 | 09:00 AM - 05:00 PM\n							\n								\n								09/21/2026 - 09/23/2026 | 09:00 AM - 05:00 PM\n							\n								\n								11/30/2026 - 12/02/2026 | 09:00 AM - 05:00 PM\n							Are you a GGP Member?(Required)\n			\n					\n					Yes\n			\n			\n					\n					No\n			\n			\n					\n					Unknown\n			Comments - Please let us know what's on your mind. Have a question for GGP? Ask away!CAPTCHA\n          \n            \n            \n            \n            \n            \n            \n            \n            \n            \n            \n            \n            \n            \n        \n                        \n                        \n\nCourse Details\nBrand: CompTIA\nExam: CompTIA A+ Core 1 (220-1101)\nCEU Credits: 3.5\nCourse Hours: 35\nNumber of Days: 5\nCourse PDF
URL:https://geaugagrowthpartnership.com/event/comptia-a-core-1-2/
CATEGORIES:All GGP Events,Workforce Development
END:VEVENT
BEGIN:VEVENT
DTSTART;TZID=America/New_York:20260922T090000
DTEND;TZID=America/New_York:20261001T170000
DTSTAMP:20260425T064001
CREATED:20260320T130438Z
LAST-MODIFIED:20260420T141319Z
UID:9211-1790067600-1790874000@geaugagrowthpartnership.com
SUMMARY:CompTIA: Tech+
DESCRIPTION:Description\nCompTIA Tech+ is the cornerstone certification for those venturing into tech-related careers. It provides a wide spectrum of foundational tech knowledge and hands-on skills\, helping you become confident and tech-savvy. \n  \nPre-Requisites\nNone. \n\n                \n                        \n                            Virtual - CompTIA: Tech+\n                             \n                        \n                        Attendee Name(Required)\n                            \n                            \n                                                    \n                                                    First\n                                                \n                            \n                            \n                                                    \n                                                    Last\n                                                \n                            \n                        Company Name(Required)Email(Required)\n                            \n                        Phone(Required)Select class registration (select one class):(Required)\n								\n								05/25/2026 - 05/29/2026 | 09:00 AM - 05:00 PM\n							\n								\n								06/08/2026 - 06/12/2026 | 09:00 AM - 05:00 PM\n							\n								\n								07/13/2026 - 07/17/2026 | 09:00 AM - 05:00 PM\n							\n								\n								09/22/2026 - 09/26/2026 | 09:00 AM - 05:00 PM\n							Are you a GGP Member?(Required)\n			\n					\n					Yes\n			\n			\n					\n					No\n			\n			\n					\n					Unknown\n			Comments - Please let us know what's on your mind. Have a question for GGP? Ask away!CAPTCHA\n          \n            \n            \n            \n            \n            \n            \n            \n            \n            \n            \n            \n            \n            \n        \n                        \n                        \n\nCourse Details\nBrand: CompTIA\nExam: CompTIA Tech+\nCEU Credits: 3.5\nCourse Hours: 35\nNumber of Days: 5\nCourse PDF
URL:https://geaugagrowthpartnership.com/event/comptia-tech-2/
CATEGORIES:All GGP Events,Workforce Development
END:VEVENT
END:VCALENDAR