BEGIN:VCALENDAR
VERSION:2.0
PRODID:-//Geauga Growth Partnership, Inc. - ECPv6.15.20//NONSGML v1.0//EN
CALSCALE:GREGORIAN
METHOD:PUBLISH
X-WR-CALNAME:Geauga Growth Partnership, Inc.
X-ORIGINAL-URL:https://geaugagrowthpartnership.com
X-WR-CALDESC:Events for Geauga Growth Partnership, Inc.
REFRESH-INTERVAL;VALUE=DURATION:PT1H
X-Robots-Tag:noindex
X-PUBLISHED-TTL:PT1H
BEGIN:VTIMEZONE
TZID:America/New_York
BEGIN:DAYLIGHT
TZOFFSETFROM:-0500
TZOFFSETTO:-0400
TZNAME:EDT
DTSTART:20250309T070000
END:DAYLIGHT
BEGIN:STANDARD
TZOFFSETFROM:-0400
TZOFFSETTO:-0500
TZNAME:EST
DTSTART:20251102T060000
END:STANDARD
BEGIN:DAYLIGHT
TZOFFSETFROM:-0500
TZOFFSETTO:-0400
TZNAME:EDT
DTSTART:20260308T070000
END:DAYLIGHT
BEGIN:STANDARD
TZOFFSETFROM:-0400
TZOFFSETTO:-0500
TZNAME:EST
DTSTART:20261101T060000
END:STANDARD
BEGIN:DAYLIGHT
TZOFFSETFROM:-0500
TZOFFSETTO:-0400
TZNAME:EDT
DTSTART:20270314T070000
END:DAYLIGHT
BEGIN:STANDARD
TZOFFSETFROM:-0400
TZOFFSETTO:-0500
TZNAME:EST
DTSTART:20271107T060000
END:STANDARD
END:VTIMEZONE
BEGIN:VEVENT
DTSTART;TZID=America/New_York:20260928T090000
DTEND;TZID=America/New_York:20261002T170000
DTSTAMP:20260424T233422
CREATED:20260319T191308Z
LAST-MODIFIED:20260413T164732Z
UID:9202-1790586000-1790960400@geaugagrowthpartnership.com
SUMMARY:C)HT: Certified Hardware Technician
DESCRIPTION:Description\nIn this course you will cover the foundational knowledge needed to install\, configure\, and support computer hardware systems; this includes assembling components based on customer requirements; installing\, configuring and maintaining devices\, PCs\, and servers. \nThe C)HT will also provide an understanding of the fundamentals of networking and security/forensics; properly and safely diagnosing\, resolving\, and documenting common issues; as well as applying troubleshooting skills. A favorite part of this course is the dive into wireless networks\, mobile devices and custom builds for end user deployment. \n  \nObjectives\nUpon successful completion of this course\, students will be able to: \n\nCompetently take the C)HT exam well as the CompTIA A+ 220-1001 exam\n\n  \nPre-Requisites\nNone. \n\n\n                \n                        \n                            Virtual - C)HT: Certified Hardware Technician\n                             \n                        \n                        Attendee Name(Required)\n                            \n                            \n                                                    \n                                                    First\n                                                \n                            \n                            \n                                                    \n                                                    Last\n                                                \n                            \n                        Company Name(Required)Email(Required)\n                            \n                        Phone(Required)Select class registration (select one class):(Required)\n								\n								05/04/2026 - 05/08/2026 | 09:00 AM - 05:00 PM\n							\n								\n								09/28/2026 - 10/02/2026 | 09:00 AM - 05:00 PM\n							Are you a GGP Member?(Required)\n			\n					\n					Yes\n			\n			\n					\n					No\n			\n			\n					\n					Unknown\n			Comments - Please let us know what's on your mind. Have a question for GGP? Ask away!CAPTCHA\n          \n            \n            \n            \n            \n            \n            \n            \n            \n            \n            \n            \n            \n            \n        \n                        \n                        \n\nCourse Details\nBrand: Mile2\nExam: Mile2 C)HT\nCEU Credits: 3.5\nCourse Hours: 35\nNumber of Days: 5\nCourse PDF
URL:https://geaugagrowthpartnership.com/event/cht-certified-hardware-technician-2/
CATEGORIES:All GGP Events,Workforce Development
END:VEVENT
BEGIN:VEVENT
DTSTART;TZID=America/New_York:20260928T090000
DTEND;TZID=America/New_York:20261002T170000
DTSTAMP:20260424T233422
CREATED:20260319T191408Z
LAST-MODIFIED:20260406T153013Z
UID:9169-1790586000-1790960400@geaugagrowthpartnership.com
SUMMARY:C)ISSO: Information Systems Security Officer
DESCRIPTION:Description\nIf you are look for the “gotta have it” cybersecurity course\, then the Certified Information Systems Security Officer is for you. The C)ISSO will prepare you with a broad range of knowledge and skills required of a security officer. However\, these skills can be applied across a broad range of role-based careers. \nA C)ISSO is able to implement and maintain cost-effective security controls that are closely aligned with business and industry standards. The C)ISSO certification course is an ideal way to increase knowledge\, expertise\, and skill for managers\, auditors\, and INFOSEC professionals. The things you learn in this course can be applied to management\, prevention teams\, and recovery professionals. \n  \nObjectives\nUpon successful completion of this course\, students will not only be able to establish industry-acceptable Cyber Security & IS management standards with current best practices but also be prepared to competently take the CISSO exam. \n  \nPre-Requisites\n\nC)SP\nC)ISSM\n12 months of Information Systems Management Experience\n\n\n                \n                        \n                            Virtual - C)ISSO: Information Systems Security Officer\n                             \n                        \n                        Attendee Name(Required)\n                            \n                            \n                                                    \n                                                    First\n                                                \n                            \n                            \n                                                    \n                                                    Last\n                                                \n                            \n                        Company Name(Required)Email(Required)\n                            \n                        Phone(Required)Select class registration (select one class):(Required)\n								\n								04/06/2026 - 04/10/2026 | 09:00 AM - 05:00 PM\n							\n								\n								08/03/2026 - 08/07/2026 | 09:00 AM - 05:00 PM\n							\n								\n								09/28/2026 - 10/02/2026 | 09:00 AM - 05:00 PM\n							\n								\n								12/07/2026 - 12/11/2026 | 09:00 AM - 05:00 PM\n							Are you a GGP Member?(Required)\n			\n					\n					Yes\n			\n			\n					\n					No\n			\n			\n					\n					Unknown\n			Comments - Please let us know what's on your mind. Have a question for GGP? Ask away!CAPTCHA\n          \n            \n            \n            \n            \n            \n            \n            \n            \n            \n            \n            \n            \n            \n        \n                        \n                        \n\nCourse Details\nBrand: Mile2\nExam: Mile2 C)ISSO\nCEU Credits: 3.5\nCourse Hours: 35\nNumber of Days: 5\nCourse PDF
URL:https://geaugagrowthpartnership.com/event/cisso-information-systems-security-officer-3/
CATEGORIES:All GGP Events,Workforce Development
END:VEVENT
BEGIN:VEVENT
DTSTART;TZID=America/New_York:20260928T090000
DTEND;TZID=America/New_York:20261002T170000
DTSTAMP:20260424T233422
CREATED:20260319T220739Z
LAST-MODIFIED:20260406T153208Z
UID:9149-1790586000-1790960400@geaugagrowthpartnership.com
SUMMARY:Certified Artificial Intelligence (AI) Practitioner (CAIP)
DESCRIPTION:Description\nArtificial intelligence (AI) and machine learning (ML) have become an essential part of the toolset for many organizations. When used effectively\, these tools provide actionable insights that drive critical decisions and enable organizations to create exciting\, new\, and innovative products and services. This course shows you how to apply various approaches and algorithms to solve business problems through AI and ML\, follow a methodical workflow to develop sound solutions\, use open source\, off-the-shelf tools to develop\, test\, and deploy those solutions\, and ensure that they protect the privacy of users. \n  \nPre-Requisites\nTo ensure your success in this course\, you should have at least a high-level understanding of fundamental AI concepts\, including\, but not limited to machine learning\, supervised learning\, unsupervised learning\, artificial neural networks\, computer vision\, and natural language processing. You can obtain this level of knowledge by taking the AIBIZ™ (Exam AIZ-110) course. \nYou should also have experience working with databases and a high-level programming language such as Python\, Java\, or C/C++. \n\n                \n                        \n                            Virtual - Certified Artificial Intelligence (AI) Practitioner (CAIP)\n                             \n                        \n                        Attendee Name(Required)\n                            \n                            \n                                                    \n                                                    First\n                                                \n                            \n                            \n                                                    \n                                                    Last\n                                                \n                            \n                        Company Name(Required)Email(Required)\n                            \n                        Phone(Required)Select class registration (select one class):(Required)\n								\n								04/06/2026 - 04/10/2026 | 09:00 AM - 05:00 PM\n							\n								\n								08/03/2026 - 08/07/2026 | 09:00 AM - 05:00 PM\n							\n								\n								09/28/2026 - 10/02/2026 | 09:00 AM - 05:00 PM\n							\n								\n								12/07/2026 - 12/11/2026 | 09:00 AM - 05:00 PM\n							Are you a GGP Member?(Required)\n			\n					\n					Yes\n			\n			\n					\n					No\n			\n			\n					\n					Unknown\n			Comments - Please let us know what's on your mind. Have a question for GGP? Ask away!CAPTCHA\n          \n            \n            \n            \n            \n            \n            \n            \n            \n            \n            \n            \n            \n            \n        \n                        \n                        \n\nCourse Details\nBrand: CertNexus\nExam: CAIP\nCEU Credits: 3.5\nCourse Hours: 35\nNumber of Days: 5\nCourse PDF
URL:https://geaugagrowthpartnership.com/event/certified-artificial-intelligence-ai-practitioner-caip-2/
CATEGORIES:All GGP Events,Workforce Development
END:VEVENT
BEGIN:VEVENT
DTSTART;TZID=America/New_York:20260929T090000
DTEND;TZID=America/New_York:20261002T170000
DTSTAMP:20260424T233422
CREATED:20260319T191256Z
LAST-MODIFIED:20260420T143207Z
UID:9222-1790672400-1790960400@geaugagrowthpartnership.com
SUMMARY:C)HISSP: Healthcare IS Security Professional
DESCRIPTION:Description\nIn this course\, you will cover the skills and knowledge to implement the best IT healthcare practices\, as well as regulatory compliance and standards in the healthcare industry. Because of growing industry regulations and privacy requirements in the healthcare industry\, the C)HISSP was developed by Mile2. Graduates of this course have become vital in managing and protecting healthcare data and are tasked to protect patient information by implementing\, managing\, and assessing proper IT controls for patient health information integrity. \n  \nObjectives\nUpon successful completion of this course students will: \n\nBe versed with best practices in the healthcare industry\nBe able to establish a framework with current best practices in respects to privacy\, regulation and risk management\n\n  \nPre-Requisites\n\n12 Months of Healthcare Information Systems Management\n\n\n                \n                        \n                            Virtual - C)HISSP: Healthcare IS Security Professional\n                             \n                        \n                        Attendee Name(Required)\n                            \n                            \n                                                    \n                                                    First\n                                                \n                            \n                            \n                                                    \n                                                    Last\n                                                \n                            \n                        Company Name(Required)Email(Required)\n                            \n                        Phone(Required)Select class registration (select one class):(Required)\n								\n								06/01/2026 - 06/03/2026 | 09:00 AM - 05:00 PM\n							\n								\n								09/29/2026 - 10/01/2026 | 09:00 AM - 05:00 PM\n							Are you a GGP Member?(Required)\n			\n					\n					Yes\n			\n			\n					\n					No\n			\n			\n					\n					Unknown\n			Comments - Please let us know what's on your mind. Have a question for GGP? Ask away!CAPTCHA\n          \n            \n            \n            \n            \n            \n            \n            \n            \n            \n            \n            \n            \n            \n        \n                        \n                        \n\nCourse Details\nBrand: Mile2\nExam: Mile2 C)HISSP\nCEU Credits: 2.8\nCourse Hours: 28\nNumber of Days: 4\nCourse PDF
URL:https://geaugagrowthpartnership.com/event/chissp-healthcare-is-security-professional-2/
CATEGORIES:All GGP Events,Workforce Development
END:VEVENT
BEGIN:VEVENT
DTSTART;TZID=America/New_York:20261002T080000
DTEND;TZID=America/New_York:20261002T093000
DTSTAMP:20260424T233422
CREATED:20260414T141827Z
LAST-MODIFIED:20260416T155809Z
UID:10236-1790928000-1790933400@geaugagrowthpartnership.com
SUMMARY:Geauga Economic Leadership (G.E.L) Breakfast - October 2026
DESCRIPTION:Join us for the October Geauga Economic Leadership (G.E.L.) breakfast on Friday\, October 2\, 2026\, co-sponsored by Geauga Growth Partnership and Kent State University at Geauga. This monthly breakfast series brings together local business\, nonprofit\, and community leaders to network\, learn\, and collaborate while fostering awareness of the people\, services\, and opportunities shaping our region. \nCo-sponsored by Geauga Growth Partnership and Kent State University at Geauga. These events are an opportunity to bring business and industry leaders together with our community to network\, learn\, and collaborate. Each event is intended to foster a heightened awareness of business\, industry\, and public services present in Geauga County and to facilitate networking among the members of those sectors. Anyone working or living in Geauga County will benefit from learning more about our local employers and services. \nSpend time networking before the program. A Continental Breakfast\, coffee and water are provided.\n8:00 am – Breakfast & Networking\n8:30 am – 9:30 am – Program \nThis FREE event is hosted right inside the main doors of KSU Geauga\, facing Claridon-Troy Road. \n\n                \n                        \n                            Geauga Economic Leadership - October 2026\n                             \n                        \n                        First Name(Required)Last Name(Required)Company(Required)Email(Required)\n                            \n                        Are you or your organization a GGP member?\n								\n								Yes\n							\n								\n								No\n							\n								\n								Unsure\n							Comments - Please let us know what's on your mind. Have a question for GGP? Ask away!\n          \n            \n            \n            \n            \n            \n            \n            \n            \n            \n            \n            \n            \n            \n        \n                        \n                        \n\nGeauga Growth Partnership Board of Directors is dedicated to providing a positive and respectful environment for all event and training participants. GGP employees\, members\, guests of members\, attendees\, speakers\, sponsors\, and volunteers are expected to observe high standards of behavior and personal ethics in their conduct at any GGP event or training. \nAnyone engaging in inappropriate behavior during these events or trainings will be asked by a GGP representative to discontinue the offensive behavior immediately. Should the behavior continue or if the behavior is deemed severe enough\, the individual(s) will be removed from the event or training (without a refund) and may be denied entry to future events or trainings.
URL:https://geaugagrowthpartnership.com/event/geauga-economic-leadership-g-e-l-breakfast-october-2026/
LOCATION:KSU Geauga\, 14111 Claridon-Troy Road\, Burton\, OH\, 44021\, United States
CATEGORIES:All GGP Events,GEL,Networking
END:VEVENT
END:VCALENDAR