BEGIN:VCALENDAR
VERSION:2.0
PRODID:-//Geauga Growth Partnership, Inc. - ECPv6.15.20//NONSGML v1.0//EN
CALSCALE:GREGORIAN
METHOD:PUBLISH
X-ORIGINAL-URL:https://geaugagrowthpartnership.com
X-WR-CALDESC:Events for Geauga Growth Partnership, Inc.
REFRESH-INTERVAL;VALUE=DURATION:PT1H
X-Robots-Tag:noindex
X-PUBLISHED-TTL:PT1H
BEGIN:VTIMEZONE
TZID:America/New_York
BEGIN:DAYLIGHT
TZOFFSETFROM:-0500
TZOFFSETTO:-0400
TZNAME:EDT
DTSTART:20250309T070000
END:DAYLIGHT
BEGIN:STANDARD
TZOFFSETFROM:-0400
TZOFFSETTO:-0500
TZNAME:EST
DTSTART:20251102T060000
END:STANDARD
BEGIN:DAYLIGHT
TZOFFSETFROM:-0500
TZOFFSETTO:-0400
TZNAME:EDT
DTSTART:20260308T070000
END:DAYLIGHT
BEGIN:STANDARD
TZOFFSETFROM:-0400
TZOFFSETTO:-0500
TZNAME:EST
DTSTART:20261101T060000
END:STANDARD
BEGIN:DAYLIGHT
TZOFFSETFROM:-0500
TZOFFSETTO:-0400
TZNAME:EDT
DTSTART:20270314T070000
END:DAYLIGHT
BEGIN:STANDARD
TZOFFSETFROM:-0400
TZOFFSETTO:-0500
TZNAME:EST
DTSTART:20271107T060000
END:STANDARD
END:VTIMEZONE
BEGIN:VEVENT
DTSTART;TZID=America/New_York:20261005T090000
DTEND;TZID=America/New_York:20261008T170000
DTSTAMP:20260425T075312
CREATED:20260319T190121Z
LAST-MODIFIED:20260320T144718Z
UID:9184-1791190800-1791478800@geaugagrowthpartnership.com
SUMMARY:C)CSSM: Certified Cybersecurity Systems Manager
DESCRIPTION:Description\nCompanies will lean on a Certified Cybersecurity Systems Manager\, C)CSSM to create solutions for tomorrow’s problems\, today. When it comes to identifying critical issues and providing effective IS management solutions. The knowledge and course content provided in the Certified Cybersecurity Systems Manager – C)CSSM will cover a measurable certification that demonstrates proficiency in the IS Management Field. The Certified Cybersecurity Systems Manager covers the skills and knowledge to assess threat analysis and risks\, Risk & incident management\, and Security programs\, IS security strategy and frameworks\, Audit and Risk management creation of policies\, compliance\, and awareness. \n \nObjectives\nUpon successful completion of this course\, students will: \n\nHave a strong foundation in Cyber Security & IS management standards with current best practices\nBe prepared to competently take the C)CSSM exam\n\n \nPre-Requisites\n\nC)SP\n1 year experience in information systems\n\n \nCourse Details\nBrand: Mile2\nExam: Mile2 C)CSSM\nCEU Credits: 2.8\nCourse Hours: 28\nNumber of Days: 4\nCourse PDF
URL:https://geaugagrowthpartnership.com/event/ccssm-certified-cybersecurity-systems-manager/
CATEGORIES:All GGP Events,Workforce Development
END:VEVENT
BEGIN:VEVENT
DTSTART;TZID=America/New_York:20261005T090000
DTEND;TZID=America/New_York:20261009T170000
DTSTAMP:20260425T075312
CREATED:20260319T191441Z
LAST-MODIFIED:20260420T145413Z
UID:9047-1791190800-1791565200@geaugagrowthpartnership.com
SUMMARY:C)NP: Certified Network Principles
DESCRIPTION:Description\nIn this course you will cover concepts and skills needed to plan\, install\, maintain\, and troubleshoot today’s networks including wireless and server-based networks! Want to learn about new technologies like virtual networks and SD Networks found in many cloud architectures? We’ve got you covered\, and then we move to physical components\, TCP/IP Stack\, OSI Model\, switches\, routers\, wireless\, and Bluetooth. Lastly\, we finish up the C)NP with the knowledge you need to perform the day to day operations of an organization\, so you will be able to secure and maintain an entire network! \n  \nObjectives\nUpon successful completion of this course students will: \n\nBe able to competently take the C)NP exams well as the Comp TIA Network+ exam\nHave the knowledge to keep a companies’ IP network infrastructure secure\n\n  \nPre-Requisites\nC)HT / C)OST or equivalent knowledge \n\n\n                \n                        \n                            Virtual - C)NP: Certified Network Principles\n                             \n                        \n                        Attendee Name(Required)\n                            \n                            \n                                                    \n                                                    First\n                                                \n                            \n                            \n                                                    \n                                                    Last\n                                                \n                            \n                        Company Name(Required)Email(Required)\n                            \n                        Phone(Required)Select class registration (select one class):(Required)\n								\n								06/22/2026 - 06/24/2026 | 09:00 AM - 05:00 PM\n							\n								\n								10/05/2026 - 10/07/2026 | 09:00 AM - 05:00 PM\n							Are you a GGP Member?(Required)\n			\n					\n					Yes\n			\n			\n					\n					No\n			\n			\n					\n					Unknown\n			Comments - Please let us know what's on your mind. Have a question for GGP? Ask away!CAPTCHA\n          \n            \n            \n            \n            \n            \n            \n            \n            \n            \n            \n            \n            \n            \n        \n                        \n                        \n\nCourse Details\nBrand: Mile2\nExam: Mile2 C)NP\nCEU Credits: 3.5\nCourse Hours: 35\nNumber of Days: 5\nCourse PDF
URL:https://geaugagrowthpartnership.com/event/cnp-certified-network-principles-3/
CATEGORIES:All GGP Events,Workforce Development
END:VEVENT
BEGIN:VEVENT
DTSTART;TZID=America/New_York:20261005T090000
DTEND;TZID=America/New_York:20261009T170000
DTSTAMP:20260425T075312
CREATED:20260319T222658Z
LAST-MODIFIED:20260413T155311Z
UID:9125-1791190800-1791565200@geaugagrowthpartnership.com
SUMMARY:CompTIA: A+ Core 2
DESCRIPTION:Description\nCompTIA A+ Core 2 is the second of two exams required to earn the industry-standard A+ certification\, a trusted credential for starting your tech career. This exam emphasizes essential skills in operating systems\, security\, software troubleshooting\, and operational procedures. Successfully passing Core 2 and Core 1 equips you for roles like IT support specialist and help desk technician while laying the foundation for advanced certifications like Network+ and Security+. \n  \nObjectives\nUpon successful completion of this course\, students will: \n\nInstall\, configure\, and manage operating systems\, including Windows\, macOS\, and Linux.\nApply security measures to protect systems and mitigate threats.\nTroubleshoot software and operating system issues.\nFollow operational procedures for safety\, documentation\, and change management.\nImplement backup and recovery methods to ensure data integrity.\n\n  \nPre-Requisites\nNone \n\n                \n                        \n                            Virtual - CompTIA: A+ Core 2\n                             \n                        \n                        Attendee Name(Required)\n                            \n                            \n                                                    \n                                                    First\n                                                \n                            \n                            \n                                                    \n                                                    Last\n                                                \n                            \n                        Company Name(Required)Email(Required)\n                            \n                        Phone(Required)Select class registration (select one class):(Required)\n								\n								04/20/2026 - 04/24/2026 | 10:00 AM - 06:00 PM\n							\n								\n								08/10/2026 - 08/14/2026 | 09:00 AM - 05:00 PM\n							\n								\n								10/05/2026 - 10/09/2026 | 09:00 AM - 05:00 PM\n							\n								\n								12/14/2026 - 12/18/2026 | 09:00 AM - 05:00 PM\n							Are you a GGP Member?(Required)\n			\n					\n					Yes\n			\n			\n					\n					No\n			\n			\n					\n					Unknown\n			Comments - Please let us know what's on your mind. Have a question for GGP? Ask away!CAPTCHA\n          \n            \n            \n            \n            \n            \n            \n            \n            \n            \n            \n            \n            \n            \n        \n                        \n                        \n\nCourse Details\nBrand: CompTIA\nExam: CompTIA A+ Core 2 (220-1102)\nCEU Credits: 3.5\nCourse Hours: 35\nNumber of Days: 5\nCourse PDF
URL:https://geaugagrowthpartnership.com/event/comptia-a-core-2-3/
CATEGORIES:All GGP Events,Workforce Development
END:VEVENT
BEGIN:VEVENT
DTSTART;TZID=America/New_York:20261005T090000
DTEND;TZID=America/New_York:20261009T170000
DTSTAMP:20260425T075312
CREATED:20260320T120812Z
LAST-MODIFIED:20260320T151811Z
UID:9232-1791190800-1791565200@geaugagrowthpartnership.com
SUMMARY:CompTIA: Cloud+
DESCRIPTION:Description\nCompTIA Cloud+ validates the skills needed to implement cloud solutions\, maintain and optimize cloud environments\, and troubleshoot issues encountered when working in the cloud. The major areas of emphasis include: \n\nCloud architecture and design\nSecurity within the cloud\nAutomation and virtualization\nDisaster recovery\nHigh availability\n\nThe Cloud+ exam covers five major domains: \n\nCloud Architecture & Design (13%)\nSecurity (20%)\nDeployment (23%)\nOperations & Support (22%)\nTrouble Shooting (22%)\n\n \nCourse Details\nBrand: CompTIA\nExam: CompTIA Cloud+\nCEU Credits: 3.5\nCourse Hours: 35\nNumber of Days: 5\nCourse PDF
URL:https://geaugagrowthpartnership.com/event/comptia-cloud-2/
CATEGORIES:All GGP Events,Workforce Development
END:VEVENT
BEGIN:VEVENT
DTSTART;TZID=America/New_York:20261005T090000
DTEND;TZID=America/New_York:20261009T170000
DTSTAMP:20260425T075312
CREATED:20260320T131451Z
LAST-MODIFIED:20260406T160349Z
UID:8997-1791190800-1791565200@geaugagrowthpartnership.com
SUMMARY:CyberSec First Responder (CFR)
DESCRIPTION:Description\nThis course covers network defense and incident response methods\, tactics\, and procedures that are in alignment with industry frameworks such as NIST 800-61r2 (Computer Security Incident Handling Guide)\, US-CERT’s National Cyber Incident Response Plan (NCIRP)\, and Presidential Policy Directive (PPD)-41 on Cyber Incident Coordination. It is ideal for candidates who have been tasked with the responsibility of monitoring and detecting security incidents in information systems and networks\, and for executing standardized responses to such incidents. The course introduces tools\, tactics\, and procedures to manage cybersecurity risks\, identify various types of common threats\, evaluate the organization’s security\, collect and analyze cybersecurity intelligence\, and remediate and report incidents as they occur. This course provides a comprehensive methodology for individuals responsible for defending the cybersecurity of their organization. \n  \nPre-Requisites\nTo ensure your success in this course\, you should meet the following requirements: \n\nAt least two years (recommended) of experience or education in computer network security technology or a related field.\nThe ability or curiosity to recognize information security vulnerabilities and threats in the context of risk management.\nFoundational knowledge of the concepts and operational framework of common assurance safeguards in network environments. Safeguards include\, but are not limited to\, firewalls\, intrusion prevention systems\, and VPNs.\nGeneral knowledge of the concepts and operational framework of common assurance safeguards in computing environments. Safeguards include\, but are not limited to\, basic authentication and authorization\, resource permissions\, and anti-malware mechanisms.\nFoundation-level skills with some of the common operating systems for computing environments.\nEntry-level understanding of some of the common concepts for network environments\, such as routing and switching.\nGeneral or practical knowledge of major TCP/IP networking protocols\, including\, but not limited to\, TCP\, IP\, UDP\, DNS\, HTTP\, ARP\, ICMP\, and DHCP.\n\n\n                \n                        \n                            Virtual - CyberSec First Responder (CFR)\n                             \n                        \n                        Attendee Name(Required)\n                            \n                            \n                                                    \n                                                    First\n                                                \n                            \n                            \n                                                    \n                                                    Last\n                                                \n                            \n                        Company Name(Required)Email(Required)\n                            \n                        Phone(Required)Select class registration (select one class):(Required)\n								\n								04/06/2026 - 04/10/2026 | 09:00 AM - 05:00 PM\n							\n								\n								05/11/2026 - 05/15/2026 | 09:00 AM - 05:00 PM\n							\n								\n								06/15/2026 - 06/19/2026 | 09:00 AM - 05:00 PM\n							\n								\n								07/10/2026 - 07/14/2026 | 09:00 AM - 05:00 PM\n							\n								\n								08/24/2026 - 08/28/2026 | 09:00 AM - 05:00 PM\n							\n								\n								09/07/2026 - 09/11/2026 | 09:00 AM - 05:00 PM\n							\n								\n								10/05/2026 - 10/09/2026 | 09:00 AM - 05:00 PM\n							\n								\n								11/30/2026 - 12/04/2026 | 09:00 AM - 05:00 PM\n							\n								\n								01/04/2027 - 01/08/2027 | 09:00 AM - 05:00 PM\n							Are you a GGP Member?(Required)\n			\n					\n					Yes\n			\n			\n					\n					No\n			\n			\n					\n					Unknown\n			Comments - Please let us know what's on your mind. Have a question for GGP? Ask away!CAPTCHA\n          \n            \n            \n            \n            \n            \n            \n            \n            \n            \n            \n            \n            \n            \n        \n                        \n                        \n\nCourse Details\nBrand: CertNexus\nExam: CFR\nCEU Credits: 3.5\nCourse Hours: 35\nNumber of Days: 5\nCourse PDF
URL:https://geaugagrowthpartnership.com/event/cybersec-first-responder-cfr-7/
CATEGORIES:All GGP Events,Workforce Development
END:VEVENT
END:VCALENDAR