BEGIN:VCALENDAR
VERSION:2.0
PRODID:-//Geauga Growth Partnership, Inc. - ECPv6.15.20//NONSGML v1.0//EN
CALSCALE:GREGORIAN
METHOD:PUBLISH
X-WR-CALNAME:Geauga Growth Partnership, Inc.
X-ORIGINAL-URL:https://geaugagrowthpartnership.com
X-WR-CALDESC:Events for Geauga Growth Partnership, Inc.
REFRESH-INTERVAL;VALUE=DURATION:PT1H
X-Robots-Tag:noindex
X-PUBLISHED-TTL:PT1H
BEGIN:VTIMEZONE
TZID:America/New_York
BEGIN:DAYLIGHT
TZOFFSETFROM:-0500
TZOFFSETTO:-0400
TZNAME:EDT
DTSTART:20250309T070000
END:DAYLIGHT
BEGIN:STANDARD
TZOFFSETFROM:-0400
TZOFFSETTO:-0500
TZNAME:EST
DTSTART:20251102T060000
END:STANDARD
BEGIN:DAYLIGHT
TZOFFSETFROM:-0500
TZOFFSETTO:-0400
TZNAME:EDT
DTSTART:20260308T070000
END:DAYLIGHT
BEGIN:STANDARD
TZOFFSETFROM:-0400
TZOFFSETTO:-0500
TZNAME:EST
DTSTART:20261101T060000
END:STANDARD
BEGIN:DAYLIGHT
TZOFFSETFROM:-0500
TZOFFSETTO:-0400
TZNAME:EDT
DTSTART:20270314T070000
END:DAYLIGHT
BEGIN:STANDARD
TZOFFSETFROM:-0400
TZOFFSETTO:-0500
TZNAME:EST
DTSTART:20271107T060000
END:STANDARD
END:VTIMEZONE
BEGIN:VEVENT
DTSTART;TZID=America/New_York:20261020T090000
DTEND;TZID=America/New_York:20261023T170000
DTSTAMP:20260425T111219
CREATED:20260319T191245Z
LAST-MODIFIED:20260413T153751Z
UID:9192-1792486800-1792774800@geaugagrowthpartnership.com
SUMMARY:C)DRE: Disaster Recovery Engineer
DESCRIPTION:Description\nIn this course you will cover disaster recovery and business continuity planning – the process of having a professional work with a business to prepare processes\, policies\, and procedures to follow in the event of a disruption. The C)DRE prepares students to plan and present the latest methodologies and best practices for real-world system recovery. \n  \nObjectives\n\nIS Security Officers\nIS Managers\nRisk Managers\nDR and BCP Engineers\nInfo Systems Owners\nIS Control Assessors\nSystem Managers\nGovernment workers\n\n  \nPre-Requisites\n\n12 months in Information Systems\n12 months in IS Management\n\n\n\n                \n                        \n                            Virtual - C)DRE: Disaster Recovery Engineer\n                             \n                        \n                        Attendee Name(Required)\n                            \n                            \n                                                    \n                                                    First\n                                                \n                            \n                            \n                                                    \n                                                    Last\n                                                \n                            \n                        Company Name(Required)Email(Required)\n                            \n                        Phone(Required)Select class registration (select one class):(Required)\n								\n								04/14/2026 - 04/17/2026 | 09:00 AM - 05:00 PM\n							\n								\n								07/14/2026 - 07/17/2026 | 09:00 AM - 05:00 PM\n							\n								\n								10/20/2026 - 10/23/2026 | 09:00 AM - 05:00 PM\n							Are you a GGP Member?(Required)\n			\n					\n					Yes\n			\n			\n					\n					No\n			\n			\n					\n					Unknown\n			Comments - Please let us know what's on your mind. Have a question for GGP? Ask away!CAPTCHA\n          \n            \n            \n            \n            \n            \n            \n            \n            \n            \n            \n            \n            \n            \n        \n                        \n                        \n\nCourse Details\nBrand: Mile2\nExam: Mile2 C)DRE\nCEU Credits: 2.8\nCourse Hours: 28\nNumber of Days: 4\nCourse PDF
URL:https://geaugagrowthpartnership.com/event/cdre-disaster-recovery-engineer-3/
CATEGORIES:All GGP Events,Workforce Development
END:VEVENT
END:VCALENDAR