BEGIN:VCALENDAR
VERSION:2.0
PRODID:-//Geauga Growth Partnership, Inc. - ECPv6.15.20//NONSGML v1.0//EN
CALSCALE:GREGORIAN
METHOD:PUBLISH
X-WR-CALNAME:Geauga Growth Partnership, Inc.
X-ORIGINAL-URL:https://geaugagrowthpartnership.com
X-WR-CALDESC:Events for Geauga Growth Partnership, Inc.
REFRESH-INTERVAL;VALUE=DURATION:PT1H
X-Robots-Tag:noindex
X-PUBLISHED-TTL:PT1H
BEGIN:VTIMEZONE
TZID:America/New_York
BEGIN:DAYLIGHT
TZOFFSETFROM:-0500
TZOFFSETTO:-0400
TZNAME:EDT
DTSTART:20250309T070000
END:DAYLIGHT
BEGIN:STANDARD
TZOFFSETFROM:-0400
TZOFFSETTO:-0500
TZNAME:EST
DTSTART:20251102T060000
END:STANDARD
BEGIN:DAYLIGHT
TZOFFSETFROM:-0500
TZOFFSETTO:-0400
TZNAME:EDT
DTSTART:20260308T070000
END:DAYLIGHT
BEGIN:STANDARD
TZOFFSETFROM:-0400
TZOFFSETTO:-0500
TZNAME:EST
DTSTART:20261101T060000
END:STANDARD
BEGIN:DAYLIGHT
TZOFFSETFROM:-0500
TZOFFSETTO:-0400
TZNAME:EDT
DTSTART:20270314T070000
END:DAYLIGHT
BEGIN:STANDARD
TZOFFSETFROM:-0400
TZOFFSETTO:-0500
TZNAME:EST
DTSTART:20271107T060000
END:STANDARD
END:VTIMEZONE
BEGIN:VEVENT
DTSTART;TZID=America/New_York:20261026T090000
DTEND;TZID=America/New_York:20261030T170000
DTSTAMP:20260425T074945
CREATED:20260320T122312Z
LAST-MODIFIED:20260406T154046Z
UID:9153-1793005200-1793379600@geaugagrowthpartnership.com
SUMMARY:CompTIA: Cybersecurity Analyst (CySA+)
DESCRIPTION:Description\nThis course covers the duties of cybersecurity analysts who are responsible for monitoring and detecting security incidents in information systems and networks\, and for executing a proper response to such incidents. Depending on the size of the organization\, this individual may act alone or may be a member of a cybersecurity incident response team (CSIRT). The course introduces tools and tactics to manage cybersecurity risks\, identify various types of common threats\, evaluate the organization’s security\, collect and analyze cybersecurity intelligence\, and handle incidents as they occur. Ultimately\, the course promotes a comprehensive approach to security aimed toward those on the front lines of defense. \nThis course is designed to assist students in preparing for the CompTIA® Cybersecurity Analyst (CySA+®) (Exam CS0-001) certification examination. What you learn and practice in this course can be a significant part of your preparation. \nIn addition\, this course can help students who are looking to fulfill DoD directive 8570.01 for information assurance (IA) training. This program is designed for personnel performing IA functions\, establishing IA policies\, and implementing security measures and procedures for the Department of Defense and affiliated information systems and networks. \n  \nPre-Requisites\nTo ensure your success in this course\, you should meet the following requirements: \n\nAt least two years (recommended) of experience in computer network security technology or a related field.\nThe ability to recognize information security vulnerabilities and threats in the context of risk management.\nFoundation-level operational skills with some of the common operating systems for computing environments.\nFoundational knowledge of the concepts and operational framework of common assurance safeguards in computing environments. Safeguards include\, but are not limited to\, basic authentication and authorization\, resource permissions\, and anti-malware mechanisms.\nFoundation-level understanding of some of the common concepts for network environments\, such as routing and switching.\nFoundational knowledge of major TCP/IP networking protocols\, including\, but not limited to\, TCP\, IP\, UDP\, DNS\, HTTP\, ARP\, ICMP\, and DHCP.\nFoundational knowledge of the concepts and operational framework of common assurance safeguards in network environments. Safeguards include\, but are not limited to\, firewalls\, intrusion prevention systems\, and VPNs.\n\nYou can obtain this level of skills and knowledge by passing the relevant exams: \n\nCompTIA® A+®: A Comprehensive Approach (Exams 220-901 and 220-902)\nCompTIA® Network+® (Exam N10-006)\nCompTIA® Security+® (Exam SY0-401)\n\n\n\n                \n                        \n                            Virtual - CompTIA: Cybersecurity Analyst (CySA+)\n                             \n                        \n                        Attendee Name(Required)\n                            \n                            \n                                                    \n                                                    First\n                                                \n                            \n                            \n                                                    \n                                                    Last\n                                                \n                            \n                        Company Name(Required)Email(Required)\n                            \n                        Phone(Required)Select class registration (select one class):(Required)\n								\n								07/13/2026 - 07/15/2026 | 09:00 AM - 05:00 PM\n							\n								\n								11/16/2026 - 11/18/2026 | 09:00 AM - 05:00 PM\n							Are you a GGP Member?(Required)\n			\n					\n					Yes\n			\n			\n					\n					No\n			\n			\n					\n					Unknown\n			Comments - Please let us know what's on your mind. Have a question for GGP? Ask away!CAPTCHA\n          \n            \n            \n            \n            \n            \n            \n            \n            \n            \n            \n            \n            \n            \n        \n                        \n                        \n\nCourse Details\nBrand: CompTIA\nExam: CompTIA Cybersecurity Analyst (CySA+)\nCEU Credits: 3.5\nCourse Hours: 35\nNumber of Days: 5\nCourse PDF
URL:https://geaugagrowthpartnership.com/event/comptia-cybersecurity-analyst-cysa-3/
CATEGORIES:All GGP Events,Workforce Development
END:VEVENT
BEGIN:VEVENT
DTSTART;TZID=America/New_York:20261026T090000
DTEND;TZID=America/New_York:20261030T170000
DTSTAMP:20260425T074946
CREATED:20260320T124931Z
LAST-MODIFIED:20260413T165021Z
UID:9110-1793005200-1793379600@geaugagrowthpartnership.com
SUMMARY:CompTIA: Project+
DESCRIPTION:Description\nProject+ Certification prepares students for the current CompTIA Project+ Certification exam. It covers the full range of skills ad concepts students need to know to plan and implement projects. The project initiation and planning process is covered in-depth\, culminating in the creation of a project schedule. Learning how to manage business concerns such as cost and risk is balanced by thorough coverage of best practices in managing people and resources. Students will also learn how to manage change and the steps necessary in closing a project. \n  \nPre-Requisites\nProject Management Essentials \n05/04/2026 – 05/08/2026 | 09:00 AM – 05:00 PM \nCourse Details\nBrand: CompTIA\nExam: CompTIA Project+\nCEU Credits: 3.5\nCourse Hours: 35\nNumber of Days: 5\nCourse PDF
URL:https://geaugagrowthpartnership.com/event/comptia-project-4/
CATEGORIES:All GGP Events,Workforce Development
END:VEVENT
END:VCALENDAR