BEGIN:VCALENDAR
VERSION:2.0
PRODID:-//Geauga Growth Partnership, Inc. - ECPv6.15.20//NONSGML v1.0//EN
CALSCALE:GREGORIAN
METHOD:PUBLISH
X-ORIGINAL-URL:https://geaugagrowthpartnership.com
X-WR-CALDESC:Events for Geauga Growth Partnership, Inc.
REFRESH-INTERVAL;VALUE=DURATION:PT1H
X-Robots-Tag:noindex
X-PUBLISHED-TTL:PT1H
BEGIN:VTIMEZONE
TZID:America/New_York
BEGIN:DAYLIGHT
TZOFFSETFROM:-0500
TZOFFSETTO:-0400
TZNAME:EDT
DTSTART:20250309T070000
END:DAYLIGHT
BEGIN:STANDARD
TZOFFSETFROM:-0400
TZOFFSETTO:-0500
TZNAME:EST
DTSTART:20251102T060000
END:STANDARD
BEGIN:DAYLIGHT
TZOFFSETFROM:-0500
TZOFFSETTO:-0400
TZNAME:EDT
DTSTART:20260308T070000
END:DAYLIGHT
BEGIN:STANDARD
TZOFFSETFROM:-0400
TZOFFSETTO:-0500
TZNAME:EST
DTSTART:20261101T060000
END:STANDARD
BEGIN:DAYLIGHT
TZOFFSETFROM:-0500
TZOFFSETTO:-0400
TZNAME:EDT
DTSTART:20270314T070000
END:DAYLIGHT
BEGIN:STANDARD
TZOFFSETFROM:-0400
TZOFFSETTO:-0500
TZNAME:EST
DTSTART:20271107T060000
END:STANDARD
END:VTIMEZONE
BEGIN:VEVENT
DTSTART;TZID=America/New_York:20261102T090000
DTEND;TZID=America/New_York:20261105T170000
DTSTAMP:20260425T075751
CREATED:20260319T211319Z
LAST-MODIFIED:20260406T150117Z
UID:9145-1793610000-1793898000@geaugagrowthpartnership.com
SUMMARY:C)PSH: Certified PowerShell Hacker
DESCRIPTION:Description\nIn this course you will cover the keys to being a Powershell hacker. Most companies have an Active Directory infrastructure that manages authentication and authorization to most devices and objects within the organization. Many use PowerShell to speed up and simplify management. \nDid you know that a large percentage of hacks over the last year included PowerShell based attacks? Well\, they did. A Powershell Hacker can be a security risk\, or an asset to prevent breaches. Which is why we spend 4 days learning how to hack like the pros using nothing but what is already available to us in Windows or now in open-source code on Mac and Linux! The course is based on real world implementations of a windows infrastructure along with real world penetration testing techniques. You will leave with a real strong skill set to help test your windows environment like never before. An attendee will also walk away with a strong skill set on how to help prevent these attacks from happening in the first place! \n\n\n                \n                        \n                            Virtual - C)PSH: Certified PowerShell Hacker\n                             \n                        \n                        Attendee Name(Required)\n                            \n                            \n                                                    \n                                                    First\n                                                \n                            \n                            \n                                                    \n                                                    Last\n                                                \n                            \n                        Company Name(Required)Email(Required)\n                            \n                        Phone(Required)Select class registration (select one class):(Required)\n								\n								03/31/2026 - 04/03/2026 | 09:00 AM - 05:00 PM\n							\n								\n								11/02/2026 - 11/05/2026 | 09:00 AM - 05:00 PM\n							Are you a GGP Member?(Required)\n			\n					\n					Yes\n			\n			\n					\n					No\n			\n			\n					\n					Unknown\n			Comments - Please let us know what's on your mind. Have a question for GGP? Ask away!CAPTCHA\n          \n            \n            \n            \n            \n            \n            \n            \n            \n            \n            \n            \n            \n            \n        \n                        \n                        \n\nObjectives\nUpon successful completion of this course students will be able to: \n\nCompetently take the C)PSH exam\nProtect a powershell system from attack\n\n  \nPre-Requisites\n\nC)PEH and C)PTE or equivalent knowledge\nUnderstanding of pen testing\nGeneral understanding of active directory\nGeneral understanding of scripting and programming\n\n  \nCourse Details\nBrand: Mile2\nExam: Mile2 C)PSH\nCEU Credits: 2.8\nCourse Hours: 28\nNumber of Days: 4\nCourse PDF
URL:https://geaugagrowthpartnership.com/event/cpsh-certified-powershell-hacker/
CATEGORIES:All GGP Events,Workforce Development
END:VEVENT
BEGIN:VEVENT
DTSTART;TZID=America/New_York:20261102T090000
DTEND;TZID=America/New_York:20261106T170000
DTSTAMP:20260425T075751
CREATED:20260319T191231Z
LAST-MODIFIED:20260413T164441Z
UID:9044-1793610000-1793984400@geaugagrowthpartnership.com
SUMMARY:C)DFE: Certified Digital Forensics Examiner
DESCRIPTION:Description\nIn this course you will cover electronic discovery and advanced investigation techniques. This course is essential to anyone encountering digital evidence while conducting an investigation. Students will be taught the methodology for conducting a computer forensic examination. Students will learn to use forensically sound investigative techniques in order to evaluate the scene\, collect and document all relevant information\, interview appropriate personnel\, maintain chain-of-custody\, and write a findings report. \n  \nObjectives\nUpon successful completion of this course\, students will: \n\nBe able to establish industry-acceptable digital forensics standards with current best practices and policies\nBe prepared to competently take the C)DFE exam\n\n  \nPre-Requisites\n\n1 Year experience in computers\nC)SP course\n\n\n                \n                        \n                            Virtual - C)DFE: Certified Digital Forensics Examiner\n                             \n                        \n                        Attendee Name(Required)\n                            \n                            \n                                                    \n                                                    First\n                                                \n                            \n                            \n                                                    \n                                                    Last\n                                                \n                            \n                        Company Name(Required)Email(Required)\n                            \n                        Phone(Required)Select class registration (select one class):(Required)\n								\n								05/04/2026 - 05/08/2026 | 09:00 AM - 05:00 PM\n							\n								\n								07/13/2026 - 07/17/2026 | 09:00 AM - 05:00 PM\n							\n								\n								08/31/2026 - 09/04/2026 | 09:00 AM - 05:00 PM\n							\n								\n								11/02/2026 - 11/06/2026 | 09:00 AM - 05:00 PM\n							Are you a GGP Member?(Required)\n			\n					\n					Yes\n			\n			\n					\n					No\n			\n			\n					\n					Unknown\n			Comments - Please let us know what's on your mind. Have a question for GGP? Ask away!CAPTCHA\n          \n            \n            \n            \n            \n            \n            \n            \n            \n            \n            \n            \n            \n            \n        \n                        \n                        \n\nCourse Details\nBrand: Mile2\nExam: Mile2 C)DFE\nCEU Credits: 3.5\nCourse Hours: 35\nNumber of Days: 5\nCourse PDF
URL:https://geaugagrowthpartnership.com/event/cdfe-certified-digital-forensics-examiner-5/
CATEGORIES:All GGP Events,Workforce Development
END:VEVENT
BEGIN:VEVENT
DTSTART;TZID=America/New_York:20261102T090000
DTEND;TZID=America/New_York:20261106T170000
DTSTAMP:20260425T075751
CREATED:20260319T211225Z
LAST-MODIFIED:20260413T163510Z
UID:9200-1793610000-1793984400@geaugagrowthpartnership.com
SUMMARY:C)TIA: Certified Threat Intelligence Analyst
DESCRIPTION:Description\nIn this course you will cover current significant threats\, threat actors\, and identification procedures so that cyber-security professionals can implement the best policies and procures for their organizational security posture. This course will help security professionals learn how to make good use of the many sources of threat intelligence. It will aid an individual to understand what threat sources are helpful\, which specific threats are targeted and which ones may need minor adjustments to monitor within your organization. \n  \nObjectives\nUpon successful completion of this course\, students will: \n\nHave knowledge to perform thorough threat analysis on any information system\nBe able to accurately report on their findings\nBe ready to sit for the C)TIA exam\n\n  \nPre-Requisites\n\n12 months vulnerability testing\nC)VA and C)PEH\n\n\n                \n                        \n                            Virtual - C)TIA: Certified Threat Intelligence Analyst\n                             \n                        \n                        Attendee Name(Required)\n                            \n                            \n                                                    \n                                                    First\n                                                \n                            \n                            \n                                                    \n                                                    Last\n                                                \n                            \n                        Company Name(Required)Email(Required)\n                            \n                        Phone(Required)Select class registration (select one class):(Required)\n								\n								04/27/2026 - 05/01/2026 | 09:00 AM - 05:00 PM\n							\n								\n								11/02/2026 - 11/06/2026 | 09:00 AM - 05:00 PM\n							Are you a GGP Member?(Required)\n			\n					\n					Yes\n			\n			\n					\n					No\n			\n			\n					\n					Unknown\n			Comments - Please let us know what's on your mind. Have a question for GGP? Ask away!CAPTCHA\n          \n            \n            \n            \n            \n            \n            \n            \n            \n            \n            \n            \n            \n            \n        \n                        \n                        \n\nCourse Details\nBrand: Mile2\nExam: Mile2 C)TIA\nCEU Credits: 3.5\nCourse Hours: 35\nNumber of Days: 5\nCourse PDF
URL:https://geaugagrowthpartnership.com/event/ctia-certified-threat-intelligence-analyst/
CATEGORIES:All GGP Events,Workforce Development
END:VEVENT
BEGIN:VEVENT
DTSTART;TZID=America/New_York:20261102T090000
DTEND;TZID=America/New_York:20261106T170000
DTSTAMP:20260425T075751
CREATED:20260320T125859Z
LAST-MODIFIED:20260413T152915Z
UID:9007-1793610000-1793984400@geaugagrowthpartnership.com
SUMMARY:CompTIA: Security+
DESCRIPTION:Description\nIf you intend to pass the CompTIA Security+ (Exam SY0-701) certification examination\, this course can be a significant part of your preparation. But certification is not the only key to professional success in the field of IT security. Today’s job market demands individuals with demonstrable skills\, and the information and activities in this course can help you build your cybersecurity skill set so that you can confidently perform your duties in any entry-level security role. \n  \nObjectives\nUpon successful completion of this course\, students will be able to: \n\nSummarize fundamental security concepts.\nCompare threat types.\nExplain appropriate cryptographic solutions.\nImplement identity and access management.\nSecure enterprise network architecture.\nSecure cloud network architecture.\nExplain resiliency and site security concepts.\nExplain vulnerability management.\nEvaluate network security capabilities.\nAssess endpoint security capabilities.\nEnhance application security capabilities.\nExplain incident response and monitoring concepts.\nAnalyze indicators of malicious activity\nSummarize security governance concepts.\nExplain risk management processes.\nSummarize data protection and compliance concepts\n\n  \nPre-Requisites\nTo ensure your success in this course\, you should have a minimum of two years of experience in IT administration with a focus on security\, hands-on experience with technical information security\, and a broad knowledge of security concepts. CompTIA A+ and CompTIA Network+\, or the equivalent knowledge\, is strongly recommended. \n\n                \n                        \n                            Virtual - CompTIA: Security+\n                             \n                        \n                        Attendee Name(Required)\n                            \n                            \n                                                    \n                                                    First\n                                                \n                            \n                            \n                                                    \n                                                    Last\n                                                \n                            \n                        Company Name(Required)Email(Required)\n                            \n                        Phone(Required)Select class registration (select one class):(Required)\n								\n								04/13/2026 - 04/17/2026 | 09:00 AM - 05:00 PM\n							\n								\n								05/11/2026 - 05/15/2026 | 09:00 AM - 05:00 PM\n							\n								\n								06/22/2026 - 06/26/2026 | 09:00 AM - 05:00 PM\n							\n								\n								07/20/2026 - 07/24/2026 | 09:00 AM - 05:00 PM\n							\n								\n								09/14/2026 - 09/18/2026 | 09:00 AM - 05:00 PM\n							\n								\n								11/02/2026 - 11/06/2026 | 09:00 AM - 05:00 PM\n							Are you a GGP Member?(Required)\n			\n					\n					Yes\n			\n			\n					\n					No\n			\n			\n					\n					Unknown\n			Comments - Please let us know what's on your mind. Have a question for GGP? Ask away!CAPTCHA\n          \n            \n            \n            \n            \n            \n            \n            \n            \n            \n            \n            \n            \n            \n        \n                        \n                        \n\nCourse Details\nBrand: CompTIA\nExam: CompTIA Security+\nCEU Credits: 3.5\nCourse Hours: 35\nNumber of Days: 5\nCourse PDF
URL:https://geaugagrowthpartnership.com/event/comptia-security-8/
CATEGORIES:All GGP Events,Workforce Development
END:VEVENT
BEGIN:VEVENT
DTSTART;TZID=America/New_York:20261102T090000
DTEND;TZID=America/New_York:20261106T170000
DTSTAMP:20260425T075751
CREATED:20260320T135731Z
LAST-MODIFIED:20260406T160624Z
UID:9166-1793610000-1793984400@geaugagrowthpartnership.com
SUMMARY:MD-102T00: Microsoft 365 Endpoint Administrator
DESCRIPTION:Description\nIn this course\, students will learn to plan and execute an endpoint deployment strategy using contemporary deployment techniques and implementing update strategies. The course introduces essential elements of modern management\, co-management approaches\, and Microsoft Intune integration. It covers app deployment\, management of browser-based applications\, and key security concepts such as authentication\, identities\, access\, and compliance policies. Technologies like Azure Active Directory\, Azure Information Protection\, and Microsoft Defender for Endpoint are explored to protect devices and data. \n  \nObjectives\n\nExplain the enterprise desktop life-cycle model.\nSelect the most suitable Windows device for your needs.\nUse Windows PowerShell cmdlets to manage Azure AD.\nManage devices joined to Azure AD.\nDeploy the Configuration Manager client.\nConfigure Microsoft Intune for automatic enrollment.\nAnd so much more!\n\n  \nPre-Requisites\nThe Modern Desktop Administrator must be familiar with M365 workloads and must have strong skills and experience of deploying\, configuring\, and maintaining Windows 11 and later\, and non-Windows devices. \n\n                \n                        \n                            Virtual - MD-102T00: Microsoft 365 Endpoint Administrator\n                             \n                        \n                        Attendee Name(Required)\n                            \n                            \n                                                    \n                                                    First\n                                                \n                            \n                            \n                                                    \n                                                    Last\n                                                \n                            \n                        Company Name(Required)Email(Required)\n                            \n                        Phone(Required)Select class registration (select one class):(Required)\n								\n								04/06/2026 - 04/10/2026 | 09:00 AM - 05:00 PM\n							\n								\n								05/11/2026 - 05/15/2026 | 09:00 AM - 05:00 PM\n							\n								\n								07/13/2026 - 07/17/2026 | 09:00 AM - 05:00 PM\n							\n								\n								09/07/2026 - 09/11/2026 | 09:00 AM - 05:00 PM\n							\n								\n								11/02/2026 - 11/06/2026 | 09:00 AM - 05:00 PM\n							Are you a GGP Member?(Required)\n			\n					\n					Yes\n			\n			\n					\n					No\n			\n			\n					\n					Unknown\n			Comments - Please let us know what's on your mind. Have a question for GGP? Ask away!CAPTCHA\n          \n            \n            \n            \n            \n            \n            \n            \n            \n            \n            \n            \n            \n            \n        \n                        \n                        \n\nCourse Details\nBrand: Microsoft\nExam: MD-102: Endpoint Administrator\nCEU Credits: 3.5\nCourse Hours: 35\nNumber of Days: 5\nCourse PDF
URL:https://geaugagrowthpartnership.com/event/md-102t00-microsoft-365-endpoint-administrator/
CATEGORIES:All GGP Events,Workforce Development
END:VEVENT
BEGIN:VEVENT
DTSTART;TZID=America/New_York:20261103T090000
DTEND;TZID=America/New_York:20261106T170000
DTSTAMP:20260425T075751
CREATED:20260319T183109Z
LAST-MODIFIED:20260413T160954Z
UID:9057-1793696400-1793984400@geaugagrowthpartnership.com
SUMMARY:AZ-800T00: Administering Windows Server Hybrid Core Infrastructure
DESCRIPTION:Description\nIn this course\, you will cover how to manage core Windows Server workloads and services using on-premises\, hybrid\, and cloud technologies. The course teaches IT Professionals how to implement and manage on-premises and hybrid solutions such as identity\, management\, compute\, networking\, and storage in a Windows Server hybrid environment. \n  \nObjectives\n\nUse administrative techniques and tools in Windows Server.\nIdentify tools used to implement hybrid solutions\, including Windows Admin Center and PowerShell.\nImplement identity services in Windows Server.\nImplement identity in hybrid scenarios\, including Azure AD DS on Azure IaaS and managed AD DS.\nIntegrate Azure AD DS with Azure AD.\nManage network infrastructure services.\nDeploy Azure VMs running Windows Server\, and configure networking and storage.\nAdminister and manage Windows Server IaaS Virtual Machine remotely.\nManage and maintain Azure VMs running Windows Server.\nConfigure file servers and storage.\nImplement File Services in hybrid scenarios\, using Azure Files and Azure File Sync.\n\n  \nPre-Requisites\nBefore attending this course\, students must have: \n\nExperience with managing Windows Server operating system and Windows Server workloads in on-premises scenarios\, including AD DS\, DNS\, DFS\, Hyper-V\, and File and Storage Services\nExperience with common Windows Server management tools (implied in the first prerequisite).\nBasic knowledge of core Microsoft compute\, storage\, networking\, and virtualization technologies (implied in the first prerequisite).\nExperience and an understanding of core networking technologies such as IP addressing\, name resolution\, and Dynamic Host Configuration Protocol (DHCP)\nExperience working with and an understanding of Microsoft Hyper-V and basic server virtualization concepts\nBasic experience with implementing and managing IaaS services in Microsoft Azure\nBasic knowledge of Azure Active Directory\nExperience working hands-on with Windows client operating systems such as Windows 10 or Windows 11\nBasic experience with Windows PowerShell\n\n\n                \n                        \n                            Virtual - AZ-800T00: Administering Windows Server Hybrid Core Infrastructure\n                             \n                        \n                        Attendee Name(Required)\n                            \n                            \n                                                    \n                                                    First\n                                                \n                            \n                            \n                                                    \n                                                    Last\n                                                \n                            \n                        Company Name(Required)Email(Required)\n                            \n                        Phone(Required)Select class registration (select one class):(Required)\n								\n								04/21/2026 - 04/24/2026 | 09:00 AM - 05:00 PM\n							\n								\n								05/11/2026 - 05/14/2026 | 10:00 AM - 06:00 PM\n							\n								\n								06/02/2026 - 06/05/2026 | 09:00 AM - 05:00 PM\n							\n								\n								07/07/2026 - 07/10/2026 | 09:00 AM - 05:00 PM\n							\n								\n								08/04/2026 - 08/07/2026 | 09:00 AM - 05:00 PM\n							\n								\n								09/08/2026 - 09/11/2026 | 09:00 AM - 05:00 PM\n							\n								\n								10/06/2026 - 10/09/2026 | 09:00 AM - 05:00 PM\n							\n								\n								11/03/2026 - 11/06/2026 | 09:00 AM - 05:00 PM\n							Are you a GGP Member?(Required)\n			\n					\n					Yes\n			\n			\n					\n					No\n			\n			\n					\n					Unknown\n			Comments - Please let us know what's on your mind. Have a question for GGP? Ask away!CAPTCHA\n          \n            \n            \n            \n            \n            \n            \n            \n            \n            \n            \n            \n            \n            \n        \n                        \n                        \n\nCourse Details\nBrand: Microsoft\nExam: AZ-800: Administering Windows Server Hybrid Core Infrastructure\nCEU Credits: 2.8\nCourse Hours: 28\nNumber of Days: 4\nCourse PDF
URL:https://geaugagrowthpartnership.com/event/az-800t00-administering-windows-server-hybrid-core-infrastructure-9/
CATEGORIES:All GGP Events,Workforce Development
END:VEVENT
BEGIN:VEVENT
DTSTART;TZID=America/New_York:20261103T090000
DTEND;TZID=America/New_York:20261106T170000
DTSTAMP:20260425T075751
CREATED:20260320T132400Z
LAST-MODIFIED:20260420T145741Z
UID:9236-1793696400-1793984400@geaugagrowthpartnership.com
SUMMARY:DP-300T00: Implement scalable database solutions using Azure SQL
DESCRIPTION:Description\nThis course provides students with the knowledge and skills to administer a SQL Server database infrastructure for cloud\, on-premises\, and hybrid relational databases and who work with the Microsoft PaaS relational database offerings. Additionally\, it will be of use to individuals who develop applications that deliver content from SQL-based relational databases. \n  \nPre-Requisites\nIn addition to their professional experience\, students who take this training should have technical knowledge equivalent to the following courses: \n\nAzure Fundamentals\nAzure Data Fundamentals\n\n\n                \n                        \n                            Virtual - DP-300T00: Implement scalable database solutions using Azure SQL\n                             \n                        \n                        Attendee Name(Required)\n                            \n                            \n                                                    \n                                                    First\n                                                \n                            \n                            \n                                                    \n                                                    Last\n                                                \n                            \n                        Company Name(Required)Email(Required)\n                            \n                        Phone(Required)Select class registration (select one class):(Required)\n								\n								07/07/2026 - 07/09/2026 | 09:00 AM - 05:00 PM\n							\n								\n								09/08/2026 - 09/10/2026 | 09:00 AM - 05:00 PM\n							\n								\n								11/03/2026 - 11/05/2026 | 09:00 AM - 05:00 PM\n							Are you a GGP Member?(Required)\n			\n					\n					Yes\n			\n			\n					\n					No\n			\n			\n					\n					Unknown\n			Comments - Please let us know what's on your mind. Have a question for GGP? Ask away!CAPTCHA\n          \n            \n            \n            \n            \n            \n            \n            \n            \n            \n            \n            \n            \n            \n        \n                        \n                        \n\nCourse Details\nBrand: Microsoft\nExam: DP-300: Administering Relational Databases on Microsoft Azure\nCEU Credits: 2.8\nCourse Hours: 28\nNumber of Days: 4\nCourse PDF
URL:https://geaugagrowthpartnership.com/event/dp-300t00-implement-scalable-database-solutions-using-azure-sql-3/
CATEGORIES:All GGP Events,Workforce Development
END:VEVENT
BEGIN:VEVENT
DTSTART;TZID=America/New_York:20261104T090000
DTEND;TZID=America/New_York:20261106T170000
DTSTAMP:20260425T075751
CREATED:20260320T140342Z
LAST-MODIFIED:20260413T161442Z
UID:9065-1793782800-1793984400@geaugagrowthpartnership.com
SUMMARY:PL-300T00: Microsoft Power BI Data Analyst
DESCRIPTION:Description\nThis course will discuss the various methods and best practices that are in line with business and technical requirements for modeling\, visualizing\, and analyzing data with Power BI. The course will also show how to access and process data from a range of data sources including both relational and non-relational data. This course will also explore how to implement proper security standards and policies across the Power BI spectrum including datasets and groups. The course will also discuss how to manage and deploy reports and dashboards for sharing and content distribution. \n  \nPre-Requisites\nSuccessful Data Analysts start this role with experience of working with data in the cloud. \nSpecifically: \n\nUnderstanding core data concepts.\nKnowledge of working with relational data in the cloud.\nKnowledge of working with non-relational data in the cloud.\nKnowledge of data analysis and visualization concepts.\n\n\n                \n                        \n                            Virtual - Power BI classes\n                             \n                        \n                        Attendee Name(Required)\n                            \n                            \n                                                    \n                                                    First\n                                                \n                            \n                            \n                                                    \n                                                    Last\n                                                \n                            \n                        Company Name(Required)Email(Required)\n                            \n                        Phone(Required)Select class registration (select one class):(Required)\n								\n								Power BI: PL-300 Data Analyst | 04/21/2026 - 04/23/2026| 09:00 AM - 05:00 PM\n							\n								\n								Power BI: PL-300 Data Analyst | 06/09/2026 - 06/11/2026 | 09:00 AM - 05:00 PM\n							\n								\n								Power BI: PL-300 Data Analyst | 07/07/2026 - 07/09/2026 | 09:00 AM - 05:00 PM\n							\n								\n								Power BI: PL-300 Data Analyst | 08/18/2026 - 08/20/2026 | 09:00 AM - 05:00 PM\n							\n								\n								Power BI: PL-300 Data Analyst | 09/09/2026 - 09/11/2026 | 09:00 AM - 05:00 PM\n							\n								\n								Power BI: PL-300 Data Analyst | 10/06/2026 - 10/08/2026 | 09:00 AM - 05:00 PM\n							\n								\n								Power BI: PL-300 Data Analyst | 11/04/2026 - 11/06/2026 | 09:00 AM - 05:00 PM\n							\n								\n								Power BI: PL-300 Data Analyst | 12/08/2026 - 12/10/2026 | 09:00 AM - 05:00 PM\n							Are you a GGP Member?(Required)\n			\n					\n					Yes\n			\n			\n					\n					No\n			\n			\n					\n					Unknown\n			Comments - Please let us know what's on your mind. Have a question for GGP? Ask away!CAPTCHA\n          \n            \n            \n            \n            \n            \n            \n            \n            \n            \n            \n            \n            \n            \n        \n                        \n                        \n\nCourse Details\nBrand: Microsoft\nExam: PL-300: Microsoft Power BI Data Analyst\nCEU Credits: 2.1\nCourse Hours: 21\nNumber of Days: 3\nCourse PDF
URL:https://geaugagrowthpartnership.com/event/pl-300t00-microsoft-power-bi-data-analyst-8/
CATEGORIES:All GGP Events,Workforce Development
END:VEVENT
END:VCALENDAR