BEGIN:VCALENDAR
VERSION:2.0
PRODID:-//Geauga Growth Partnership, Inc. - ECPv6.15.20//NONSGML v1.0//EN
CALSCALE:GREGORIAN
METHOD:PUBLISH
X-ORIGINAL-URL:https://geaugagrowthpartnership.com
X-WR-CALDESC:Events for Geauga Growth Partnership, Inc.
REFRESH-INTERVAL;VALUE=DURATION:PT1H
X-Robots-Tag:noindex
X-PUBLISHED-TTL:PT1H
BEGIN:VTIMEZONE
TZID:America/New_York
BEGIN:DAYLIGHT
TZOFFSETFROM:-0500
TZOFFSETTO:-0400
TZNAME:EDT
DTSTART:20250309T070000
END:DAYLIGHT
BEGIN:STANDARD
TZOFFSETFROM:-0400
TZOFFSETTO:-0500
TZNAME:EST
DTSTART:20251102T060000
END:STANDARD
BEGIN:DAYLIGHT
TZOFFSETFROM:-0500
TZOFFSETTO:-0400
TZNAME:EDT
DTSTART:20260308T070000
END:DAYLIGHT
BEGIN:STANDARD
TZOFFSETFROM:-0400
TZOFFSETTO:-0500
TZNAME:EST
DTSTART:20261101T060000
END:STANDARD
BEGIN:DAYLIGHT
TZOFFSETFROM:-0500
TZOFFSETTO:-0400
TZNAME:EDT
DTSTART:20270314T070000
END:DAYLIGHT
BEGIN:STANDARD
TZOFFSETFROM:-0400
TZOFFSETTO:-0500
TZNAME:EST
DTSTART:20271107T060000
END:STANDARD
END:VTIMEZONE
BEGIN:VEVENT
DTSTART;TZID=America/New_York:20261109T090000
DTEND;TZID=America/New_York:20261113T170000
DTSTAMP:20260425T075451
CREATED:20260319T185424Z
LAST-MODIFIED:20260320T144505Z
UID:9091-1794214800-1794589200@geaugagrowthpartnership.com
SUMMARY:C)CSO: Certified Cloud Security Officer
DESCRIPTION:Description\nThis course will provide you something you will not find in other class! The Cloud is being widely adopted today for a diverse set of reasons. However\, many are finding that security in the cloud is a huge challenge. The C)CSO looks to fill the gap in cloud security education and give you the skills you need to develop strong cloud security. \nWhat makes this course powerful is the pairing of knowledge from leading cloud security authorities\, with practical lab exercises. You will leave the course with a solid understanding of the cloud stack having been introduced to many technologies used in the cloud. Whether you are implementing private cloud architecture or managing solutions from various vendors\, this course is for you. \n \nObjectives\nUpon successful completion of this course\, students will: \n\nUnderstand Cloud security from a real-world viewpoint\nComprehend the industry security standards\nBe prepared to take the C)CSO exam\n\n \nPre-Requisites\n\n12 months experience with virtualization technology or equivalent knowledge.\nGeneral understanding of cloud architectures\nMinimum 12 months experience with general security\n\n \nCourse Details\nBrand: Mile2\nExam: Mile2 C)CSO\nCEU Credits: 3.5\nCourse Hours: 35\nNumber of Days: 5\nCourse PDF
URL:https://geaugagrowthpartnership.com/event/ccso-certified-cloud-security-officer-5/
CATEGORIES:All GGP Events,Workforce Development
END:VEVENT
BEGIN:VEVENT
DTSTART;TZID=America/New_York:20261109T090000
DTEND;TZID=America/New_York:20261113T170000
DTSTAMP:20260425T075451
CREATED:20260319T211300Z
LAST-MODIFIED:20260420T143708Z
UID:9015-1794214800-1794589200@geaugagrowthpartnership.com
SUMMARY:C)PTE: Penetration Testing Engineer
DESCRIPTION:Description\nIn this course you will cover 5 Key Elements of Pen Testing; Information Gathering\, Scanning\, Enumeration\, Exploitation and Reporting. Plus\, discover the latest vulnerabilities and the techniques malicious hackers are using to acquire and destroy data. Additionally\, you will learn more about the business skills needed to identify protection opportunities\, justify testing activities and optimize security controls appropriate to the business needs in order to reduce business risk. \n  \nObjectives\nUpon successful completion of this course\, students will: \n\nHave solid knowledge of testing and reporting procedures which will prepare them for upper management roles within a cybersecurity system\nBe able to competently take the C)PTE exam\n\n  \nPre-Requisites\n\nC)PEH or equivalent knowledge\n12 months of Networking Experience\nSound Knowledge of TCP/IP\nBasic Knowledge of Linux\nMicrosoft Security experience\n\n\n\n                \n                        \n                            Virtual - C)PTE: Penetration Testing Engineer\n                             \n                        \n                        Attendee Name(Required)\n                            \n                            \n                                                    \n                                                    First\n                                                \n                            \n                            \n                                                    \n                                                    Last\n                                                \n                            \n                        Company Name(Required)Email(Required)\n                            \n                        Phone(Required)Select class registration (select one class):(Required)\n								\n								06/01/2026 - 06/03/2026 | 09:00 AM - 05:00 PM\n							\n								\n								09/21/2026 - 09/23/2026 | 09:00 AM - 05:00 PM\n							\n								\n								11/09/2026 - 11/11/2026 | 09:00 AM - 05:00 PM\n							Are you a GGP Member?(Required)\n			\n					\n					Yes\n			\n			\n					\n					No\n			\n			\n					\n					Unknown\n			Comments - Please let us know what's on your mind. Have a question for GGP? Ask away!CAPTCHA\n          \n            \n            \n            \n            \n            \n            \n            \n            \n            \n            \n            \n            \n            \n        \n                        \n                        \n\nCourse Details\nBrand: Mile2\nExam: Mile2 C)PTE\nCEU Credits: 3.5\nCourse Hours: 35\nNumber of Days: 5\nCourse PDF
URL:https://geaugagrowthpartnership.com/event/cpte-penetration-testing-engineer/
CATEGORIES:All GGP Events,Workforce Development
END:VEVENT
BEGIN:VEVENT
DTSTART;TZID=America/New_York:20261109T090000
DTEND;TZID=America/New_York:20261113T170000
DTSTAMP:20260425T075451
CREATED:20260319T211326Z
LAST-MODIFIED:20260420T143445Z
UID:9225-1794214800-1794589200@geaugagrowthpartnership.com
SUMMARY:C)PEH: Certified Professional Ethical Hacker
DESCRIPTION:Description\nIn this course\, you will learn the value of vulnerability assessments. Then\, you will discover how to use those assessments to make powerful changes in an information system’s security. Additionally\, you will learn how malware and destructive viruses function and how to implement counter response and preventative measures when it comes to a network hack. \n  \nObjectives\nUpon successful completion of this course students will be able to competently take the C)PEH exam. \n  \nPre-Requisites\n\nC)SP\n12 months of IT Experience\n12 Months of Networking Experience\n\n\n                \n                        \n                            Virtual - C)PEH: Certified Professional Ethical Hacker\n                             \n                        \n                        Attendee Name(Required)\n                            \n                            \n                                                    \n                                                    First\n                                                \n                            \n                            \n                                                    \n                                                    Last\n                                                \n                            \n                        Company Name(Required)Email(Required)\n                            \n                        Phone(Required)Select class registration (select one class):(Required)\n								\n								06/01/2026 - 06/03/2026 | 09:00 AM - 05:00 PM\n							\n								\n								09/21/2026 - 09/23/2026 | 09:00 AM - 05:00 PM\n							\n								\n								11/09/2026 - 11/11/2026 | 09:00 AM - 05:00 PM\n							Are you a GGP Member?(Required)\n			\n					\n					Yes\n			\n			\n					\n					No\n			\n			\n					\n					Unknown\n			Comments - Please let us know what's on your mind. Have a question for GGP? Ask away!CAPTCHA\n          \n            \n            \n            \n            \n            \n            \n            \n            \n            \n            \n            \n            \n            \n        \n                        \n                        \n\nCourse Details\nBrand: Mile2\nExam: Mile2 C)PEH\nCEU Credits: 3.5\nCourse Hours: 35\nNumber of Days: 5\nCourse PDF
URL:https://geaugagrowthpartnership.com/event/cpeh-certified-professional-ethical-hacker/
CATEGORIES:All GGP Events,Workforce Development
END:VEVENT
BEGIN:VEVENT
DTSTART;TZID=America/New_York:20261110T090000
DTEND;TZID=America/New_York:20261113T170000
DTSTAMP:20260425T075451
CREATED:20260319T175043Z
LAST-MODIFIED:20260406T160859Z
UID:9085-1794301200-1794589200@geaugagrowthpartnership.com
SUMMARY:AZ-305T00: Designing Microsoft Azure Infrastructure Solutions
DESCRIPTION:Description\nIn this course\, you will cover governance\, compute\, application architecture\, storage\, data integration\, authentication\, networks\, business continuity\, and migrations. The course combines lecture with case studies to demonstrate basic architect design principles. \n  \nObjectives\n\nDesign a governance solution.\nDesign a compute solution.\nDesign an application architecture.\nDesign storage\, non-relational and relational.\nDesign data integration solutions.\nDesign authentication\, authorization\, and identity solutions.\nDesign network solutions.\nDesign backup and disaster recovery solutions.\nDesign monitoring solutions.\nDesign migration solutions.\n\n  \nPre-Requisites\nBefore attending this course\, students must have previous experience deploying or administering Azure resources and strong conceptual knowledge of: \n\nAzure Active Directory\nAzure compute technologies such as VMs\, containers and serverless solutions\nAzure virtual networking to include load balancers\nAzure Storage technologies (unstructured and databases)\nGeneral application design concepts such as messaging and high availability\n\nPrerequisite courses (or equivalent knowledge and hands-on experience): This free online training will give you the experience you need to be successful in this course. \n\nAZ-104T00: Microsoft Azure Administrator\n\n\n                \n                        \n                            Virtual - AZ-305T00: Designing Microsoft Azure Infrastructure Solutions\n                             \n                        \n                        Attendee Name(Required)\n                            \n                            \n                                                    \n                                                    First\n                                                \n                            \n                            \n                                                    \n                                                    Last\n                                                \n                            \n                        Company Name(Required)Email(Required)\n                            \n                        Phone(Required)Select class registration (select one class):(Required)\n								\n								04/06/2026 - 04/09/2026 | 10:00 AM - 06:00 PM\n							\n								\n								06/01/2026 - 06/04/2026 | 10:00 AM - 06:00 PM\n							\n								\n								06/15/2026 - 06/18/2026 | 10:00 AM - 06:00 PM\n							\n								\n								08/04/2026 - 08/07/2026 | 09:00 AM - 05:00 PM\n							\n								\n								09/01/2026 - 09/04/2026 | 09:00 AM - 05:00 PM\n							\n								\n								10/06/2026 - 10/09/2026 | 09:00 AM - 05:00 PM\n							\n								\n								11/10/2026 - 11/13/2026 | 09:00 AM - 05:00 PM\n							\n								\n								12/15/2026 - 12/18/2026 | 09:00 AM - 05:00 PM\n							Are you a GGP Member?(Required)\n			\n					\n					Yes\n			\n			\n					\n					No\n			\n			\n					\n					Unknown\n			Comments - Please let us know what's on your mind. Have a question for GGP? Ask away!CAPTCHA\n          \n            \n            \n            \n            \n            \n            \n            \n            \n            \n            \n            \n            \n            \n        \n                        \n                        \n\nCourse Details\nBrand: Microsoft\nExam: Exam AZ-305: Designing Microsoft Azure Infrastructure Solutions\nCEU Credits: 2.8\nCourse Hours: 28\nNumber of Days: 4\nCourse PDF
URL:https://geaugagrowthpartnership.com/event/az-305t00-designing-microsoft-azure-infrastructure-solutions-8/
CATEGORIES:All GGP Events,Workforce Development
END:VEVENT
BEGIN:VEVENT
DTSTART;TZID=America/New_York:20261111T090000
DTEND;TZID=America/New_York:20261113T170000
DTSTAMP:20260425T075451
CREATED:20260319T211216Z
LAST-MODIFIED:20260420T145555Z
UID:9073-1794387600-1794589200@geaugagrowthpartnership.com
SUMMARY:C)VA: Vulnerability Assessor
DESCRIPTION:Description\nIn this course\, you will cover the tools an IT engineer needs to review an Information System. You will learn the importance of vulnerability assessments and how they are used to prevent serious cyber break-ins. Lessons include understanding malware and viruses and how they can infiltrate an organization’s network. After you take this course\, you will be able to assess a company’s security posture and perform a basic vulnerability test. Plus\, you will be able to generate reports to guide new security implementation. \n  \nObjectives\nUpon successful completion of this course students will be able to: \n\nCompetently take the C)VA exam\n\n  \nPre-Requisites\n\nBasic Networking Understanding\n\n\n                \n                        \n                            Virtual - C)VA: Vulnerability Assessor\n                             \n                        \n                        Attendee Name(Required)\n                            \n                            \n                                                    \n                                                    First\n                                                \n                            \n                            \n                                                    \n                                                    Last\n                                                \n                            \n                        Company Name(Required)Email(Required)\n                            \n                        Phone(Required)Select class registration (select one class):(Required)\n								\n								06/29/2026 - 07/01/2026 | 09:00 AM - 05:00 PM\n							\n								\n								11/11/2026 - 11/13/2026 | 09:00 AM - 05:00 PM\n							Are you a GGP Member?(Required)\n			\n					\n					Yes\n			\n			\n					\n					No\n			\n			\n					\n					Unknown\n			Comments - Please let us know what's on your mind. Have a question for GGP? Ask away!CAPTCHA\n          \n            \n            \n            \n            \n            \n            \n            \n            \n            \n            \n            \n            \n            \n        \n                        \n                        \n\nCourse Details\nBrand: Mile2\nExam: Mile2 C)VA\nCEU Credits: 2.1\nCourse Hours: 21\nNumber of Days: 3\nCourse PDF
URL:https://geaugagrowthpartnership.com/event/cva-vulnerability-assessor/
CATEGORIES:All GGP Events,Workforce Development
END:VEVENT
BEGIN:VEVENT
DTSTART;TZID=America/New_York:20261113T100000
DTEND;TZID=America/New_York:20261113T120000
DTSTAMP:20260425T075451
CREATED:20260320T132727Z
LAST-MODIFIED:20260413T163156Z
UID:9198-1794564000-1794571200@geaugagrowthpartnership.com
SUMMARY:DSBIZ: Data Science for Business Professionals
DESCRIPTION:Description\nThe ability to identify and respond to changing trends is a hallmark of a successful business. Whether those trends are related to customers and sales\, or to regulatory and industry standards\, businesses are wise to keep track of the variables that can affect the bottom line. In today’s business landscape\, data comes from numerous sources and in diverse forms. By leveraging data science concepts and technologies\, businesses can mold all that raw data into information that facilitates decisions to improve and expand the success of the business. \n  \nObjectives\nUpon successful completion of this course\, students will be able to: \n\nIdentify how data science supports informed business decisions.\nExplain the fundamentals of data science.\nIdentify functions of data science for business.\nImplement business requirements for data science.\n\n  \nPre-Requisites\nTo ensure your success with this course\, you should have basic knowledge of business processes\, general business concepts\, and relevant data that helps to solve business problems or achieve business goals. You should also have a basic understanding of information technology (IT) resources and systems\, including networks\, computers\, and other digital devices used in an enterprise setting. \n\n                \n                        \n                            Virtual - DSBIZ: Data Science for Business Professionals\n                             \n                        \n                        Attendee Name(Required)\n                            \n                            \n                                                    \n                                                    First\n                                                \n                            \n                            \n                                                    \n                                                    Last\n                                                \n                            \n                        Company Name(Required)Email(Required)\n                            \n                        Phone(Required)Select class registration (select one class):(Required)\n								\n								04/24/2026 | 10:00 AM - 12:00 PM\n							\n								\n								08/05/2026 | 10:00 AM - 12:00 PM\n							\n								\n								11/13/2026 | 10:00 AM - 12:00 PM\n							Are you a GGP Member?(Required)\n			\n					\n					Yes\n			\n			\n					\n					No\n			\n			\n					\n					Unknown\n			Comments - Please let us know what's on your mind. Have a question for GGP? Ask away!CAPTCHA\n          \n            \n            \n            \n            \n            \n            \n            \n            \n            \n            \n            \n            \n            \n        \n                        \n                        \n\nCourse Details\nBrand: CertNexus\nExam: DSBIZ\nCEU Credits: 0.2\nCourse Hours: 2\nNumber of Days: 1\nCourse PDF
URL:https://geaugagrowthpartnership.com/event/dsbiz-data-science-for-business-professionals-3/
CATEGORIES:All GGP Events,Workforce Development
END:VEVENT
END:VCALENDAR