BEGIN:VCALENDAR
VERSION:2.0
PRODID:-//Geauga Growth Partnership, Inc. - ECPv6.15.20//NONSGML v1.0//EN
CALSCALE:GREGORIAN
METHOD:PUBLISH
X-ORIGINAL-URL:https://geaugagrowthpartnership.com
X-WR-CALDESC:Events for Geauga Growth Partnership, Inc.
REFRESH-INTERVAL;VALUE=DURATION:PT1H
X-Robots-Tag:noindex
X-PUBLISHED-TTL:PT1H
BEGIN:VTIMEZONE
TZID:America/New_York
BEGIN:DAYLIGHT
TZOFFSETFROM:-0500
TZOFFSETTO:-0400
TZNAME:EDT
DTSTART:20250309T070000
END:DAYLIGHT
BEGIN:STANDARD
TZOFFSETFROM:-0400
TZOFFSETTO:-0500
TZNAME:EST
DTSTART:20251102T060000
END:STANDARD
BEGIN:DAYLIGHT
TZOFFSETFROM:-0500
TZOFFSETTO:-0400
TZNAME:EDT
DTSTART:20260308T070000
END:DAYLIGHT
BEGIN:STANDARD
TZOFFSETFROM:-0400
TZOFFSETTO:-0500
TZNAME:EST
DTSTART:20261101T060000
END:STANDARD
BEGIN:DAYLIGHT
TZOFFSETFROM:-0500
TZOFFSETTO:-0400
TZNAME:EDT
DTSTART:20270314T070000
END:DAYLIGHT
BEGIN:STANDARD
TZOFFSETFROM:-0400
TZOFFSETTO:-0500
TZNAME:EST
DTSTART:20271107T060000
END:STANDARD
END:VTIMEZONE
BEGIN:VEVENT
DTSTART;TZID=America/New_York:20261116T090000
DTEND;TZID=America/New_York:20261119T170000
DTSTAMP:20260425T111608
CREATED:20260320T134741Z
LAST-MODIFIED:20260420T152424Z
UID:9117-1794819600-1795107600@geaugagrowthpartnership.com
SUMMARY:IS18 Controls
DESCRIPTION:Description\nIn this course\, you will cover the implementation and analysis of the IS18 Top Controls. These controls have been identified as critical by leading government and private organizations with expertise in understanding attack techniques and mitigating risks. They are designed to prevent known attacks and minimize the impact of successful attacks. \nBy adopting the IS18 Top Controls\, organizations can enhance the security of their sensitive information. This training course equips security professionals with the tools and methodologies necessary to execute and assess these controls within their existing network infrastructure. Automation is emphasized as a highly effective and cost-efficient approach to implementing these controls. \nFor management personnel\, this training provides valuable insights into assessing the effectiveness of the security controls in place. It enables them to evaluate whether the controls are being properly administered and to make informed decisions regarding security measures. \n  \nObjectives\nUpon successful completion of this course\, students will be able to: \n\nCompetently take the IS18 Controls exam\nUnderstand how to implement the top 18 most critical controls in the workplace\n\n  \nPre-Requisites\nBroad Understanding of Multiple Networking and Security Technologies. \n\n\n                \n                        \n                            Virtual - IS18 Controls\n                             \n                        \n                        Attendee Name(Required)\n                            \n                            \n                                                    \n                                                    First\n                                                \n                            \n                            \n                                                    \n                                                    Last\n                                                \n                            \n                        Company Name(Required)Email(Required)\n                            \n                        Phone(Required)Select class registration (select one class):(Required)\n								\n								11/16/2026 - 11/18/2026 | 09:00 AM - 05:00 PM\n							Are you a GGP Member?(Required)\n			\n					\n					Yes\n			\n			\n					\n					No\n			\n			\n					\n					Unknown\n			Comments - Please let us know what's on your mind. Have a question for GGP? Ask away!CAPTCHA\n          \n            \n            \n            \n            \n            \n            \n            \n            \n            \n            \n            \n            \n            \n        \n                        \n                        \n\nCourse Details\nBrand: Mile2\nExam: Mile2 IS18 Controls\nCEU Credits: 2.8\nCourse Hours: 28\nNumber of Days: 4\nCourse PDF
URL:https://geaugagrowthpartnership.com/event/is18-controls-2/
CATEGORIES:All GGP Events,Workforce Development
END:VEVENT
BEGIN:VEVENT
DTSTART;TZID=America/New_York:20261116T090000
DTEND;TZID=America/New_York:20261120T170000
DTSTAMP:20260425T111608
CREATED:20260319T184922Z
LAST-MODIFIED:20260420T150128Z
UID:9039-1794819600-1795194000@geaugagrowthpartnership.com
SUMMARY:C)CSA: Certified Cybersecurity Analyst
DESCRIPTION:Description\nIn this course\, you will cover how to prepare an organization to create a complete end-to-end solution for monitoring\, preventing\, detecting\, and mitigating threats as they arise in real-time. Do not fool yourself\, this course is far more advanced than you may expect. It is fast paced and thorough\, so you can enjoy a well-rounded experience. Be ready to dig deep into the details of security analysis for today’s needs. You will be able to set up and deploy state of the art open source and commercial analysis tools\, intrusion detection tools\, syslog servers\, and SIEMs. You will also be able to integrate them for an entire organization. \n*This course maps to the mile2 Certified Cyber Security Analyst Exam as well as the Comp TIA CySA+CS0-001 certification exam. \n  \nObjectives\nUpon successful completion of this course\, students will: \n\nBe able to competently take the C)CSA Exam\nBe ready to prepare an organization for proactive defense against today’s hackers\n\n  \nPre-Requisites\n\nCertified Security Principles\nCertified Digital Forensics Examiner\nCertified Incident Handling Engineer\nCertified Professional Ethical Hacker\nCertified Penetration Testing Engineer\nor Equivalent Knowledge\n\n\n                \n                        \n                            Virtual - C)CSA: Certified Cybersecurity Analyst\n                             \n                        \n                        Attendee Name(Required)\n                            \n                            \n                                                    \n                                                    First\n                                                \n                            \n                            \n                                                    \n                                                    Last\n                                                \n                            \n                        Company Name(Required)Email(Required)\n                            \n                        Phone(Required)Select class registration (select one class):(Required)\n								\n								07/13/2026 - 07/15/2026 | 09:00 AM - 05:00 PM\n							\n								\n								11/16/2026 - 11/18/2026 | 09:00 AM - 05:00 PM\n							Are you a GGP Member?(Required)\n			\n					\n					Yes\n			\n			\n					\n					No\n			\n			\n					\n					Unknown\n			Comments - Please let us know what's on your mind. Have a question for GGP? Ask away!CAPTCHA\n          \n            \n            \n            \n            \n            \n            \n            \n            \n            \n            \n            \n            \n            \n        \n                        \n                        \n\nCourse Details\nBrand: Mile2\nExam: Mile2 C)CSA\nCEU Credits: 3.5\nCourse Hours: 35\nNumber of Days: 5\nCourse PDF
URL:https://geaugagrowthpartnership.com/event/ccsa-certified-cybersecurity-analyst-3/
CATEGORIES:All GGP Events,Workforce Development
END:VEVENT
BEGIN:VEVENT
DTSTART;TZID=America/New_York:20261116T090000
DTEND;TZID=America/New_York:20261120T170000
DTSTAMP:20260425T111608
CREATED:20260319T185427Z
LAST-MODIFIED:20260413T165947Z
UID:9092-1794819600-1795194000@geaugagrowthpartnership.com
SUMMARY:C)CSO: Certified Cloud Security Officer
DESCRIPTION:Description\nThis course will provide you something you will not find in other class! The Cloud is being widely adopted today for a diverse set of reasons. However\, many are finding that security in the cloud is a huge challenge. The C)CSO looks to fill the gap in cloud security education and give you the skills you need to develop strong cloud security. \nWhat makes this course powerful is the pairing of knowledge from leading cloud security authorities\, with practical lab exercises. You will leave the course with a solid understanding of the cloud stack having been introduced to many technologies used in the cloud. Whether you are implementing private cloud architecture or managing solutions from various vendors\, this course is for you. \n  \nObjectives\nUpon successful completion of this course\, students will: \n\nUnderstand Cloud security from a real-world viewpoint\nComprehend the industry security standards\nBe prepared to take the C)CSO exam\n\n  \nPre-Requisites\n\n12 months experience with virtualization technology or equivalent knowledge.\nGeneral understanding of cloud architectures\nMinimum 12 months experience with general security\n\n\n                \n                        \n                            Virtual - C)CSO: Certified Cloud Security Officer\n                             \n                        \n                        Attendee Name(Required)\n                            \n                            \n                                                    \n                                                    First\n                                                \n                            \n                            \n                                                    \n                                                    Last\n                                                \n                            \n                        Company Name(Required)Email(Required)\n                            \n                        Phone(Required)Select class registration (select one class):(Required)\n								\n								05/11/2026 - 05/15/2026 | 09:00 AM - 05:00 PM\n							\n								\n								07/06/2026 - 07/10/2026 | 09:00 AM - 05:00 PM\n							\n								\n								09/14/2026 - 09/18/2026 | 09:00 AM - 05:00 PM\n							\n								\n								11/09/2026 - 11/13/2026 | 09:00 AM - 05:00 PM\n							\n								\n								11/16/2026 - 11/20/2026 | 09:00 AM - 05:00 PM\n							Are you a GGP Member?(Required)\n			\n					\n					Yes\n			\n			\n					\n					No\n			\n			\n					\n					Unknown\n			Comments - Please let us know what's on your mind. Have a question for GGP? Ask away!CAPTCHA\n          \n            \n            \n            \n            \n            \n            \n            \n            \n            \n            \n            \n            \n            \n        \n                        \n                        \n\nCourse Details\nBrand: Mile2\nExam: Mile2 C)CSO\nCEU Credits: 3.5\nCourse Hours: 35\nNumber of Days: 5\nCourse PDF
URL:https://geaugagrowthpartnership.com/event/ccso-certified-cloud-security-officer-6/
CATEGORIES:All GGP Events,Workforce Development
END:VEVENT
BEGIN:VEVENT
DTSTART;TZID=America/New_York:20261116T090000
DTEND;TZID=America/New_York:20261120T170000
DTSTAMP:20260425T111608
CREATED:20260319T211249Z
LAST-MODIFIED:20260420T144443Z
UID:9228-1794819600-1795194000@geaugagrowthpartnership.com
SUMMARY:C)RMFA: Certified Risk Management Framework Analyst
DESCRIPTION:Description\nIn this course\, you will cover the process of certifying\, reviewing\, and accrediting an information system by IT professionals. This course was created as a standard to measure the set of skills that specific members of an organization are required to have for the practice of certifying\, reviewing\, and accrediting the security of information systems. Specifically\, this training was designed for the individuals who are responsible for creating and implementing the processes used to evaluate risk and institute security baselines and requirements. These critical decisions will be essential in making sure that the security of the information systems outweighs the potential risks to an organization from any internal or external threats. \n  \nObjectives\nUpon successful completion of this course students will be able to: \n\nCompetently take the exam\n\n  \nPre-Requisites\n\n4-5 years of information systems security management is suggested (or equivalent education)\n\n\n                \n                        \n                            Virtual - C)RMFA: Certified Risk Management Framework Analyst\n                             \n                        \n                        Attendee Name(Required)\n                            \n                            \n                                                    \n                                                    First\n                                                \n                            \n                            \n                                                    \n                                                    Last\n                                                \n                            \n                        Company Name(Required)Email(Required)\n                            \n                        Phone(Required)Select class registration (select one class):(Required)\n								\n								06/08/2026 - 06/10/2026 | 09:00 AM - 05:00 PM\n							\n								\n								09/14/2026 - 09/16/2026 | 09:00 AM - 05:00 PM\n							\n								\n								11/16/2026 - 11/18/2026 | 09:00 AM - 05:00 PM\n							Are you a GGP Member?(Required)\n			\n					\n					Yes\n			\n			\n					\n					No\n			\n			\n					\n					Unknown\n			Comments - Please let us know what's on your mind. Have a question for GGP? Ask away!CAPTCHA\n          \n            \n            \n            \n            \n            \n            \n            \n            \n            \n            \n            \n            \n            \n        \n                        \n                        \n\nCourse Details\nBrand: Mile2\nExam: Mile2 C)RMFA\nCEU Credits: 3.5\nCourse Hours: 35\nNumber of Days: 5\nCourse PDF
URL:https://geaugagrowthpartnership.com/event/crmfa-certified-risk-management-framework-analyst/
CATEGORIES:All GGP Events,Workforce Development
END:VEVENT
BEGIN:VEVENT
DTSTART;TZID=America/New_York:20261116T090000
DTEND;TZID=America/New_York:20261120T170000
DTSTAMP:20260425T111608
CREATED:20260320T120824Z
LAST-MODIFIED:20260320T151816Z
UID:9233-1794819600-1795194000@geaugagrowthpartnership.com
SUMMARY:CompTIA: Cloud+
DESCRIPTION:Description\nCompTIA Cloud+ validates the skills needed to implement cloud solutions\, maintain and optimize cloud environments\, and troubleshoot issues encountered when working in the cloud. The major areas of emphasis include: \n\nCloud architecture and design\nSecurity within the cloud\nAutomation and virtualization\nDisaster recovery\nHigh availability\n\nThe Cloud+ exam covers five major domains: \n\nCloud Architecture & Design (13%)\nSecurity (20%)\nDeployment (23%)\nOperations & Support (22%)\nTrouble Shooting (22%)\n\n \nCourse Details\nBrand: CompTIA\nExam: CompTIA Cloud+\nCEU Credits: 3.5\nCourse Hours: 35\nNumber of Days: 5\nCourse PDF
URL:https://geaugagrowthpartnership.com/event/comptia-cloud-3/
CATEGORIES:All GGP Events,Workforce Development
END:VEVENT
BEGIN:VEVENT
DTSTART;TZID=America/New_York:20261116T090000
DTEND;TZID=America/New_York:20261120T170000
DTSTAMP:20260425T111608
CREATED:20260320T122623Z
LAST-MODIFIED:20260420T151655Z
UID:9240-1794819600-1795194000@geaugagrowthpartnership.com
SUMMARY:CompTIA: Data+
DESCRIPTION:Description\nIn this course\, you will cover the knowledge and skills required to transform business requirements in support of data-driven decisions by mining data\, manipulating data\, applying basic statistical methods\, and analyzing complex data sets while adhering to governance and quality standards throughout the entire data lifecycle. In addition\, it will help prepare candidates to take the CompTIA Data+ certification exam. \n  \nObjectives\nUpon successful completion of this course\, students will be able to: \n\nMine data\nManipulate data\nVisualize and report data\nApply basic statistical methods\nAnalyze complex datasets while adhering to governance and quality standards throughout the entire data life cycle\n\n  \nPre-Requisites\nBasic understanding of computers and operating systems. \n\n                \n                        \n                            Virtual - CompTIA: Data+\n                             \n                        \n                        Attendee Name(Required)\n                            \n                            \n                                                    \n                                                    First\n                                                \n                            \n                            \n                                                    \n                                                    Last\n                                                \n                            \n                        Company Name(Required)Email(Required)\n                            \n                        Phone(Required)Select class registration (select one class):(Required)\n								\n								08/17/2026 - 08/19/2026 | 09:00 AM - 05:00 PM\n							\n								\n								11/16/2026 - 11/18/2026 | 09:00 AM - 05:00 PM\n							Are you a GGP Member?(Required)\n			\n					\n					Yes\n			\n			\n					\n					No\n			\n			\n					\n					Unknown\n			Comments - Please let us know what's on your mind. Have a question for GGP? Ask away!CAPTCHA\n          \n            \n            \n            \n            \n            \n            \n            \n            \n            \n            \n            \n            \n            \n        \n                        \n                        \n\nCourse Details\nBrand: CompTIA\nExam: CompTIA Data+\nCEU Credits: 3.5\nCourse Hours: 35\nNumber of Days: 5\nCourse PDF
URL:https://geaugagrowthpartnership.com/event/comptia-data-2/
CATEGORIES:All GGP Events,Workforce Development
END:VEVENT
END:VCALENDAR