BEGIN:VCALENDAR
VERSION:2.0
PRODID:-//Geauga Growth Partnership, Inc. - ECPv6.15.20//NONSGML v1.0//EN
CALSCALE:GREGORIAN
METHOD:PUBLISH
X-ORIGINAL-URL:https://geaugagrowthpartnership.com
X-WR-CALDESC:Events for Geauga Growth Partnership, Inc.
REFRESH-INTERVAL;VALUE=DURATION:PT1H
X-Robots-Tag:noindex
X-PUBLISHED-TTL:PT1H
BEGIN:VTIMEZONE
TZID:America/New_York
BEGIN:DAYLIGHT
TZOFFSETFROM:-0500
TZOFFSETTO:-0400
TZNAME:EDT
DTSTART:20250309T070000
END:DAYLIGHT
BEGIN:STANDARD
TZOFFSETFROM:-0400
TZOFFSETTO:-0500
TZNAME:EST
DTSTART:20251102T060000
END:STANDARD
BEGIN:DAYLIGHT
TZOFFSETFROM:-0500
TZOFFSETTO:-0400
TZNAME:EDT
DTSTART:20260308T070000
END:DAYLIGHT
BEGIN:STANDARD
TZOFFSETFROM:-0400
TZOFFSETTO:-0500
TZNAME:EST
DTSTART:20261101T060000
END:STANDARD
BEGIN:DAYLIGHT
TZOFFSETFROM:-0500
TZOFFSETTO:-0400
TZNAME:EDT
DTSTART:20270314T070000
END:DAYLIGHT
BEGIN:STANDARD
TZOFFSETFROM:-0400
TZOFFSETTO:-0500
TZNAME:EST
DTSTART:20271107T060000
END:STANDARD
END:VTIMEZONE
BEGIN:VEVENT
DTSTART;TZID=America/New_York:20261123T090000
DTEND;TZID=America/New_York:20261125T170000
DTSTAMP:20260425T111414
CREATED:20260319T215811Z
LAST-MODIFIED:20260413T165631Z
UID:9205-1795424400-1795626000@geaugagrowthpartnership.com
SUMMARY:CEET: Certified Ethical Emerging Technologist
DESCRIPTION:Description\nIn this course\, you will cover the tools to identify and manage common ethical risks in the development of emerging data-driven technologies. This course distills ethical theory\, public regulations\, and industry best practices into concrete skills and guidelines needed for the responsible development of digital products and services. By following the course’s practical\, problems-based approach\, learners will become adept at applying theories\, principles\, frameworks\, and techniques in their own roles and organizations. \n  \nObjectives\nIn this course\, you will incorporate ethics into data-driven technologies such as AI\, IoT\, and data science. You will: \n\nDescribe general concepts\, theories\, and challenges related to ethics and emerging technologies.\nIdentify ethical risks.\nPractice ethical reasoning.\nIdentify and mitigate safety and security risks.\nIdentify and mitigate privacy risks.\nIdentify and mitigate fairness and bias risks.\nIdentify and mitigate transparency and explainability risks.\nIdentify and mitigate accountability risks.\nBuild an ethical organization.\nDevelop ethical systems in technology-focused organizations.\n\n  \nPre-Requisites\nTo ensure your success in this course\, you should have a genuine interest in ensuring that emerging technologies are ethical\, trusted\, and inclusive. It may also be helpful if you have an understanding of concepts related to emerging technologies. Practical experience implementing data science\, AI\, and/or IoT to solve business problems is encouraged but not required. You can obtain the appropriate knowledge of emerging technologies concepts by attending any or all of the following courses: \n\nIoTBIZ™ (Exam IOZ-110)\nDSBIZ™ (Exam DSZ-110): Data Science for Business Professionals\nAIBIZ™ (Exam AIZ-110)\nETBIZ: Emerging Technology for the Business Professional (Exam ETZ-110)\n\n\n\n                \n                        \n                            Virtual - CEET: Certified Ethical Emerging Technologist\n                             \n                        \n                        Attendee Name(Required)\n                            \n                            \n                                                    \n                                                    First\n                                                \n                            \n                            \n                                                    \n                                                    Last\n                                                \n                            \n                        Company Name(Required)Email(Required)\n                            \n                        Phone(Required)Select class registration (select one class):(Required)\n								\n								05/06/2026 - 05/08/2026 | 09:00 AM - 05:00 PM\n							\n								\n								08/18/2026 - 08/20/2026 | 09:00 AM - 05:00 PM\n							\n								\n								11/23/2026 - 11/25/2026 | 09:00 AM - 05:00 PM\n							Are you a GGP Member?(Required)\n			\n					\n					Yes\n			\n			\n					\n					No\n			\n			\n					\n					Unknown\n			Comments - Please let us know what's on your mind. Have a question for GGP? Ask away!CAPTCHA\n          \n            \n            \n            \n            \n            \n            \n            \n            \n            \n            \n            \n            \n            \n        \n                        \n                        \n\nCourse Details\nBrand: CertNexus\nExam: CEET\nCEU Credits: 2.1\nCourse Hours: 21\nNumber of Days: 3\nCourse PDF
URL:https://geaugagrowthpartnership.com/event/ceet-certified-ethical-emerging-technologist-3/
CATEGORIES:All GGP Events,Workforce Development
END:VEVENT
END:VCALENDAR