BEGIN:VCALENDAR
VERSION:2.0
PRODID:-//Geauga Growth Partnership, Inc. - ECPv6.15.20//NONSGML v1.0//EN
CALSCALE:GREGORIAN
METHOD:PUBLISH
X-WR-CALNAME:Geauga Growth Partnership, Inc.
X-ORIGINAL-URL:https://geaugagrowthpartnership.com
X-WR-CALDESC:Events for Geauga Growth Partnership, Inc.
REFRESH-INTERVAL;VALUE=DURATION:PT1H
X-Robots-Tag:noindex
X-PUBLISHED-TTL:PT1H
BEGIN:VTIMEZONE
TZID:America/New_York
BEGIN:DAYLIGHT
TZOFFSETFROM:-0500
TZOFFSETTO:-0400
TZNAME:EDT
DTSTART:20250309T070000
END:DAYLIGHT
BEGIN:STANDARD
TZOFFSETFROM:-0400
TZOFFSETTO:-0500
TZNAME:EST
DTSTART:20251102T060000
END:STANDARD
BEGIN:DAYLIGHT
TZOFFSETFROM:-0500
TZOFFSETTO:-0400
TZNAME:EDT
DTSTART:20260308T070000
END:DAYLIGHT
BEGIN:STANDARD
TZOFFSETFROM:-0400
TZOFFSETTO:-0500
TZNAME:EST
DTSTART:20261101T060000
END:STANDARD
BEGIN:DAYLIGHT
TZOFFSETFROM:-0500
TZOFFSETTO:-0400
TZNAME:EDT
DTSTART:20270314T070000
END:DAYLIGHT
BEGIN:STANDARD
TZOFFSETFROM:-0400
TZOFFSETTO:-0500
TZNAME:EST
DTSTART:20271107T060000
END:STANDARD
END:VTIMEZONE
BEGIN:VEVENT
DTSTART;TZID=America/New_York:20261207T090000
DTEND;TZID=America/New_York:20261209T170000
DTSTAMP:20260425T074951
CREATED:20260320T134856Z
LAST-MODIFIED:20260406T151531Z
UID:9147-1796634000-1796835600@geaugagrowthpartnership.com
SUMMARY:ISCAP: Information Security Accreditation and Certification Professional
DESCRIPTION:Description\nIn this course\, you will cover the process of certifying\, reviewing and accrediting an information system(IS). What does it take to have a certified and accredited information system in accordance with DIACAP Instruction 8510.01? This course is designed to provide a complete guide to establishing a certifiable and accredited information system in any organization. Therefore\, it will give you standards to measure the skills required of specific members of an organization in order to certify\, review and accredit the IS security. These critical decisions are essential in making sure that the security of the IS outweighs the potential risks to an organization from any internal or external threats. \n  \nObjectives\nUpon successful completion of this course students will be able to: \n\nEstablish a certified and accredited (authorized) information system in any organization according to current best practices and Federal standards\nTake the Mile2 ISCAP exam\n\n  \nPre-Requisites\n\nBroad Understanding of Multiple Networking and Security Technologies\n12 months experience in information systems\n\n\n\n                \n                        \n                            Virtual - ISCAP: Information Security Accreditation and Certification Professional\n                             \n                        \n                        Attendee Name(Required)\n                            \n                            \n                                                    \n                                                    First\n                                                \n                            \n                            \n                                                    \n                                                    Last\n                                                \n                            \n                        Company Name(Required)Email(Required)\n                            \n                        Phone(Required)Select class registration (select one class):(Required)\n								\n								04/01/2026 - 04/03/2026 | 09:00 AM - 05:00 PM\n							\n								\n								12/07/2026 - 12/09/2026 | 09:00 AM - 05:00 PM\n							Are you a GGP Member?(Required)\n			\n					\n					Yes\n			\n			\n					\n					No\n			\n			\n					\n					Unknown\n			Comments - Please let us know what's on your mind. Have a question for GGP? Ask away!CAPTCHA\n          \n            \n            \n            \n            \n            \n            \n            \n            \n            \n            \n            \n            \n            \n        \n                        \n                        \n\nCourse Details\nBrand: Mile2\nExam: Mile2 ISCAP\nCEU Credits: 2.1\nCourse Hours: 21\nNumber of Days: 3\nCourse PDF
URL:https://geaugagrowthpartnership.com/event/iscap-information-security-accreditation-and-certification-professional-2/
CATEGORIES:All GGP Events,Workforce Development
END:VEVENT
BEGIN:VEVENT
DTSTART;TZID=America/New_York:20261207T090000
DTEND;TZID=America/New_York:20261211T170000
DTSTAMP:20260425T074951
CREATED:20260319T191412Z
LAST-MODIFIED:20260406T153021Z
UID:9170-1796634000-1797008400@geaugagrowthpartnership.com
SUMMARY:C)ISSO: Information Systems Security Officer
DESCRIPTION:Description\nIf you are look for the “gotta have it” cybersecurity course\, then the Certified Information Systems Security Officer is for you. The C)ISSO will prepare you with a broad range of knowledge and skills required of a security officer. However\, these skills can be applied across a broad range of role-based careers. \nA C)ISSO is able to implement and maintain cost-effective security controls that are closely aligned with business and industry standards. The C)ISSO certification course is an ideal way to increase knowledge\, expertise\, and skill for managers\, auditors\, and INFOSEC professionals. The things you learn in this course can be applied to management\, prevention teams\, and recovery professionals. \n  \nObjectives\nUpon successful completion of this course\, students will not only be able to establish industry-acceptable Cyber Security & IS management standards with current best practices but also be prepared to competently take the CISSO exam. \n  \nPre-Requisites\n\nC)SP\nC)ISSM\n12 months of Information Systems Management Experience\n\n\n                \n                        \n                            Virtual - C)ISSO: Information Systems Security Officer\n                             \n                        \n                        Attendee Name(Required)\n                            \n                            \n                                                    \n                                                    First\n                                                \n                            \n                            \n                                                    \n                                                    Last\n                                                \n                            \n                        Company Name(Required)Email(Required)\n                            \n                        Phone(Required)Select class registration (select one class):(Required)\n								\n								04/06/2026 - 04/10/2026 | 09:00 AM - 05:00 PM\n							\n								\n								08/03/2026 - 08/07/2026 | 09:00 AM - 05:00 PM\n							\n								\n								09/28/2026 - 10/02/2026 | 09:00 AM - 05:00 PM\n							\n								\n								12/07/2026 - 12/11/2026 | 09:00 AM - 05:00 PM\n							Are you a GGP Member?(Required)\n			\n					\n					Yes\n			\n			\n					\n					No\n			\n			\n					\n					Unknown\n			Comments - Please let us know what's on your mind. Have a question for GGP? Ask away!CAPTCHA\n          \n            \n            \n            \n            \n            \n            \n            \n            \n            \n            \n            \n            \n            \n        \n                        \n                        \n\nCourse Details\nBrand: Mile2\nExam: Mile2 C)ISSO\nCEU Credits: 3.5\nCourse Hours: 35\nNumber of Days: 5\nCourse PDF
URL:https://geaugagrowthpartnership.com/event/cisso-information-systems-security-officer-4/
CATEGORIES:All GGP Events,Workforce Development
END:VEVENT
BEGIN:VEVENT
DTSTART;TZID=America/New_York:20261207T090000
DTEND;TZID=America/New_York:20261211T170000
DTSTAMP:20260425T074951
CREATED:20260319T220810Z
LAST-MODIFIED:20260406T153201Z
UID:9150-1796634000-1797008400@geaugagrowthpartnership.com
SUMMARY:Certified Artificial Intelligence (AI) Practitioner (CAIP)
DESCRIPTION:Description\nArtificial intelligence (AI) and machine learning (ML) have become an essential part of the toolset for many organizations. When used effectively\, these tools provide actionable insights that drive critical decisions and enable organizations to create exciting\, new\, and innovative products and services. This course shows you how to apply various approaches and algorithms to solve business problems through AI and ML\, follow a methodical workflow to develop sound solutions\, use open source\, off-the-shelf tools to develop\, test\, and deploy those solutions\, and ensure that they protect the privacy of users. \n  \nPre-Requisites\nTo ensure your success in this course\, you should have at least a high-level understanding of fundamental AI concepts\, including\, but not limited to machine learning\, supervised learning\, unsupervised learning\, artificial neural networks\, computer vision\, and natural language processing. You can obtain this level of knowledge by taking the AIBIZ™ (Exam AIZ-110) course. \nYou should also have experience working with databases and a high-level programming language such as Python\, Java\, or C/C++. \n\n                \n                        \n                            Virtual - Certified Artificial Intelligence (AI) Practitioner (CAIP)\n                             \n                        \n                        Attendee Name(Required)\n                            \n                            \n                                                    \n                                                    First\n                                                \n                            \n                            \n                                                    \n                                                    Last\n                                                \n                            \n                        Company Name(Required)Email(Required)\n                            \n                        Phone(Required)Select class registration (select one class):(Required)\n								\n								04/06/2026 - 04/10/2026 | 09:00 AM - 05:00 PM\n							\n								\n								08/03/2026 - 08/07/2026 | 09:00 AM - 05:00 PM\n							\n								\n								09/28/2026 - 10/02/2026 | 09:00 AM - 05:00 PM\n							\n								\n								12/07/2026 - 12/11/2026 | 09:00 AM - 05:00 PM\n							Are you a GGP Member?(Required)\n			\n					\n					Yes\n			\n			\n					\n					No\n			\n			\n					\n					Unknown\n			Comments - Please let us know what's on your mind. Have a question for GGP? Ask away!CAPTCHA\n          \n            \n            \n            \n            \n            \n            \n            \n            \n            \n            \n            \n            \n            \n        \n                        \n                        \n\nCourse Details\nBrand: CertNexus\nExam: CAIP\nCEU Credits: 3.5\nCourse Hours: 35\nNumber of Days: 5\nCourse PDF
URL:https://geaugagrowthpartnership.com/event/certified-artificial-intelligence-ai-practitioner-caip-3/
CATEGORIES:All GGP Events,Workforce Development
END:VEVENT
BEGIN:VEVENT
DTSTART;TZID=America/New_York:20261207T090000
DTEND;TZID=America/New_York:20261211T170000
DTSTAMP:20260425T074951
CREATED:20260320T124714Z
LAST-MODIFIED:20260420T145029Z
UID:9077-1796634000-1797008400@geaugagrowthpartnership.com
SUMMARY:CompTIA: PenTest+
DESCRIPTION:Description\nPenTest+ assesses the most up-to-date penetration testing\, and vulnerability assessment and management skills necessary to determine the resiliency of the network against attacks. \n  \nPre-Requisites\nCompTIA: Security+ or equivalent knowledge and experience. \n\n                \n                        \n                            Virtual - CompTIA: PenTest+\n                             \n                        \n                        Attendee Name(Required)\n                            \n                            \n                                                    \n                                                    First\n                                                \n                            \n                            \n                                                    \n                                                    Last\n                                                \n                            \n                        Company Name(Required)Email(Required)\n                            \n                        Phone(Required)Select class registration (select one class):(Required)\n								\n								06/15/2026 - 06/17/2026 | 09:00 AM - 05:00 PM\n							\n								\n								08/10/2026 - 08/12/2026 | 09:00 AM - 05:00 PM\n							\n								\n								12/07/2026 - 12/09/2026 | 09:00 AM - 05:00 PM\n							Are you a GGP Member?(Required)\n			\n					\n					Yes\n			\n			\n					\n					No\n			\n			\n					\n					Unknown\n			Comments - Please let us know what's on your mind. Have a question for GGP? Ask away!CAPTCHA\n          \n            \n            \n            \n            \n            \n            \n            \n            \n            \n            \n            \n            \n            \n        \n                        \n                        \n\nCourse Details\nBrand: CompTIA\nExam: CompTIA PenTest+\nCEU Credits: 3.5\nCourse Hours: 35\nNumber of Days: 5\nCourse PDF
URL:https://geaugagrowthpartnership.com/event/comptia-pentest-3/
CATEGORIES:All GGP Events,Workforce Development
END:VEVENT
END:VCALENDAR