BEGIN:VCALENDAR
VERSION:2.0
PRODID:-//Geauga Growth Partnership, Inc. - ECPv6.15.20//NONSGML v1.0//EN
CALSCALE:GREGORIAN
METHOD:PUBLISH
X-ORIGINAL-URL:https://geaugagrowthpartnership.com
X-WR-CALDESC:Events for Geauga Growth Partnership, Inc.
REFRESH-INTERVAL;VALUE=DURATION:PT1H
X-Robots-Tag:noindex
X-PUBLISHED-TTL:PT1H
BEGIN:VTIMEZONE
TZID:America/New_York
BEGIN:DAYLIGHT
TZOFFSETFROM:-0500
TZOFFSETTO:-0400
TZNAME:EDT
DTSTART:20250309T070000
END:DAYLIGHT
BEGIN:STANDARD
TZOFFSETFROM:-0400
TZOFFSETTO:-0500
TZNAME:EST
DTSTART:20251102T060000
END:STANDARD
BEGIN:DAYLIGHT
TZOFFSETFROM:-0500
TZOFFSETTO:-0400
TZNAME:EDT
DTSTART:20260308T070000
END:DAYLIGHT
BEGIN:STANDARD
TZOFFSETFROM:-0400
TZOFFSETTO:-0500
TZNAME:EST
DTSTART:20261101T060000
END:STANDARD
BEGIN:DAYLIGHT
TZOFFSETFROM:-0500
TZOFFSETTO:-0400
TZNAME:EDT
DTSTART:20270314T070000
END:DAYLIGHT
BEGIN:STANDARD
TZOFFSETFROM:-0400
TZOFFSETTO:-0500
TZNAME:EST
DTSTART:20271107T060000
END:STANDARD
END:VTIMEZONE
BEGIN:VEVENT
DTSTART;TZID=America/New_York:20261214T090000
DTEND;TZID=America/New_York:20261218T170000
DTSTAMP:20260425T111440
CREATED:20260319T222715Z
LAST-MODIFIED:20260320T151739Z
UID:9126-1797238800-1797613200@geaugagrowthpartnership.com
SUMMARY:CompTIA: A+ Core 2
DESCRIPTION:Description\nCompTIA A+ Core 2 is the second of two exams required to earn the industry-standard A+ certification\, a trusted credential for starting your tech career. This exam emphasizes essential skills in operating systems\, security\, software troubleshooting\, and operational procedures. Successfully passing Core 2 and Core 1 equips you for roles like IT support specialist and help desk technician while laying the foundation for advanced certifications like Network+ and Security+. \n \nObjectives\nUpon successful completion of this course\, students will: \n\nInstall\, configure\, and manage operating systems\, including Windows\, macOS\, and Linux.\nApply security measures to protect systems and mitigate threats.\nTroubleshoot software and operating system issues.\nFollow operational procedures for safety\, documentation\, and change management.\nImplement backup and recovery methods to ensure data integrity.\n\n \nPre-Requisites\nNone \n \nCourse Details\nBrand: CompTIA\nExam: CompTIA A+ Core 2 (220-1102)\nCEU Credits: 3.5\nCourse Hours: 35\nNumber of Days: 5\nCourse PDF
URL:https://geaugagrowthpartnership.com/event/comptia-a-core-2-4/
CATEGORIES:All GGP Events,Workforce Development
END:VEVENT
BEGIN:VEVENT
DTSTART;TZID=America/New_York:20261214T090000
DTEND;TZID=America/New_York:20261218T170000
DTSTAMP:20260425T111440
CREATED:20260320T123917Z
LAST-MODIFIED:20260406T154707Z
UID:9157-1797238800-1797613200@geaugagrowthpartnership.com
SUMMARY:CompTIA: Linux+
DESCRIPTION:Description\nIn this course\, you will cover: This course provides a comprehensive guide to common tasks performed by system administrators\, including installation\, customization\, and troubleshooting. Expanded coverage of networking and security provide everything you need to hit the ground running. This course maps to the LX0-101 and LX0-102 Linux+ Powered by LPI exams. \n  \nObjectives\nUpon successful completion of this course\, students will: \n\nIdentify Basic Linux Concepts\nAdminister Users and Groups\nConfigure Permissions\nImplement File Management\nAuthor Text Files\nDeploy Software\nAdminister Storage\nManage the Linux Kernel and Devices\nMaintain Services\nConfigure Network Settings\nSecure a Linux System\nInstall Linux\nScript with Bash and Python\nManage Containers in Linux\nAutomate Infrastructure Management\n\n  \nPre-Requisites\nTo ensure your success in this course\, you should have at least 12 months of hands-on experience working with Linux servers. CompTIA A+\, Network+\, and Server+ certifications\, or the equivalent knowledge\, are strongly recommended. \n\n\n                \n                        \n                            Virtual - CompTIA: Linux+\n                             \n                        \n                        Attendee Name(Required)\n                            \n                            \n                                                    \n                                                    First\n                                                \n                            \n                            \n                                                    \n                                                    Last\n                                                \n                            \n                        Company Name(Required)Email(Required)\n                            \n                        Phone(Required)Select class registration (select one class):(Required)\n								\n								04/06/2026 - 04/10/2026 | 09:00 AM - 05:00 PM\n							\n								\n								08/03/2026 - 08/07/2026 | 09:00 AM - 05:00 PM\n							\n								\n								09/14/2026 - 09/18/2026 | 09:00 AM - 05:00 PM\n							\n								\n								12/14/2026 - 12/18/2026 | 09:00 AM - 05:00 PM\n							Are you a GGP Member?(Required)\n			\n					\n					Yes\n			\n			\n					\n					No\n			\n			\n					\n					Unknown\n			Comments - Please let us know what's on your mind. Have a question for GGP? Ask away!CAPTCHA\n          \n            \n            \n            \n            \n            \n            \n            \n            \n            \n            \n            \n            \n            \n        \n                        \n                        \n\nCourse Details\nBrand: CompTIA\nExam: CompTIA Linux+\nCEU Credits: 3.5\nCourse Hours: 35\nNumber of Days: 5\nCourse PDF
URL:https://geaugagrowthpartnership.com/event/comptia-linux-2/
CATEGORIES:All GGP Events,Workforce Development
END:VEVENT
BEGIN:VEVENT
DTSTART;TZID=America/New_York:20261214T090000
DTEND;TZID=America/New_York:20261218T170000
DTSTAMP:20260425T111440
CREATED:20260320T130241Z
LAST-MODIFIED:20260406T160235Z
UID:9160-1797238800-1797613200@geaugagrowthpartnership.com
SUMMARY:CompTIA: Server+
DESCRIPTION:Description\nIn this course you will cover: different types of servers; identification of hardware and software components used in servers; installation of servers in a network environment; configuring servers and checking and upgrading BIOS and firmware levels; preventative maintenance measures including setting SNMP thresholds; upgrading server hardware and software; exploration of environmental issues surrounding servers; troubleshooting servers & exploring disaster recovery concepts and techniques. \n  \nPre-Requisites\nWindows Level 1\, A+ Hardware Fundamentals\, A+ Operating Systems Fundamentals and Network+ Certification \n\n                \n                        \n                            Virtual - CompTIA: Server+\n                             \n                        \n                        Attendee Name(Required)\n                            \n                            \n                                                    \n                                                    First\n                                                \n                            \n                            \n                                                    \n                                                    Last\n                                                \n                            \n                        Company Name(Required)Email(Required)\n                            \n                        Phone(Required)Select class registration (select one class):(Required)\n								\n								04/06/2026 - 04/10/2026 | 09:00 AM - 05:00 PM\n							\n								\n								07/13/2026 - 07/17/2026 | 09:00 AM - 05:00 PM\n							\n								\n								12/14/2026 - 12/18/2026 | 09:00 AM - 05:00 PM\n							Are you a GGP Member?(Required)\n			\n					\n					Yes\n			\n			\n					\n					No\n			\n			\n					\n					Unknown\n			Comments - Please let us know what's on your mind. Have a question for GGP? Ask away!CAPTCHA\n          \n            \n            \n            \n            \n            \n            \n            \n            \n            \n            \n            \n            \n            \n        \n                        \n                        \n\nCourse Details\nBrand: CompTIA\nExam: CompTIA Server+\nCEU Credits: 3.5\nCourse Hours: 35\nNumber of Days: 5\nCourse PDF
URL:https://geaugagrowthpartnership.com/event/comptia-server-3/
CATEGORIES:All GGP Events,Workforce Development
END:VEVENT
BEGIN:VEVENT
DTSTART;TZID=America/New_York:20261214T090000
DTEND;TZID=America/New_York:20261218T170000
DTSTAMP:20260425T111440
CREATED:20260320T130245Z
LAST-MODIFIED:20260406T160242Z
UID:9161-1797238800-1797613200@geaugagrowthpartnership.com
SUMMARY:CompTIA: Server+
DESCRIPTION:Description\nIn this course you will cover: different types of servers; identification of hardware and software components used in servers; installation of servers in a network environment; configuring servers and checking and upgrading BIOS and firmware levels; preventative maintenance measures including setting SNMP thresholds; upgrading server hardware and software; exploration of environmental issues surrounding servers; troubleshooting servers & exploring disaster recovery concepts and techniques. \n  \nPre-Requisites\nWindows Level 1\, A+ Hardware Fundamentals\, A+ Operating Systems Fundamentals and Network+ Certification \n\n                \n                        \n                            Virtual - CompTIA: Server+\n                             \n                        \n                        Attendee Name(Required)\n                            \n                            \n                                                    \n                                                    First\n                                                \n                            \n                            \n                                                    \n                                                    Last\n                                                \n                            \n                        Company Name(Required)Email(Required)\n                            \n                        Phone(Required)Select class registration (select one class):(Required)\n								\n								04/06/2026 - 04/10/2026 | 09:00 AM - 05:00 PM\n							\n								\n								07/13/2026 - 07/17/2026 | 09:00 AM - 05:00 PM\n							\n								\n								12/14/2026 - 12/18/2026 | 09:00 AM - 05:00 PM\n							Are you a GGP Member?(Required)\n			\n					\n					Yes\n			\n			\n					\n					No\n			\n			\n					\n					Unknown\n			Comments - Please let us know what's on your mind. Have a question for GGP? Ask away!CAPTCHA\n          \n            \n            \n            \n            \n            \n            \n            \n            \n            \n            \n            \n            \n            \n        \n                        \n                        \n\nCourse Details\nBrand: CompTIA\nExam: CompTIA Server+\nCEU Credits: 3.5\nCourse Hours: 35\nNumber of Days: 5\nCourse PDF
URL:https://geaugagrowthpartnership.com/event/comptia-server-4/
CATEGORIES:All GGP Events,Workforce Development
END:VEVENT
BEGIN:VEVENT
DTSTART;TZID=America/New_York:20261215T090000
DTEND;TZID=America/New_York:20261217T170000
DTSTAMP:20260425T111440
CREATED:20260319T221437Z
LAST-MODIFIED:20260420T144239Z
UID:9070-1797325200-1797526800@geaugagrowthpartnership.com
SUMMARY:Certified IoT Security Practitioner (CIoTSP)
DESCRIPTION:Description\nIn this course\, you will cover IoT security concepts while providing ample opportunities to practice the required skills of an IoT security professional. This course is designed for practitioners who are seeking to demonstrate a vendor-neutral\, cross-industry skill set that will enable them to design\, implement\, operate\, and/or manage a secure IoT ecosystem. \n  \nPre-Requisites\nIt is recommended that you should have a fundamental understanding of IoT ecosystems\, which you can obtain by taking the following CertNexus course: Certified Internet of Things (IoT) Practitioner (Exam ITP-110). \n\n                \n                        \n                            Virtual - Certified IoT Security Practitioner (CIoTSP)\n                             \n                        \n                        Attendee Name(Required)\n                            \n                            \n                                                    \n                                                    First\n                                                \n                            \n                            \n                                                    \n                                                    Last\n                                                \n                            \n                        Company Name(Required)Email(Required)\n                            \n                        Phone(Required)Select class registration (select one class):(Required)\n								\n								06/02/2026 - 06/04/2026 | 09:00 AM - 05:00 PM\n							\n								\n								09/16/2026 - 09/18/2026 | 09:00 AM - 05:00 PM\n							\n								\n								12/15/2026 - 12/17/2026 | 09:00 AM - 05:00 PM\n							Are you a GGP Member?(Required)\n			\n					\n					Yes\n			\n			\n					\n					No\n			\n			\n					\n					Unknown\n			Comments - Please let us know what's on your mind. Have a question for GGP? Ask away!CAPTCHA\n          \n            \n            \n            \n            \n            \n            \n            \n            \n            \n            \n            \n            \n            \n        \n                        \n                        \n\nCourse Details\nBrand: CertNexus\nExam: CIoTSP\nCEU Credits: 2.1\nCourse Hours: 21\nNumber of Days: 3\nCourse PDF
URL:https://geaugagrowthpartnership.com/event/certified-iot-security-practitioner-ciotsp-4/
CATEGORIES:All GGP Events,Workforce Development
END:VEVENT
BEGIN:VEVENT
DTSTART;TZID=America/New_York:20261215T090000
DTEND;TZID=America/New_York:20261218T170000
DTSTAMP:20260425T111440
CREATED:20260319T175101Z
LAST-MODIFIED:20260406T160906Z
UID:9086-1797325200-1797613200@geaugagrowthpartnership.com
SUMMARY:AZ-305T00: Designing Microsoft Azure Infrastructure Solutions
DESCRIPTION:Description\nIn this course\, you will cover governance\, compute\, application architecture\, storage\, data integration\, authentication\, networks\, business continuity\, and migrations. The course combines lecture with case studies to demonstrate basic architect design principles. \n  \nObjectives\n\nDesign a governance solution.\nDesign a compute solution.\nDesign an application architecture.\nDesign storage\, non-relational and relational.\nDesign data integration solutions.\nDesign authentication\, authorization\, and identity solutions.\nDesign network solutions.\nDesign backup and disaster recovery solutions.\nDesign monitoring solutions.\nDesign migration solutions.\n\n  \nPre-Requisites\nBefore attending this course\, students must have previous experience deploying or administering Azure resources and strong conceptual knowledge of: \n\nAzure Active Directory\nAzure compute technologies such as VMs\, containers and serverless solutions\nAzure virtual networking to include load balancers\nAzure Storage technologies (unstructured and databases)\nGeneral application design concepts such as messaging and high availability\n\nPrerequisite courses (or equivalent knowledge and hands-on experience): This free online training will give you the experience you need to be successful in this course. \n\nAZ-104T00: Microsoft Azure Administrator\n\n\n                \n                        \n                            Virtual - AZ-305T00: Designing Microsoft Azure Infrastructure Solutions\n                             \n                        \n                        Attendee Name(Required)\n                            \n                            \n                                                    \n                                                    First\n                                                \n                            \n                            \n                                                    \n                                                    Last\n                                                \n                            \n                        Company Name(Required)Email(Required)\n                            \n                        Phone(Required)Select class registration (select one class):(Required)\n								\n								04/06/2026 - 04/09/2026 | 10:00 AM - 06:00 PM\n							\n								\n								06/01/2026 - 06/04/2026 | 10:00 AM - 06:00 PM\n							\n								\n								06/15/2026 - 06/18/2026 | 10:00 AM - 06:00 PM\n							\n								\n								08/04/2026 - 08/07/2026 | 09:00 AM - 05:00 PM\n							\n								\n								09/01/2026 - 09/04/2026 | 09:00 AM - 05:00 PM\n							\n								\n								10/06/2026 - 10/09/2026 | 09:00 AM - 05:00 PM\n							\n								\n								11/10/2026 - 11/13/2026 | 09:00 AM - 05:00 PM\n							\n								\n								12/15/2026 - 12/18/2026 | 09:00 AM - 05:00 PM\n							Are you a GGP Member?(Required)\n			\n					\n					Yes\n			\n			\n					\n					No\n			\n			\n					\n					Unknown\n			Comments - Please let us know what's on your mind. Have a question for GGP? Ask away!CAPTCHA\n          \n            \n            \n            \n            \n            \n            \n            \n            \n            \n            \n            \n            \n            \n        \n                        \n                        \n\nCourse Details\nBrand: Microsoft\nExam: Exam AZ-305: Designing Microsoft Azure Infrastructure Solutions\nCEU Credits: 2.8\nCourse Hours: 28\nNumber of Days: 4\nCourse PDF
URL:https://geaugagrowthpartnership.com/event/az-305t00-designing-microsoft-azure-infrastructure-solutions-9/
CATEGORIES:All GGP Events,Workforce Development
END:VEVENT
END:VCALENDAR