BEGIN:VCALENDAR
VERSION:2.0
PRODID:-//Geauga Growth Partnership, Inc. - ECPv6.15.20//NONSGML v1.0//EN
CALSCALE:GREGORIAN
METHOD:PUBLISH
X-WR-CALNAME:Geauga Growth Partnership, Inc.
X-ORIGINAL-URL:https://geaugagrowthpartnership.com
X-WR-CALDESC:Events for Geauga Growth Partnership, Inc.
REFRESH-INTERVAL;VALUE=DURATION:PT1H
X-Robots-Tag:noindex
X-PUBLISHED-TTL:PT1H
BEGIN:VTIMEZONE
TZID:America/New_York
BEGIN:DAYLIGHT
TZOFFSETFROM:-0500
TZOFFSETTO:-0400
TZNAME:EDT
DTSTART:20240310T070000
END:DAYLIGHT
BEGIN:STANDARD
TZOFFSETFROM:-0400
TZOFFSETTO:-0500
TZNAME:EST
DTSTART:20241103T060000
END:STANDARD
BEGIN:DAYLIGHT
TZOFFSETFROM:-0500
TZOFFSETTO:-0400
TZNAME:EDT
DTSTART:20250309T070000
END:DAYLIGHT
BEGIN:STANDARD
TZOFFSETFROM:-0400
TZOFFSETTO:-0500
TZNAME:EST
DTSTART:20251102T060000
END:STANDARD
BEGIN:DAYLIGHT
TZOFFSETFROM:-0500
TZOFFSETTO:-0400
TZNAME:EDT
DTSTART:20260308T070000
END:DAYLIGHT
BEGIN:STANDARD
TZOFFSETFROM:-0400
TZOFFSETTO:-0500
TZNAME:EST
DTSTART:20261101T060000
END:STANDARD
END:VTIMEZONE
BEGIN:VEVENT
DTSTART;TZID=America/New_York:20250501T090000
DTEND;TZID=America/New_York:20250501T090000
DTSTAMP:20260425T234011
CREATED:20241213T210040Z
LAST-MODIFIED:20250328T142841Z
UID:6919-1746090000-1746090000@geaugagrowthpartnership.com
SUMMARY:Virtual - Microsoft Office 365 Online with Teams for the Desktop
DESCRIPTION:Course Description:\nThis course is designed to help you master Microsoft Teams®\, the key communications tool in the suite of Microsoft 365® productivity apps. Microsoft Teams enables individuals and organizations to chat\, share ideas\, collaborate on files\, and essentially\, work together. You can use Teams to have a quick chat with a colleague\, participate in a virtual meeting\, make an online call\, and share files and resources. You can also create and configure Teams to suit your business productivity needs. The Microsoft Teams app is available in three versions: a desktop app\, a web app\, and a mobile app. Once you are familiar with the Teams desktop app\, you can easily transfer that knowledge and work in the web and mobile apps to take advantage of connecting through Teams wherever your work takes you. \nCourse Objectives:\nUpon course completion\, student will be able to:\n• Communicate with colleagues in Teams.\n• Call and meet with people in Teams.\n• Lead a meeting.\n• Configure your Teams environment.\n• Share files and app content.\n• Create and configure Teams. \nPrerequisites:\nTo ensure your success in this course\, you need to be familiar with the Windows® operating system and with using a web browser. \nClick the following link for a detailed course description: Microsoft_Office_365_Online_with_Teams_for_the_Desktop \nCourse Price: $399 \n\n\n                \n                        \n                            Virtual - Microsoft Office 365 Online with Teams for the Desktop\n                             \n                        \n                        Attendee Name(Required)\n                            \n                            \n                                                    \n                                                    First\n                                                \n                            \n                            \n                                                    \n                                                    Last\n                                                \n                            \n                        Company Name(Required)Email(Required)\n                            \n                        Phone(Required)Select class registration (select one class):(Required)\n								\n								5/1/2025 | 9:00 AM - 5:00 PM\n							\n								\n								7/24/2025 | 9:00 AM - 5:00 PM\n							\n								\n								11/20/2025 | 9:00 AM - 5:00 PM\n							Are you a GGP Member?(Required)\n			\n					\n					Yes\n			\n			\n					\n					No\n			\n			\n					\n					Unknown\n			Comments - Please let us know what's on your mind. Have a question for GGP? Ask away!CAPTCHA\n          \n            \n            \n            \n            \n            \n            \n            \n            \n            \n            \n            \n            \n            \n        \n                        \n                        \n\nPlease contact the Geauga Growth Partnership (GGP) office if you have any questions.\n440-564-1060 or info@geaugagrowth.com. \nThis course is TechCred eligible for reimbursement! Learn more and see if you qualify by clicking here: FAQ | TechCred \nRegistration closes one week before the class date. If you’re interested in registering within a week of the class\, please contact a member of the Geauga Growth Partnership team for availability. Contact information: 440-564-1060 | info@geaugagrowth.com \nGeauga Growth Partnership Board of Directors is dedicated to providing a positive and respectful environment for all event and training participants. GGP employees\, members\, guests of members\, attendees\, speakers\, sponsors\, and volunteers are expected to observe high standards of behavior and personal ethics in their conduct at any GGP event or training. \nAnyone engaging in inappropriate behavior during these events or trainings will be asked by a GGP representative to discontinue the offensive behavior immediately. Should the behavior continue or if the behavior is deemed severe enough\, the individual(s) will be removed from the event or training (without a refund) and may be denied entry to future events or trainings.
URL:https://geaugagrowthpartnership.com/event/virtual-excel-2019-level-3/
LOCATION:Virtual Event
CATEGORIES:All GGP Events,Virtual Training,Workforce Development
END:VEVENT
BEGIN:VEVENT
DTSTART;TZID=America/New_York:20250502T090000
DTEND;TZID=America/New_York:20250502T170000
DTSTAMP:20260425T234011
CREATED:20241220T144921Z
LAST-MODIFIED:20250328T142806Z
UID:6974-1746176400-1746205200@geaugagrowthpartnership.com
SUMMARY:Virtual - Business Writing for Executives
DESCRIPTION:Course Description: Write emails\, memos\, and letters with confidence\, clarity\, and style. Rather than struggling to connect with your audience\, start with the end in mind\, and unlock the tools needed for concise communication. This Business Writing Course offers a practical guide to business writing. We do not just talk about writing; we write! Backed by dozens of examples that show the transformation of the cryptic and bloated into the streamlined and meaningful. Furthermore\, spelling and grammar alone are not enough to craft a clear message. We must be clear with our purpose\, understand how the message connects with our reader\, and adjust our phrasing and tone accordingly. Only then\, will the mechanics of writing come to our aid. \nNASBA Information:\nLevel: Intermediate\nFields: Management Services\nCPEs: 14 \nDoD FM Competencies:\nProficiency Level: Written Communication\nDoD FM Competency: Lead Self \nClick the following link for a detailed course description: Business_Writing_For_Executives \nCourse Price: $598 \nRegistration closes one week before the class date. If you’re interested in registering within a week of the class\, please contact a member of the Geauga Growth Partnership team for availability. Contact information: 440-564-1060 | info@geaugagrowth.com \n\n                \n                        \n                            Virtual - Business Writing for Executives\n                             \n                        \n                        Attendee Name(Required)\n                            \n                            \n                                                    \n                                                    First\n                                                \n                            \n                            \n                                                    \n                                                    Last\n                                                \n                            \n                        Company Name(Required)Email(Required)\n                            \n                        Phone(Required)Select class registration (select one class):(Required)\n								\n								1/27/2025 | 9:00 AM - 5:00 PM\n							\n								\n								5/2/2025 | 9:00 AM - 5:00 PM\n							Are you a GGP Member?(Required)\n			\n					\n					Yes\n			\n			\n					\n					No\n			\n			\n					\n					Unknown\n			Comments - Please let us know what's on your mind. Have a question for GGP? Ask away!CAPTCHA\n          \n            \n            \n            \n            \n            \n            \n            \n            \n            \n            \n            \n            \n            \n        \n                        \n                        \n\nPlease contact the Geauga Growth Partnership (GGP) office if you have any questions.\n440-564-1060 or info@geaugagrowth.com. \nGeauga Growth Partnership Board of Directors is dedicated to providing a positive and respectful environment for all event and training participants. GGP employees\, members\, guests of members\, attendees\, speakers\, sponsors\, and volunteers are expected to observe high standards of behavior and personal ethics in their conduct at any GGP event or training. \nAnyone engaging in inappropriate behavior during these events or trainings will be asked by a GGP representative to discontinue the offensive behavior immediately. Should the behavior continue or if the behavior is deemed severe enough\, the individual(s) will be removed from the event or training (without a refund) and may be denied entry to future events or trainings.
URL:https://geaugagrowthpartnership.com/event/virtual-business-writing-for-executives-2/
LOCATION:Virtual Event
CATEGORIES:All GGP Events,Virtual Training,Workforce Development
END:VEVENT
BEGIN:VEVENT
DTSTART;TZID=America/New_York:20250506T090000
DTEND;TZID=America/New_York:20250506T170000
DTSTAMP:20260425T234011
CREATED:20241212T001842Z
LAST-MODIFIED:20250422T192914Z
UID:6865-1746522000-1746550800@geaugagrowthpartnership.com
SUMMARY:Virtual - Excel 2019 Level 1
DESCRIPTION:Course Description: The Computer Workshop writes their own curriculum for Excel making it easy to customize a class specific to your needs. Many think they are past the basics\, but our course has many valuable shortcuts and quick data entry methods built in to give you a good foundation. So even if you have used Excel for a number of years\, it is worth taking the Level 1 class. Our course will make ordinary tasks much easier for you to accomplish\, and in much less time. \nAt Course Completion: Upon successful completion of this course\, you will be able to customize the interface to better suit\nyour needs\, create lists\, efficiently develop Excel worksheets and workbooks\, use basic excel function\nformulas\, apply formatting to content\, create customize number formats\, control how spreadsheets\nare printed\, as well as be able to find and replace content. \nPrerequisites: None \nClick the following link for a detailed course description: Microsoft Excel_2019_Level_1 \nCourse Price: $279 \n\n                \n                        \n                            Virtual - Excel Level 1\n                             \n                        \n                        Attendee Name(Required)\n                            \n                            \n                                                    \n                                                    First\n                                                \n                            \n                            \n                                                    \n                                                    Last\n                                                \n                            \n                        Company Name(Required)Email(Required)\n                            \n                        Phone(Required)Select class registration (select one class):(Required)\n								\n								Excel 365 Level 1 | 03/10/2026| 09:00 AM - 05:00 PM\n							\n								\n								Excel 365 Level 1 | 04/25/2026 - 05/02/2026| 01:00 PM - 04:30 PM\n							\n								\n								Excel 365 Level 1 | 04/29/2026| 09:00 AM - 05:00 PM\n							Are you a GGP Member?(Required)\n			\n					\n					Yes\n			\n			\n					\n					No\n			\n			\n					\n					Unknown\n			Comments - Please let us know what's on your mind. Have a question for GGP? Ask away!CAPTCHA\n          \n            \n            \n            \n            \n            \n            \n            \n            \n            \n            \n            \n            \n            \n        \n                        \n                        \n\nPlease contact the Geauga Growth Partnership (GGP) office if you have any questions.\n440-564-1060 or info@geaugagrowth.com. \nThis course is TechCred eligible for reimbursement! Learn more and see if you qualify by clicking here: FAQ | TechCred \nRegistration closes one week before the class date. If you’re interested in registering within a week of the class\, please contact a member of the Geauga Growth Partnership team for availability. Contact information: 440-564-1060 | info@geaugagrowth.com \nGeauga Growth Partnership Board of Directors is dedicated to providing a positive and respectful environment for all event and training participants. GGP employees\, members\, guests of members\, attendees\, speakers\, sponsors\, and volunteers are expected to observe high standards of behavior and personal ethics in their conduct at any GGP event or training. \nAnyone engaging in inappropriate behavior during these events or trainings will be asked by a GGP representative to discontinue the offensive behavior immediately. Should the behavior continue or if the behavior is deemed severe enough\, the individual(s) will be removed from the event or training (without a refund) and may be denied entry to future events or trainings.
URL:https://geaugagrowthpartnership.com/event/virtual-excel-2019-level-1-3/
LOCATION:Virtual Event
CATEGORIES:All GGP Events,Virtual Training,Workforce Development
END:VEVENT
BEGIN:VEVENT
DTSTART;TZID=America/New_York:20250514T090000
DTEND;TZID=America/New_York:20250514T170000
DTSTAMP:20260425T234011
CREATED:20241220T151659Z
LAST-MODIFIED:20250422T193653Z
UID:6953-1747213200-1747242000@geaugagrowthpartnership.com
SUMMARY:Virtual - MS-4005: Craft effective prompts for Microsoft Copilot for Microsoft 365
DESCRIPTION:Course Description: Discover ways to craft effective and contextual prompts for Microsoft Copilot for Microsoft 365 that create\, simplify\, transform\, and compile content across Microsoft 365 applications. Learn the importance of providing a clear goal\, context\, source\, and expectation in your prompt for the best results. This course covers real world scenarios and examples using Copilot in Microsoft 365 apps like Word\, Excel\, PowerPoint\, Teams\, Outlook\, OneNote\, and Chat. \nPrerequisites:\nLearners should be familiar working in Microsoft 365 apps like Word\, Excel\, and PowerPoint. This course is intended for all types of users working with Microsoft Copilot for Microsoft 365. \nTarget Audience:\nBusiness User \nClick the following link for a detailed course description: MS_4005_Craft_effective_prompts_for_Microsoft_Copilot \nCourse Price: $579 \n\n                \n                        \n                            Virtual - MS-4005: Craft effective prompts for Microsoft Copilot for Microsoft 365\n                             \n                        \n                        Attendee Name(Required)\n                            \n                            \n                                                    \n                                                    First\n                                                \n                            \n                            \n                                                    \n                                                    Last\n                                                \n                            \n                        Company Name(Required)Email(Required)\n                            \n                        Phone(Required)Select class registration (select one class):(Required)\n								\n								1/15/2025 | 9:00 AM - 5:00 PM\n							\n								\n								5/14/2025 | 9:00 AM - 5:00 PM\n							\n								\n								9/10/2025 | 9:00 AM - 5:00 PM\n							Are you a GGP Member?(Required)\n			\n					\n					Yes\n			\n			\n					\n					No\n			\n			\n					\n					Unknown\n			Comments - Please let us know what's on your mind. Have a question for GGP? Ask away!CAPTCHA\n          \n            \n            \n            \n            \n            \n            \n            \n            \n            \n            \n            \n            \n            \n        \n                        \n                        \n\nPlease contact the Geauga Growth Partnership (GGP) office if you have any questions.\n440-564-1060 or info@geaugagrowth.com. \nThis course is TechCred eligible for reimbursement! Learn more and see if you qualify by clicking here: FAQ | TechCred \nRegistration closes one week before the class date. If you’re interested in registering within a week of the class\, please contact a member of the Geauga Growth Partnership team for availability. Contact information: 440-564-1060 | info@geaugagrowth.com \nGeauga Growth Partnership Board of Directors is dedicated to providing a positive and respectful environment for all event and training participants. GGP employees\, members\, guests of members\, attendees\, speakers\, sponsors\, and volunteers are expected to observe high standards of behavior and personal ethics in their conduct at any GGP event or training. \nAnyone engaging in inappropriate behavior during these events or trainings will be asked by a GGP representative to discontinue the offensive behavior immediately. Should the behavior continue or if the behavior is deemed severe enough\, the individual(s) will be removed from the event or training (without a refund) and may be denied entry to future events or trainings.
URL:https://geaugagrowthpartnership.com/event/virtual-ms-4005-craft-effective-prompts-for-microsoft-copilot-for-microsoft-365-2/
LOCATION:Virtual Event
CATEGORIES:All GGP Events,Virtual Training,Workforce Development
END:VEVENT
BEGIN:VEVENT
DTSTART;TZID=America/New_York:20250515T083000
DTEND;TZID=America/New_York:20250515T170000
DTSTAMP:20260425T234011
CREATED:20250206T015904Z
LAST-MODIFIED:20250425T162417Z
UID:7178-1747297800-1747328400@geaugagrowthpartnership.com
SUMMARY:Ravenwood Health Community Summit: Strategies for Employee Wellness
DESCRIPTION:Click here to learn more about Ravenwood Health and for a full description of the May 15\, 2025 Community Summit.  Each session will be led by a licensed professional from Ravenwood Health\, ensuring expert guidance and actionable insights. \nScan the QR Code above or Register here!\nPlease email info@ravenwoodhealth.org with any questions \nAs a Supporting Sponsor of the event\, Geauga Growth Partnership is assisting with registration. \n \nEach of the six workshops has been approved for SHRM credits. Individuals seeking SHRM credits will be able to attend their choice of 4 of the workshops.\nLake/Geauga Area Chapter\, SHRM is recognized by SHRM to offer Professional Development Credits (PDCs) for SHRM-CP® or SHRMSCP®.
URL:https://geaugagrowthpartnership.com/event/ravenwood-health-community-summit-presents-strategies-for-employee-wellness/
LOCATION:Basil Place\, 13271 Bass Lake Rd\, Chardon\, OH\, 44024
CATEGORIES:All GGP Events,Employee Wellness,In-person Training
END:VEVENT
BEGIN:VEVENT
DTSTART;TZID=America/New_York:20250519T090000
DTEND;TZID=America/New_York:20250519T170000
DTSTAMP:20260425T234011
CREATED:20241213T210623Z
LAST-MODIFIED:20250422T194107Z
UID:6909-1747645200-1747674000@geaugagrowthpartnership.com
SUMMARY:Virtual - Excel 2019 Level 3
DESCRIPTION:Course Description: In this course\, you will cover how to create and work with Macros and VBA Programming\, as well as how to add Form Controls and how to assign a Macro to a Form Control. In addition\, you will learn about formula auditing\, and will learn about common errors\, how to correct them\, and how to use the Watch Window to see changes in formulas. You will work with creating and modifying hyperlinks\, get data from the internet\, as well as learn how to save workbooks\, worksheets\, charts and ranges as web pages. You will create custom styles and learn how to use advanced conditional formatting. Finally you will learn how to create and use a shared workbook\, including how to protect\, consolidate and resolve editing conflicts in a shared workbook. \nClick the following link for a detailed course description: Excel_2019_Level_3 \nCourse Price: $299 \n\n                \n                        \n                            Virtual - Excel Level 3\n                             \n                        \n                        Attendee Name(Required)\n                            \n                            \n                                                    \n                                                    First\n                                                \n                            \n                            \n                                                    \n                                                    Last\n                                                \n                            \n                        Company Name(Required)Email(Required)\n                            \n                        Phone(Required)Select class registration (select one class):(Required)\n								\n								Excel 365 Level 3 | 03/17/2026| 09:00 AM - 05:00 PM\n							Are you a GGP Member?(Required)\n			\n					\n					Yes\n			\n			\n					\n					No\n			\n			\n					\n					Unknown\n			Comments - Please let us know what's on your mind. Have a question for GGP? Ask away!CAPTCHA\n          \n            \n            \n            \n            \n            \n            \n            \n            \n            \n            \n            \n            \n            \n        \n                        \n                        \n\nPlease contact the Geauga Growth Partnership (GGP) office if you have any questions.\n440-564-1060 or info@geaugagrowth.com. \nThis course is TechCred eligible for reimbursement! Learn more and see if you qualify by clicking here: FAQ | TechCred \nRegistration closes one week before the class date. If you’re interested in registering within a week of the class\, please contact a member of the Geauga Growth Partnership team for availability. Contact information: 440-564-1060 | info@geaugagrowth.com \nGeauga Growth Partnership Board of Directors is dedicated to providing a positive and respectful environment for all event and training participants. GGP employees\, members\, guests of members\, attendees\, speakers\, sponsors\, and volunteers are expected to observe high standards of behavior and personal ethics in their conduct at any GGP event or training. \nAnyone engaging in inappropriate behavior during these events or trainings will be asked by a GGP representative to discontinue the offensive behavior immediately. Should the behavior continue or if the behavior is deemed severe enough\, the individual(s) will be removed from the event or training (without a refund) and may be denied entry to future events or trainings.
URL:https://geaugagrowthpartnership.com/event/virtual-excel-2019-level-3-6/
LOCATION:Virtual Event
CATEGORIES:All GGP Events,Virtual Training,Workforce Development
END:VEVENT
END:VCALENDAR