BEGIN:VCALENDAR
VERSION:2.0
PRODID:-//Geauga Growth Partnership, Inc. - ECPv6.15.20//NONSGML v1.0//EN
CALSCALE:GREGORIAN
METHOD:PUBLISH
X-WR-CALNAME:Geauga Growth Partnership, Inc.
X-ORIGINAL-URL:https://geaugagrowthpartnership.com
X-WR-CALDESC:Events for Geauga Growth Partnership, Inc.
REFRESH-INTERVAL;VALUE=DURATION:PT1H
X-Robots-Tag:noindex
X-PUBLISHED-TTL:PT1H
BEGIN:VTIMEZONE
TZID:America/New_York
BEGIN:DAYLIGHT
TZOFFSETFROM:-0500
TZOFFSETTO:-0400
TZNAME:EDT
DTSTART:20240310T070000
END:DAYLIGHT
BEGIN:STANDARD
TZOFFSETFROM:-0400
TZOFFSETTO:-0500
TZNAME:EST
DTSTART:20241103T060000
END:STANDARD
BEGIN:DAYLIGHT
TZOFFSETFROM:-0500
TZOFFSETTO:-0400
TZNAME:EDT
DTSTART:20250309T070000
END:DAYLIGHT
BEGIN:STANDARD
TZOFFSETFROM:-0400
TZOFFSETTO:-0500
TZNAME:EST
DTSTART:20251102T060000
END:STANDARD
BEGIN:DAYLIGHT
TZOFFSETFROM:-0500
TZOFFSETTO:-0400
TZNAME:EDT
DTSTART:20260308T070000
END:DAYLIGHT
BEGIN:STANDARD
TZOFFSETFROM:-0400
TZOFFSETTO:-0500
TZNAME:EST
DTSTART:20261101T060000
END:STANDARD
END:VTIMEZONE
BEGIN:VTIMEZONE
TZID:UTC
BEGIN:STANDARD
TZOFFSETFROM:+0000
TZOFFSETTO:+0000
TZNAME:UTC
DTSTART:20240101T000000
END:STANDARD
END:VTIMEZONE
BEGIN:VEVENT
DTSTART;TZID=America/New_York:20250602T090000
DTEND;TZID=America/New_York:20250605T170000
DTSTAMP:20260425T215819
CREATED:20241211T214813Z
LAST-MODIFIED:20250514T185452Z
UID:6821-1748854800-1749142800@geaugagrowthpartnership.com
SUMMARY:Virtual - Introduction to Python 3.x
DESCRIPTION:Course Description: This four-day course leads the student from the basics of writing and running Python scripts to more\nadvanced features such as file operations\, regular expressions\, working with binary data\, and using\nthe extensive functionality of Python modules. Extra emphasis is placed on features unique to\nPython\, such as tuples\, array slices\, and output formatting. This is a hands-on programming class.\nAll concepts are reinforced by informal practice during the lecture followed by graduated lab\nexercises. Python Programming is a practical introduction to a working programming language\, not\nan academic overview of syntax and grammar. Students will immediately be able to use Python to\ncomplete tasks in the real world. \nTarget Student: Users who want to learn Python and use it for application development\, system administration\, or\njust to automate tasks in a simple\, yet powerful way. \nPrerequisites: Working/user level knowledge of an operating system such as Linux\, Windows\, or MacOS. Basic skill\nwith at least one other programming language is desirable. \nClick the following link for a detailed course description: Introduction_to_Python_3.x \nCourse Price: $2399 \n\n\n                \n                        \n                            Virtual - Introduction to Python 3.x\n                             \n                        \n                        Attendee Name(Required)\n                            \n                            \n                                                    \n                                                    First\n                                                \n                            \n                            \n                                                    \n                                                    Last\n                                                \n                            \n                        Company Name(Required)Email(Required)\n                            \n                        Phone(Required)Select class registration (select one class):(Required)\n								\n								4/1/2025 - 4/4/2025 | 9:00 AM - 5:00 PM\n							\n								\n								6/2/2025 - 6/5/2025 | 9:00 AM - 5:00 PM\n							\n								\n								7/28/2025 - 7/31/2025 | 9:00 AM - 5:00 PM\n							\n								\n								9/2/2025 - 9/5/2025 | 9:00 AM - 5:00 PM\n							\n								\n								11/3/2025 - 11/6/2025 | 9:00 AM - 5:00 PM\n							Are you a GGP Member?(Required)\n			\n					\n					Yes\n			\n			\n					\n					No\n			\n			\n					\n					Unknown\n			Comments - Please let us know what's on your mind. Have a question for GGP? Ask away!CAPTCHA\n          \n            \n            \n            \n            \n            \n            \n            \n            \n            \n            \n            \n            \n            \n        \n                        \n                        \n\nPlease contact the Geauga Growth Partnership (GGP) office if you have any questions.\n440-564-1060 or info@geaugagrowth.com. \nThis course is TechCred eligible for reimbursement! Learn more and see if you qualify by clicking here: FAQ | TechCred \nRegistration closes one week before the class date. If you’re interested in registering within a week of the class\, please contact a member of the Geauga Growth Partnership team for availability. Contact information: 440-564-1060 | info@geaugagrowth.com \nGeauga Growth Partnership Board of Directors is dedicated to providing a positive and respectful environment for all event and training participants. GGP employees\, members\, guests of members\, attendees\, speakers\, sponsors\, and volunteers are expected to observe high standards of behavior and personal ethics in their conduct at any GGP event or training. \nAnyone engaging in inappropriate behavior during these events or trainings will be asked by a GGP representative to discontinue the offensive behavior immediately. Should the behavior continue or if the behavior is deemed severe enough\, the individual(s) will be removed from the event or training (without a refund) and may be denied entry to future events or trainings.
URL:https://geaugagrowthpartnership.com/event/virtual-introduction-to-python-3-x-2/
LOCATION:Virtual Event
CATEGORIES:All GGP Events,Virtual Training,Workforce Development
END:VEVENT
BEGIN:VEVENT
DTSTART;TZID=UTC:20250604T083000
DTEND;TZID=UTC:20250604T093000
DTSTAMP:20260425T215819
CREATED:20250207T165136Z
LAST-MODIFIED:20250304T193620Z
UID:7198-1749025800-1749029400@geaugagrowthpartnership.com
SUMMARY:HR Roundtable hosted at Geauga Growth Partnership
DESCRIPTION:  \n  \n  \n  \nThe HR Roundtable is a professional group that discusses workplace challenges and helps solve problems through the sharing of ideas and innovative thinking. Facilitated in partnership with Bonnie Troyer\, HR Strategies & Solutions\, participants learn or update best practices with peers\, hear from subject matter experts\, create a networking and support group\, and discuss insights or issues affecting their industry\, company or peer group.   \nEvent Costs:\nFree for GGP Members\n$15 per person for Nonmembers \nA current GGP Member list can be found here: https://geaugagrowthpartnership.com/  \nQuestions?  Email info@geaugagrowth.com or call 440-564-1060  \nLooking forward to connecting with you! \nThe GGP Team  \nPlease contact the GGP office to register for this event. \nOffice: 440-564-1060\nEmail: info@geaugagrowth.com \nGeauga Growth Partnership Board of Directors is dedicated to providing a positive and respectful environment for all event and training participants. GGP employees\, members\, guests of members\, attendees\, speakers\, sponsors\, and volunteers are expected to observe high standards of behavior and personal ethics in their conduct at any GGP event or training. \nAnyone engaging in inappropriate behavior during these events or trainings will be asked by a GGP representative to discontinue the offensive behavior immediately. Should the behavior continue or if the behavior is deemed severe enough\, the individual(s) will be removed from the event or training (without a refund) and may be denied entry to future events or trainings.
URL:https://geaugagrowthpartnership.com/event/hr-roundtable-hosted-at-geauga-growth-partnership-3/
LOCATION:Geauga Growth Partnership office\, 12373 Kinsman Rd.\, Newbury\, OH\, 44065\, United States
CATEGORIES:All GGP Events,Networking,Peer-to-peer Round Tables
END:VEVENT
BEGIN:VEVENT
DTSTART;TZID=America/New_York:20250612T080000
DTEND;TZID=America/New_York:20250612T120000
DTSTAMP:20260425T215819
CREATED:20241211T195803Z
LAST-MODIFIED:20250605T173304Z
UID:6807-1749715200-1749729600@geaugagrowthpartnership.com
SUMMARY:Virtual - Excel 2019 Data Analysis with Power Pivot
DESCRIPTION:Course Description: We are now living in the age of big data. Data is being collected all the time and for increasingly detailed transactions. This can lead to an overwhelming amount of data\, which brings about a need for people who can analyze large amounts of data quickly. Fortunately\, Excel provides Power Pivot to help you organize\, manipulate\, and report on your data in the best way possible. Since a tool is only as good as the person using it\, it is important to gain a solid understanding of Power Pivot to maximize your effectiveness when analyzing data. \nTarget Student: Students taking this course are experienced Excel users who are seeking to advance their data analysis capabilities by using Power Pivot. \nPrerequisites: To ensure your success in this course\, you should have experience working with Excel and PivotTables. You should already understand spreadsheet concepts and be comfortable creating and analyzing basic PivotTables. You can obtain this level of skills and knowledge by taking the following Logical Operations courses:\nMicrosoft® Excel® for Office 365™ (Desktop or Online): Part 1\nMicrosoft® Excel® for Office 365™ (Desktop or Online): Part 2\nMicrosoft® Excel® for Office 365™: Data Analysis with PivotTables (recommended) \nClick the following link for a detailed course description: Excel 2019 Data Analysis with Power Pivot \nCourse Price: $219 \nRegistration closes one week before the class date. If you’re interested in registering within a week of the class\, please contact a member of the Geauga Growth Partnership team for availability. Contact information: 440-564-1060 | info@geaugagrowth.com \n\n                \n                        \n                            Virtual - Misc Excel Classes\n                             \n                        \n                        Attendee Name(Required)\n                            \n                            \n                                                    \n                                                    First\n                                                \n                            \n                            \n                                                    \n                                                    Last\n                                                \n                            \n                        Company Name(Required)Email(Required)\n                            \n                        Phone(Required)Select class registration (select one class):(Required)\n								\n								Excel 2019 Charts | 04/24/2026 | 08:00 AM - 12:00 PM\n							\n								\n								Excel 2019 Pivot Tables | 04/24/2026| 01:00 PM - 05:00 PM\n							\n								\n								Excel 365 Formulas | 04/29/2026 - 04/30/2026| 09:00 AM - 04:00 PM\n							\n								\n								Excel 2019 Pivot Tables | 05/20/2026| 01:00 PM - 05:00 PM\n							Are you a GGP Member?(Required)\n			\n					\n					Yes\n			\n			\n					\n					No\n			\n			\n					\n					Unknown\n			Comments - Please let us know what's on your mind. Have a question for GGP? Ask away!CAPTCHA\n          \n            \n            \n            \n            \n            \n            \n            \n            \n            \n            \n            \n            \n            \n        \n                        \n                        \n\nThis course is TechCred eligible for reimbursement! Learn more and see if you qualify by clicking here: FAQ | TechCred \nPlease contact the Geauga Growth Partnership (GGP) office if you have any questions.\n440-564-1060 or info@geaugagrowth.com. \nGeauga Growth Partnership Board of Directors is dedicated to providing a positive and respectful environment for all event and training participants. GGP employees\, members\, guests of members\, attendees\, speakers\, sponsors\, and volunteers are expected to observe high standards of behavior and personal ethics in their conduct at any GGP event or training. \nAnyone engaging in inappropriate behavior during these events or trainings will be asked by a GGP representative to discontinue the offensive behavior immediately. Should the behavior continue or if the behavior is deemed severe enough\, the individual(s) will be removed from the event or training (without a refund) and may be denied entry to future events or trainings.
URL:https://geaugagrowthpartnership.com/event/virtual-excel-2019-data-analysis-with-power-pivot-3/
LOCATION:Virtual Event
CATEGORIES:All GGP Events,Virtual Training,Workforce Development
END:VEVENT
END:VCALENDAR