BEGIN:VCALENDAR
VERSION:2.0
PRODID:-//Geauga Growth Partnership, Inc. - ECPv6.15.20//NONSGML v1.0//EN
CALSCALE:GREGORIAN
METHOD:PUBLISH
X-ORIGINAL-URL:https://geaugagrowthpartnership.com
X-WR-CALDESC:Events for Geauga Growth Partnership, Inc.
REFRESH-INTERVAL;VALUE=DURATION:PT1H
X-Robots-Tag:noindex
X-PUBLISHED-TTL:PT1H
BEGIN:VTIMEZONE
TZID:America/New_York
BEGIN:DAYLIGHT
TZOFFSETFROM:-0500
TZOFFSETTO:-0400
TZNAME:EDT
DTSTART:20240310T070000
END:DAYLIGHT
BEGIN:STANDARD
TZOFFSETFROM:-0400
TZOFFSETTO:-0500
TZNAME:EST
DTSTART:20241103T060000
END:STANDARD
BEGIN:DAYLIGHT
TZOFFSETFROM:-0500
TZOFFSETTO:-0400
TZNAME:EDT
DTSTART:20250309T070000
END:DAYLIGHT
BEGIN:STANDARD
TZOFFSETFROM:-0400
TZOFFSETTO:-0500
TZNAME:EST
DTSTART:20251102T060000
END:STANDARD
BEGIN:DAYLIGHT
TZOFFSETFROM:-0500
TZOFFSETTO:-0400
TZNAME:EDT
DTSTART:20260308T070000
END:DAYLIGHT
BEGIN:STANDARD
TZOFFSETFROM:-0400
TZOFFSETTO:-0500
TZNAME:EST
DTSTART:20261101T060000
END:STANDARD
END:VTIMEZONE
BEGIN:VEVENT
DTSTART;TZID=America/New_York:20250701T090000
DTEND;TZID=America/New_York:20250701T170000
DTSTAMP:20260425T154947
CREATED:20241212T002034Z
LAST-MODIFIED:20250328T141730Z
UID:6869-1751360400-1751389200@geaugagrowthpartnership.com
SUMMARY:Virtual - Excel 2019 Level 1
DESCRIPTION:Course Description: The Computer Workshop writes their own curriculum for Excel making it easy to customize a class specific to your needs. Many think they are past the basics\, but our course has many valuable shortcuts and quick data entry methods built in to give you a good foundation. So even if you have used Excel for a number of years\, it is worth taking the Level 1 class. Our course will make ordinary tasks much easier for you to accomplish\, and in much less time. \nAt Course Completion: Upon successful completion of this course\, you will be able to customize the interface to better suit\nyour needs\, create lists\, efficiently develop Excel worksheets and workbooks\, use basic excel function\nformulas\, apply formatting to content\, create customize number formats\, control how spreadsheets\nare printed\, as well as be able to find and replace content. \nPrerequisites: None \nClick the following link for a detailed course description: Microsoft Excel_2019_Level_1 \nCourse Price: $279 \n\n\n                \n                        \n                            Virtual - Excel Level 1\n                             \n                        \n                        Attendee Name(Required)\n                            \n                            \n                                                    \n                                                    First\n                                                \n                            \n                            \n                                                    \n                                                    Last\n                                                \n                            \n                        Company Name(Required)Email(Required)\n                            \n                        Phone(Required)Select class registration (select one class):(Required)\n								\n								Excel 365 Level 1 | 03/10/2026| 09:00 AM - 05:00 PM\n							\n								\n								Excel 365 Level 1 | 04/25/2026 - 05/02/2026| 01:00 PM - 04:30 PM\n							\n								\n								Excel 365 Level 1 | 04/29/2026| 09:00 AM - 05:00 PM\n							Are you a GGP Member?(Required)\n			\n					\n					Yes\n			\n			\n					\n					No\n			\n			\n					\n					Unknown\n			Comments - Please let us know what's on your mind. Have a question for GGP? Ask away!CAPTCHA\n          \n            \n            \n            \n            \n            \n            \n            \n            \n            \n            \n            \n            \n            \n        \n                        \n                        \n\nPlease contact the Geauga Growth Partnership (GGP) office if you have any questions.\n440-564-1060 or info@geaugagrowth.com. \nThis course is TechCred eligible for reimbursement! Learn more and see if you qualify by clicking here: FAQ | TechCred \nRegistration closes one week before the class date. If you’re interested in registering within a week of the class\, please contact a member of the Geauga Growth Partnership team for availability. Contact information: 440-564-1060 | info@geaugagrowth.com \nGeauga Growth Partnership Board of Directors is dedicated to providing a positive and respectful environment for all event and training participants. GGP employees\, members\, guests of members\, attendees\, speakers\, sponsors\, and volunteers are expected to observe high standards of behavior and personal ethics in their conduct at any GGP event or training. \nAnyone engaging in inappropriate behavior during these events or trainings will be asked by a GGP representative to discontinue the offensive behavior immediately. Should the behavior continue or if the behavior is deemed severe enough\, the individual(s) will be removed from the event or training (without a refund) and may be denied entry to future events or trainings.
URL:https://geaugagrowthpartnership.com/event/virtual-excel-2019-level-1-5/
LOCATION:Virtual Event
CATEGORIES:All GGP Events,Virtual Training,Workforce Development
END:VEVENT
BEGIN:VEVENT
DTSTART;TZID=America/New_York:20250718T090000
DTEND;TZID=America/New_York:20250718T170000
DTSTAMP:20260425T154947
CREATED:20241213T210409Z
LAST-MODIFIED:20250710T214751Z
UID:6913-1752829200-1752858000@geaugagrowthpartnership.com
SUMMARY:Virtual - Excel 365 Level 3
DESCRIPTION:Course Description: In this course\, you will cover how to create and work with Macros and VBA Programming\, as well as how to add Form Controls and how to assign a Macro to a Form Control. In addition\, you will learn about formula auditing\, and will learn about common errors\, how to correct them\, and how to use the Watch Window to see changes in formulas. You will work with creating and modifying hyperlinks\, get data from the internet\, as well as learn how to save workbooks\, worksheets\, charts and ranges as web pages. You will create custom styles and learn how to use advanced conditional formatting. Finally you will learn how to create and use a shared workbook\, including how to protect\, consolidate and resolve editing conflicts in a shared workbook. \nClick the following link for a detailed course description: Excel_365_Level_3 \nCourse Price: $299 \n\n                \n                        \n                            Virtual - Excel Level 3\n                             \n                        \n                        Attendee Name(Required)\n                            \n                            \n                                                    \n                                                    First\n                                                \n                            \n                            \n                                                    \n                                                    Last\n                                                \n                            \n                        Company Name(Required)Email(Required)\n                            \n                        Phone(Required)Select class registration (select one class):(Required)\n								\n								Excel 365 Level 3 | 03/17/2026| 09:00 AM - 05:00 PM\n							Are you a GGP Member?(Required)\n			\n					\n					Yes\n			\n			\n					\n					No\n			\n			\n					\n					Unknown\n			Comments - Please let us know what's on your mind. Have a question for GGP? Ask away!CAPTCHA\n          \n            \n            \n            \n            \n            \n            \n            \n            \n            \n            \n            \n            \n            \n        \n                        \n                        \n\nPlease contact the Geauga Growth Partnership (GGP) office if you have any questions.\n440-564-1060 or info@geaugagrowth.com. \nThis course is TechCred eligible for reimbursement! Learn more and see if you qualify by clicking here: FAQ | TechCred \nRegistration closes one week before the class date. If you’re interested in registering within a week of the class\, please contact a member of the Geauga Growth Partnership team for availability. Contact information: 440-564-1060 | info@geaugagrowth.com \nGeauga Growth Partnership Board of Directors is dedicated to providing a positive and respectful environment for all event and training participants. GGP employees\, members\, guests of members\, attendees\, speakers\, sponsors\, and volunteers are expected to observe high standards of behavior and personal ethics in their conduct at any GGP event or training. \nAnyone engaging in inappropriate behavior during these events or trainings will be asked by a GGP representative to discontinue the offensive behavior immediately. Should the behavior continue or if the behavior is deemed severe enough\, the individual(s) will be removed from the event or training (without a refund) and may be denied entry to future events or trainings.
URL:https://geaugagrowthpartnership.com/event/virtual-excel-2019-level-3-3/
LOCATION:Virtual Event
CATEGORIES:All GGP Events,Virtual Training,Workforce Development
END:VEVENT
BEGIN:VEVENT
DTSTART;TZID=America/New_York:20250721T080000
DTEND;TZID=America/New_York:20250721T170000
DTSTAMP:20260425T154947
CREATED:20250710T214846Z
LAST-MODIFIED:20250710T215245Z
UID:7620-1753084800-1753117200@geaugagrowthpartnership.com
SUMMARY:Virtual - Excel 2019 Level 3
DESCRIPTION:Course Description: In this course\, you will cover how to create and work with Macros and VBA Programming\, as well as how to add Form Controls and how to assign a Macro to a Form Control. In addition\, you will learn about formula auditing\, and will learn about common errors\, how to correct them\, and how to use the Watch Window to see changes in formulas. You will work with creating and modifying hyperlinks\, get data from the internet\, as well as learn how to save workbooks\, worksheets\, charts and ranges as web pages. You will create custom styles and learn how to use advanced conditional formatting. Finally you will learn how to create and use a shared workbook\, including how to protect\, consolidate and resolve editing conflicts in a shared workbook. \nClick the following link for a detailed course description: Excel_2019_Level_3 \nCourse Price: $299 \n\n                \n                        \n                            Virtual - Excel Level 3\n                             \n                        \n                        Attendee Name(Required)\n                            \n                            \n                                                    \n                                                    First\n                                                \n                            \n                            \n                                                    \n                                                    Last\n                                                \n                            \n                        Company Name(Required)Email(Required)\n                            \n                        Phone(Required)Select class registration (select one class):(Required)\n								\n								Excel 365 Level 3 | 03/17/2026| 09:00 AM - 05:00 PM\n							Are you a GGP Member?(Required)\n			\n					\n					Yes\n			\n			\n					\n					No\n			\n			\n					\n					Unknown\n			Comments - Please let us know what's on your mind. Have a question for GGP? Ask away!CAPTCHA\n          \n            \n            \n            \n            \n            \n            \n            \n            \n            \n            \n            \n            \n            \n        \n                        \n                        \n\nPlease contact the Geauga Growth Partnership (GGP) office if you have any questions.\n440-564-1060 or info@geaugagrowth.com. \nThis course is TechCred eligible for reimbursement! Learn more and see if you qualify by clicking here: FAQ | TechCred \nRegistration closes one week before the class date. If you’re interested in registering within a week of the class\, please contact a member of the Geauga Growth Partnership team for availability. Contact information: 440-564-1060 | info@geaugagrowth.com \nGeauga Growth Partnership Board of Directors is dedicated to providing a positive and respectful environment for all event and training participants. GGP employees\, members\, guests of members\, attendees\, speakers\, sponsors\, and volunteers are expected to observe high standards of behavior and personal ethics in their conduct at any GGP event or training. \nAnyone engaging in inappropriate behavior during these events or trainings will be asked by a GGP representative to discontinue the offensive behavior immediately. Should the behavior continue or if the behavior is deemed severe enough\, the individual(s) will be removed from the event or training (without a refund) and may be denied entry to future events or trainings.
URL:https://geaugagrowthpartnership.com/event/virtual-excel-2019-level-3-8/
LOCATION:Virtual Event
CATEGORIES:All GGP Events,Virtual Training,Workforce Development
END:VEVENT
BEGIN:VEVENT
DTSTART;TZID=America/New_York:20250724T090000
DTEND;TZID=America/New_York:20250724T170000
DTSTAMP:20260425T154947
CREATED:20241220T171928Z
LAST-MODIFIED:20250710T215659Z
UID:7023-1753347600-1753376400@geaugagrowthpartnership.com
SUMMARY:Virtual - Microsoft Office 365 Online with Teams for the Desktop
DESCRIPTION:Course Description:\nThis course is designed to help you master Microsoft Teams®\, the key communications tool in the suite of Microsoft 365® productivity apps. Microsoft Teams enables individuals and organizations to chat\, share ideas\, collaborate on files\, and essentially\, work together. You can use Teams to have a quick chat with a colleague\, participate in a virtual meeting\, make an online call\, and share files and resources. You can also create and configure Teams to suit your business productivity needs. The Microsoft Teams app is available in three versions: a desktop app\, a web app\, and a mobile app. Once you are familiar with the Teams desktop app\, you can easily transfer that knowledge and work in the web and mobile apps to take advantage of connecting through Teams wherever your work takes you. \nCourse Objectives:\nUpon course completion\, student will be able to:\n• Communicate with colleagues in Teams.\n• Call and meet with people in Teams.\n• Lead a meeting.\n• Configure your Teams environment.\n• Share files and app content.\n• Create and configure Teams. \nPrerequisites:\nTo ensure your success in this course\, you need to be familiar with the Windows® operating system and with using a web browser. \nClick the following link for a detailed course description: Microsoft_Office_365_Online_with_Teams_for_the_Desktop \nCourse Price: $399 \n\n                \n                        \n                            Virtual - Microsoft Office 365 Online with Teams for the Desktop\n                             \n                        \n                        Attendee Name(Required)\n                            \n                            \n                                                    \n                                                    First\n                                                \n                            \n                            \n                                                    \n                                                    Last\n                                                \n                            \n                        Company Name(Required)Email(Required)\n                            \n                        Phone(Required)Select class registration (select one class):(Required)\n								\n								5/1/2025 | 9:00 AM - 5:00 PM\n							\n								\n								7/24/2025 | 9:00 AM - 5:00 PM\n							\n								\n								11/20/2025 | 9:00 AM - 5:00 PM\n							Are you a GGP Member?(Required)\n			\n					\n					Yes\n			\n			\n					\n					No\n			\n			\n					\n					Unknown\n			Comments - Please let us know what's on your mind. Have a question for GGP? Ask away!CAPTCHA\n          \n            \n            \n            \n            \n            \n            \n            \n            \n            \n            \n            \n            \n            \n        \n                        \n                        \n\nPlease contact the Geauga Growth Partnership (GGP) office if you have any questions.\n440-564-1060 or info@geaugagrowth.com. \nThis course is TechCred eligible for reimbursement! Learn more and see if you qualify by clicking here: FAQ | TechCred \nRegistration closes one week before the class date. If you’re interested in registering within a week of the class\, please contact a member of the Geauga Growth Partnership team for availability. Contact information: 440-564-1060 | info@geaugagrowth.com \nGeauga Growth Partnership Board of Directors is dedicated to providing a positive and respectful environment for all event and training participants. GGP employees\, members\, guests of members\, attendees\, speakers\, sponsors\, and volunteers are expected to observe high standards of behavior and personal ethics in their conduct at any GGP event or training. \nAnyone engaging in inappropriate behavior during these events or trainings will be asked by a GGP representative to discontinue the offensive behavior immediately. Should the behavior continue or if the behavior is deemed severe enough\, the individual(s) will be removed from the event or training (without a refund) and may be denied entry to future events or trainings.
URL:https://geaugagrowthpartnership.com/event/virtual-microsoft-office-365-online-with-teams-for-the-desktop-copy/
LOCATION:Virtual Event
CATEGORIES:All GGP Events,Virtual Training,Workforce Development
END:VEVENT
END:VCALENDAR