BEGIN:VCALENDAR
VERSION:2.0
PRODID:-//Geauga Growth Partnership, Inc. - ECPv6.15.20//NONSGML v1.0//EN
CALSCALE:GREGORIAN
METHOD:PUBLISH
X-WR-CALNAME:Geauga Growth Partnership, Inc.
X-ORIGINAL-URL:https://geaugagrowthpartnership.com
X-WR-CALDESC:Events for Geauga Growth Partnership, Inc.
REFRESH-INTERVAL;VALUE=DURATION:PT1H
X-Robots-Tag:noindex
X-PUBLISHED-TTL:PT1H
BEGIN:VTIMEZONE
TZID:UTC
BEGIN:STANDARD
TZOFFSETFROM:+0000
TZOFFSETTO:+0000
TZNAME:UTC
DTSTART:20240101T000000
END:STANDARD
END:VTIMEZONE
BEGIN:VTIMEZONE
TZID:America/New_York
BEGIN:DAYLIGHT
TZOFFSETFROM:-0500
TZOFFSETTO:-0400
TZNAME:EDT
DTSTART:20240310T070000
END:DAYLIGHT
BEGIN:STANDARD
TZOFFSETFROM:-0400
TZOFFSETTO:-0500
TZNAME:EST
DTSTART:20241103T060000
END:STANDARD
BEGIN:DAYLIGHT
TZOFFSETFROM:-0500
TZOFFSETTO:-0400
TZNAME:EDT
DTSTART:20250309T070000
END:DAYLIGHT
BEGIN:STANDARD
TZOFFSETFROM:-0400
TZOFFSETTO:-0500
TZNAME:EST
DTSTART:20251102T060000
END:STANDARD
BEGIN:DAYLIGHT
TZOFFSETFROM:-0500
TZOFFSETTO:-0400
TZNAME:EDT
DTSTART:20260308T070000
END:DAYLIGHT
BEGIN:STANDARD
TZOFFSETFROM:-0400
TZOFFSETTO:-0500
TZNAME:EST
DTSTART:20261101T060000
END:STANDARD
END:VTIMEZONE
BEGIN:VEVENT
DTSTART;TZID=UTC:20250910T083000
DTEND;TZID=UTC:20250910T093000
DTSTAMP:20260425T113306
CREATED:20250207T165302Z
LAST-MODIFIED:20250821T201647Z
UID:7201-1757493000-1757496600@geaugagrowthpartnership.com
SUMMARY:HR Roundtable hosted at Geauga Growth Partnership
DESCRIPTION:Managing a Rapidly Changing Workforce\n\nOur workplaces are constantly evolving due to technological advancements\, shifting demographics\, and the rise of remote work\, which is leading to employee relations issues. \nLet’s Talk! \n\nCome prepared to share with the group the challenges you’ve faced\nWhat have you/your company implemented that’s worked\nWhat are you hoping to learn from others?\n\n\nThe HR Roundtable is a professional group that discusses workplace challenges and helps solve problems through the sharing of ideas and innovative thinking. Facilitated in partnership with Bonnie Troyer\, HR Strategies & Solutions\, participants learn or update best practices with peers\, hear from subject matter experts\, create a networking and support group\, and discuss insights or issues affecting their industry\, company or peer group.   \nEvent Costs:\nFree for GGP Members\n$15 per person for Nonmembers \nA current GGP Member list can be found here: https://geaugagrowthpartnership.com/  \nQuestions?  Email info@geaugagrowth.com or call 440-564-1060  \nLooking forward to connecting with you! \nThe GGP Team  \nPlease contact the GGP office to register for this event. \nOffice: 440-564-1060\nEmail: info@geaugagrowth.com \nGeauga Growth Partnership Board of Directors is dedicated to providing a positive and respectful environment for all event and training participants. GGP employees\, members\, guests of members\, attendees\, speakers\, sponsors\, and volunteers are expected to observe high standards of behavior and personal ethics in their conduct at any GGP event or training. \nAnyone engaging in inappropriate behavior during these events or trainings will be asked by a GGP representative to discontinue the offensive behavior immediately. Should the behavior continue or if the behavior is deemed severe enough\, the individual(s) will be removed from the event or training (without a refund) and may be denied entry to future events or trainings.
URL:https://geaugagrowthpartnership.com/event/hr-roundtable-hosted-at-geauga-growth-partnership-4/
LOCATION:Geauga Growth Partnership office\, 12373 Kinsman Rd.\, Newbury\, OH\, 44065\, United States
CATEGORIES:All GGP Events,Networking,Peer-to-peer Round Tables
END:VEVENT
BEGIN:VEVENT
DTSTART;TZID=America/New_York:20250912T090000
DTEND;TZID=America/New_York:20250912T120000
DTSTAMP:20260425T113306
CREATED:20250107T214907Z
LAST-MODIFIED:20250905T185307Z
UID:7094-1757667600-1757678400@geaugagrowthpartnership.com
SUMMARY:Intro to Excel - In-person class
DESCRIPTION:Registration is closed for this event. Please check GGP’s event calendar for more training opportunities! \nCourse Description: In this two-day class\, this course teaches the basics of using Excel: creating\, opening\, and editing spreadsheets. It covers fonts\, font colors\, font sizes\, cell shading and borders\, and editing techniques. Formatting of cells (different types of data)\, simple functions (sum and average)\, printing\, and simple charts are also included. \nClass Dates: September 12th & September 19th\, 2025. –  Please note this class is two sessions and attendees must attend both sessions.–  You will receive a calendar invite for both sessions. \nPrerequisites: None \nCourse Price:GGP Members: $299Non-GGP Members: $349 \n  \nPlease contact the Geauga Growth Partnership (GGP) office if you have any questions.440-564-1060 or info@geaugagrowth.com. \nThis course is TechCred eligible for reimbursement! Learn more and see if you qualify by clicking here: FAQ | TechCred \nGeauga Growth Partnership Board of Directors is dedicated to providing a positive and respectful environment for all event and training participants. GGP employees\, members\, guests of members\, attendees\, speakers\, sponsors\, and volunteers are expected to observe high standards of behavior and personal ethics in their conduct at any GGP event or training. \nAnyone engaging in inappropriate behavior during these events or trainings will be asked by a GGP representative to discontinue the offensive behavior immediately. Should the behavior continue or if the behavior is deemed severe enough\, the individual(s) will be removed from the event or training (without a refund) and may be denied entry to future events or trainings.
URL:https://geaugagrowthpartnership.com/event/intro-to-excel-in-person-class-2/
LOCATION:KSU Geauga\, 14111 Claridon-Troy Road\, Burton\, OH\, 44021\, United States
CATEGORIES:All GGP Events,In-person Training,Workforce Development
END:VEVENT
BEGIN:VEVENT
DTSTART;TZID=America/New_York:20250915T090000
DTEND;TZID=America/New_York:20250915T170000
DTSTAMP:20260425T113306
CREATED:20241213T204356Z
LAST-MODIFIED:20250710T213822Z
UID:6898-1757926800-1757955600@geaugagrowthpartnership.com
SUMMARY:Virtual - Excel 2019 Level 2
DESCRIPTION:Course Description: In this course\, you will cover how to work with large worksheets and workbooks in Microsoft Excel. Create Named cells and ranges which are used in formulas and navigation. Write formulas that refer to other worksheets and workbooks. Create 3D formulas that refer to data in other worksheets and workbooks. You will sort and filter data\, use conditional formatting\, and create and format tables and charts\, and how to use the Quick Analysis tools. Apply protection to the worksheet\, workbook\, and file itself. You will work with graphics\, run the Accessibility Checker and make the file Accessible (508 Compliant)\, create and work with comments\, and finally create a custom template. \nClick the following link for a detailed course description: Excel_2019_Level_2 \nCourse Price: $289 \n\n\n                \n                        \n                            Virtual - Excel Level 2\n                             \n                        \n                        Attendee Name(Required)\n                            \n                            \n                                                    \n                                                    First\n                                                \n                            \n                            \n                                                    \n                                                    Last\n                                                \n                            \n                        Company Name(Required)Email(Required)\n                            \n                        Phone(Required)Select class registration (select one class):(Required)\n								\n								Excel 365 Level 2 | 02/19/2026 | 09:00 AM - 05:00 PM\n							\n								\n								Excel 365 Level 2 | 03/11/2026 | 09:00 AM - 05:00 PM\n							\n								\n								Excel 365 Level 2 | 05/15/2026 | 09:00 AM - 05:00 PM\n							Are you a GGP Member?(Required)\n			\n					\n					Yes\n			\n			\n					\n					No\n			\n			\n					\n					Unknown\n			Comments - Please let us know what's on your mind. Have a question for GGP? Ask away!CAPTCHA\n          \n            \n            \n            \n            \n            \n            \n            \n            \n            \n            \n            \n            \n            \n        \n                        \n                        \n\nPlease contact the Geauga Growth Partnership (GGP) office if you have any questions.\n440-564-1060 or info@geaugagrowth.com. \nThis course is TechCred eligible for reimbursement! Learn more and see if you qualify by clicking here: FAQ | TechCred \nRegistration closes one week before the class date. If you’re interested in registering within a week of the class\, please contact a member of the Geauga Growth Partnership team for availability. Contact information: 440-564-1060 | info@geaugagrowth.com \nGeauga Growth Partnership Board of Directors is dedicated to providing a positive and respectful environment for all event and training participants. GGP employees\, members\, guests of members\, attendees\, speakers\, sponsors\, and volunteers are expected to observe high standards of behavior and personal ethics in their conduct at any GGP event or training. \nAnyone engaging in inappropriate behavior during these events or trainings will be asked by a GGP representative to discontinue the offensive behavior immediately. Should the behavior continue or if the behavior is deemed severe enough\, the individual(s) will be removed from the event or training (without a refund) and may be denied entry to future events or trainings.
URL:https://geaugagrowthpartnership.com/event/virtual-excel-2019-level-2-5/
LOCATION:Virtual Event
CATEGORIES:All GGP Events,Virtual Training,Workforce Development
END:VEVENT
BEGIN:VEVENT
DTSTART;TZID=America/New_York:20250922T080000
DTEND;TZID=America/New_York:20250922T170000
DTSTAMP:20260425T113306
CREATED:20250710T215201Z
LAST-MODIFIED:20250710T215201Z
UID:7622-1758528000-1758560400@geaugagrowthpartnership.com
SUMMARY:Virtual - Excel 2019 Level 3
DESCRIPTION:Course Description: In this course\, you will cover how to create and work with Macros and VBA Programming\, as well as how to add Form Controls and how to assign a Macro to a Form Control. In addition\, you will learn about formula auditing\, and will learn about common errors\, how to correct them\, and how to use the Watch Window to see changes in formulas. You will work with creating and modifying hyperlinks\, get data from the internet\, as well as learn how to save workbooks\, worksheets\, charts and ranges as web pages. You will create custom styles and learn how to use advanced conditional formatting. Finally you will learn how to create and use a shared workbook\, including how to protect\, consolidate and resolve editing conflicts in a shared workbook. \nClick the following link for a detailed course description: Excel_2019_Level_3 \nCourse Price: $299 \n\n                \n                        \n                            Virtual - Excel Level 3\n                             \n                        \n                        Attendee Name(Required)\n                            \n                            \n                                                    \n                                                    First\n                                                \n                            \n                            \n                                                    \n                                                    Last\n                                                \n                            \n                        Company Name(Required)Email(Required)\n                            \n                        Phone(Required)Select class registration (select one class):(Required)\n								\n								Excel 365 Level 3 | 03/17/2026| 09:00 AM - 05:00 PM\n							Are you a GGP Member?(Required)\n			\n					\n					Yes\n			\n			\n					\n					No\n			\n			\n					\n					Unknown\n			Comments - Please let us know what's on your mind. Have a question for GGP? Ask away!CAPTCHA\n          \n            \n            \n            \n            \n            \n            \n            \n            \n            \n            \n            \n            \n            \n        \n                        \n                        \n\nPlease contact the Geauga Growth Partnership (GGP) office if you have any questions.\n440-564-1060 or info@geaugagrowth.com. \nThis course is TechCred eligible for reimbursement! Learn more and see if you qualify by clicking here: FAQ | TechCred \nRegistration closes one week before the class date. If you’re interested in registering within a week of the class\, please contact a member of the Geauga Growth Partnership team for availability. Contact information: 440-564-1060 | info@geaugagrowth.com \nGeauga Growth Partnership Board of Directors is dedicated to providing a positive and respectful environment for all event and training participants. GGP employees\, members\, guests of members\, attendees\, speakers\, sponsors\, and volunteers are expected to observe high standards of behavior and personal ethics in their conduct at any GGP event or training. \nAnyone engaging in inappropriate behavior during these events or trainings will be asked by a GGP representative to discontinue the offensive behavior immediately. Should the behavior continue or if the behavior is deemed severe enough\, the individual(s) will be removed from the event or training (without a refund) and may be denied entry to future events or trainings.
URL:https://geaugagrowthpartnership.com/event/virtual-excel-2019-level-3-9/
LOCATION:Virtual Event
CATEGORIES:All GGP Events,Virtual Training,Workforce Development
END:VEVENT
BEGIN:VEVENT
DTSTART;TZID=America/New_York:20250923T090000
DTEND;TZID=America/New_York:20250923T170000
DTSTAMP:20260425T113306
CREATED:20241213T210445Z
LAST-MODIFIED:20250710T215541Z
UID:6915-1758618000-1758646800@geaugagrowthpartnership.com
SUMMARY:Virtual - Excel 365 Level 3
DESCRIPTION:Course Description: In this course\, you will cover how to create and work with Macros and VBA Programming\, as well as how to add Form Controls and how to assign a Macro to a Form Control. In addition\, you will learn about formula auditing\, and will learn about common errors\, how to correct them\, and how to use the Watch Window to see changes in formulas. You will work with creating and modifying hyperlinks\, get data from the internet\, as well as learn how to save workbooks\, worksheets\, charts and ranges as web pages. You will create custom styles and learn how to use advanced conditional formatting. Finally you will learn how to create and use a shared workbook\, including how to protect\, consolidate and resolve editing conflicts in a shared workbook. \nClick the following link for a detailed course description: Excel_365_Level_3 \nCourse Price: $299 \n\n                \n                        \n                            Virtual - Excel Level 3\n                             \n                        \n                        Attendee Name(Required)\n                            \n                            \n                                                    \n                                                    First\n                                                \n                            \n                            \n                                                    \n                                                    Last\n                                                \n                            \n                        Company Name(Required)Email(Required)\n                            \n                        Phone(Required)Select class registration (select one class):(Required)\n								\n								Excel 365 Level 3 | 03/17/2026| 09:00 AM - 05:00 PM\n							Are you a GGP Member?(Required)\n			\n					\n					Yes\n			\n			\n					\n					No\n			\n			\n					\n					Unknown\n			Comments - Please let us know what's on your mind. Have a question for GGP? Ask away!CAPTCHA\n          \n            \n            \n            \n            \n            \n            \n            \n            \n            \n            \n            \n            \n            \n        \n                        \n                        \n\nPlease contact the Geauga Growth Partnership (GGP) office if you have any questions.\n440-564-1060 or info@geaugagrowth.com. \nThis course is TechCred eligible for reimbursement! Learn more and see if you qualify by clicking here: FAQ | TechCred \nRegistration closes one week before the class date. If you’re interested in registering within a week of the class\, please contact a member of the Geauga Growth Partnership team for availability. Contact information: 440-564-1060 | info@geaugagrowth.com \nGeauga Growth Partnership Board of Directors is dedicated to providing a positive and respectful environment for all event and training participants. GGP employees\, members\, guests of members\, attendees\, speakers\, sponsors\, and volunteers are expected to observe high standards of behavior and personal ethics in their conduct at any GGP event or training. \nAnyone engaging in inappropriate behavior during these events or trainings will be asked by a GGP representative to discontinue the offensive behavior immediately. Should the behavior continue or if the behavior is deemed severe enough\, the individual(s) will be removed from the event or training (without a refund) and may be denied entry to future events or trainings.
URL:https://geaugagrowthpartnership.com/event/virtual-excel-2019-level-3-4/
LOCATION:Virtual Event
CATEGORIES:All GGP Events,Virtual Training,Workforce Development
END:VEVENT
END:VCALENDAR