BEGIN:VCALENDAR
VERSION:2.0
PRODID:-//Geauga Growth Partnership, Inc. - ECPv6.15.20//NONSGML v1.0//EN
CALSCALE:GREGORIAN
METHOD:PUBLISH
X-WR-CALNAME:Geauga Growth Partnership, Inc.
X-ORIGINAL-URL:https://geaugagrowthpartnership.com
X-WR-CALDESC:Events for Geauga Growth Partnership, Inc.
REFRESH-INTERVAL;VALUE=DURATION:PT1H
X-Robots-Tag:noindex
X-PUBLISHED-TTL:PT1H
BEGIN:VTIMEZONE
TZID:America/New_York
BEGIN:DAYLIGHT
TZOFFSETFROM:-0500
TZOFFSETTO:-0400
TZNAME:EDT
DTSTART:20250309T070000
END:DAYLIGHT
BEGIN:STANDARD
TZOFFSETFROM:-0400
TZOFFSETTO:-0500
TZNAME:EST
DTSTART:20251102T060000
END:STANDARD
BEGIN:DAYLIGHT
TZOFFSETFROM:-0500
TZOFFSETTO:-0400
TZNAME:EDT
DTSTART:20260308T070000
END:DAYLIGHT
BEGIN:STANDARD
TZOFFSETFROM:-0400
TZOFFSETTO:-0500
TZNAME:EST
DTSTART:20261101T060000
END:STANDARD
BEGIN:DAYLIGHT
TZOFFSETFROM:-0500
TZOFFSETTO:-0400
TZNAME:EDT
DTSTART:20270314T070000
END:DAYLIGHT
BEGIN:STANDARD
TZOFFSETFROM:-0400
TZOFFSETTO:-0500
TZNAME:EST
DTSTART:20271107T060000
END:STANDARD
END:VTIMEZONE
BEGIN:VEVENT
DTSTART;VALUE=DATE:20260316
DTEND;VALUE=DATE:20260321
DTSTAMP:20260424T222310
CREATED:20260320T134139Z
LAST-MODIFIED:20260320T154210Z
UID:9106-1773619200-1774051199@geaugagrowthpartnership.com
SUMMARY:Implementing Secure Solutions with Virtual Private Networks (SVPN)
DESCRIPTION:Description\nImplementing Secure Solutions with Virtual Private Networks (SVPN) is a 5-day course which teaches students how to implement\, configure\, monitor\, and support enterprise Virtual Private Network (VPN) solutions. Through a combination of lessons and hands-on experiences students will acquire the knowledge and skills to deploy and troubleshoot traditional Internet Protocol Security (IPsec)\, Dynamic Multipoint Virtual Private Network (DMVPN)\, FlexVPN\, and remote access VPN to create secure and encrypted data\, remote accessibility\, and increased privacy. \n \nPre-Requisites\n\nFamiliarity with the various Cisco router and firewall command modes\nExperience navigating and managing Cisco routers and firewalls\nClear understanding of the benefits of site-to-site and Remote Access VPN options\n\n \nCourse Details\nBrand: Cisco\nExam: SVPN\nCEU Credits: 3.5\nCourse Hours: 35\nNumber of Days: 5\nCourse PDF
URL:https://geaugagrowthpartnership.com/event/implementing-secure-solutions-with-virtual-private-networks-svpn/
CATEGORIES:All GGP Events,Workforce Development
END:VEVENT
BEGIN:VEVENT
DTSTART;TZID=America/New_York:20260316T090000
DTEND;TZID=America/New_York:20260320T170000
DTSTAMP:20260424T222310
CREATED:20260320T124809Z
LAST-MODIFIED:20260320T152128Z
UID:9107-1773651600-1774026000@geaugagrowthpartnership.com
SUMMARY:CompTIA: Project+
DESCRIPTION:Description\nProject+ Certification prepares students for the current CompTIA Project+ Certification exam. It covers the full range of skills ad concepts students need to know to plan and implement projects. The project initiation and planning process is covered in-depth\, culminating in the creation of a project schedule. Learning how to manage business concerns such as cost and risk is balanced by thorough coverage of best practices in managing people and resources. Students will also learn how to manage change and the steps necessary in closing a project. \n \nPre-Requisites\nProject Management Essentials \n \nCourse Details\nBrand: CompTIA\nExam: CompTIA Project+\nCEU Credits: 3.5\nCourse Hours: 35\nNumber of Days: 5\nCourse PDF
URL:https://geaugagrowthpartnership.com/event/comptia-project/
CATEGORIES:All GGP Events,Workforce Development
END:VEVENT
BEGIN:VEVENT
DTSTART;TZID=America/New_York:20260316T090000
DTEND;TZID=America/New_York:20260320T170000
DTSTAMP:20260424T222310
CREATED:20260320T125350Z
LAST-MODIFIED:20260413T152839Z
UID:9001-1773651600-1774026000@geaugagrowthpartnership.com
SUMMARY:CompTIA: Security+
DESCRIPTION:Description\nIf you intend to pass the CompTIA Security+ (Exam SY0-701) certification examination\, this course can be a significant part of your preparation. But certification is not the only key to professional success in the field of IT security. Today’s job market demands individuals with demonstrable skills\, and the information and activities in this course can help you build your cybersecurity skill set so that you can confidently perform your duties in any entry-level security role. \n  \nObjectives\nUpon successful completion of this course\, students will be able to: \n\nSummarize fundamental security concepts.\nCompare threat types.\nExplain appropriate cryptographic solutions.\nImplement identity and access management.\nSecure enterprise network architecture.\nSecure cloud network architecture.\nExplain resiliency and site security concepts.\nExplain vulnerability management.\nEvaluate network security capabilities.\nAssess endpoint security capabilities.\nEnhance application security capabilities.\nExplain incident response and monitoring concepts.\nAnalyze indicators of malicious activity\nSummarize security governance concepts.\nExplain risk management processes.\nSummarize data protection and compliance concepts\n\n  \nPre-Requisites\nTo ensure your success in this course\, you should have a minimum of two years of experience in IT administration with a focus on security\, hands-on experience with technical information security\, and a broad knowledge of security concepts. CompTIA A+ and CompTIA Network+\, or the equivalent knowledge\, is strongly recommended. \n\n\n                \n                        \n                            Virtual - CompTIA: Security+\n                             \n                        \n                        Attendee Name(Required)\n                            \n                            \n                                                    \n                                                    First\n                                                \n                            \n                            \n                                                    \n                                                    Last\n                                                \n                            \n                        Company Name(Required)Email(Required)\n                            \n                        Phone(Required)Select class registration (select one class):(Required)\n								\n								04/13/2026 - 04/17/2026 | 09:00 AM - 05:00 PM\n							\n								\n								05/11/2026 - 05/15/2026 | 09:00 AM - 05:00 PM\n							\n								\n								06/22/2026 - 06/26/2026 | 09:00 AM - 05:00 PM\n							\n								\n								07/20/2026 - 07/24/2026 | 09:00 AM - 05:00 PM\n							\n								\n								09/14/2026 - 09/18/2026 | 09:00 AM - 05:00 PM\n							\n								\n								11/02/2026 - 11/06/2026 | 09:00 AM - 05:00 PM\n							Are you a GGP Member?(Required)\n			\n					\n					Yes\n			\n			\n					\n					No\n			\n			\n					\n					Unknown\n			Comments - Please let us know what's on your mind. Have a question for GGP? Ask away!CAPTCHA\n          \n            \n            \n            \n            \n            \n            \n            \n            \n            \n            \n            \n            \n            \n        \n                        \n                        \n\nCourse Details\nBrand: CompTIA\nExam: CompTIA Security+\nCEU Credits: 3.5\nCourse Hours: 35\nNumber of Days: 5\nCourse PDF
URL:https://geaugagrowthpartnership.com/event/comptia-security-2/
CATEGORIES:All GGP Events,Workforce Development
END:VEVENT
BEGIN:VEVENT
DTSTART;TZID=America/New_York:20260316T100000
DTEND;TZID=America/New_York:20260320T180000
DTSTAMP:20260424T222311
CREATED:20260320T133700Z
LAST-MODIFIED:20260320T154026Z
UID:9111-1773655200-1774029600@geaugagrowthpartnership.com
SUMMARY:Implementing Cisco Collaboration Applications (CLICA)
DESCRIPTION:Description\nImplementing Cisco Collaboration Applications (CLICA) v1.0 is a 5-day course which provides students with the knowledge and skills to streamline communication protocol\, strengthen compliance measures\, and enhance their communication systems and devices with knowledge about Single Sign-On (SSO)\, Cisco® Unified IM & Presence\, Cisco Unity® Connection and Cisco Unity Express\, and Application clients. Through a combination of lessons and hands-on training\, you acquire the skills to maximize the agility of robust management systems. \n \nPre-Requisites\n\nBasic understanding of networking technologies\nBasic understanding of voice and video\nCisco Unified Communications Manager experience including single site dial plan\, single Public Switched Telephone Network (PSTN) gateway\, and Session Initiation Protocol (SIP) trunks.\n\n \nCourse Details\nBrand: Cisco\nExam: CLICA\nCEU Credits: 3.5\nCourse Hours: 35\nNumber of Days: 5\nCourse PDF
URL:https://geaugagrowthpartnership.com/event/implementing-cisco-collaboration-applications-clica/
CATEGORIES:All GGP Events,Workforce Development
END:VEVENT
BEGIN:VEVENT
DTSTART;TZID=America/New_York:20260316T100000
DTEND;TZID=America/New_York:20260320T180000
DTSTAMP:20260424T222311
CREATED:20260320T133941Z
LAST-MODIFIED:20260320T154119Z
UID:9112-1773655200-1774029600@geaugagrowthpartnership.com
SUMMARY:Implementing Cisco Enterprise Advanced Routing and Services (ENARSI) v1.0
DESCRIPTION:Description\nThe Implementing Cisco Enterprise Advanced Routing and Services (ENARSI) v1.0 gives you the knowledge you need to install\, configure\, operate\, and troubleshoot an enterprise network. This course covers advanced routing and infrastructure technologies\, expanding on the topics covered in the Implementing and Operating Cisco Enterprise Network Core Technologies (ENCOR) v1.0 course. \nThis course helps prepare you to take the exam\, Implementing Cisco® Enterprise Advanced Routing and Services (300-410 ENARSI)\, which leads to the new CCNP® Enterprise and Cisco Certified Specialist – Enterprise Advanced Infrastructure Implementation certifications. \n \nObjectives\nAfter taking this course\, you should be able to: \n\nConfigure classic Enhanced Interior Gateway Routing Protocol (EIGRP) and named EIGRP for IPv4 and IPv6\nOptimize classic EIGRP and named EIGRP for IPv4 and IPv6\nTroubleshoot classic EIGRP and named EIGRP for IPv4 and IPv6\nConfigure Open Shortest Path First (OSPF)v2 and OSPFv3 in IPv4 and IPv6 environments\nOptimize OSPFv2 and OSPFv3 behavior\nTroubleshoot OSPFv2 for IPv4 and OSPFv3 for IPv4 and IPv6\nImplement route redistribution using filtering mechanisms\nTroubleshoot redistribution\nImplement path control using Policy-Based Routing (PBR) and IP service level agreement (SLA)\nConfigure Multiprotocol-Border Gateway Protocol (MP-BGP) in IPv4 and IPv6 environments\nOptimize MP-BGP in IPv4 and IPv6 environments\nTroubleshoot MP-BGP for IPv4 and IPv6\nDescribe the features of Multiprotocol Label Switching (MPLS)\nDescribe the major architectural components of an MPLS VPN\nIdentify the routing and packet forwarding functionalities for MPLS VPNs\nExplain how packets are forwarded in an MPLS VPN environment\nImplement Cisco Internetwork Operating System (IOS®) Dynamic Multipoint VPNs (DMVPNs)\nImplement Dynamic Host Configuration Protocol (DHCP)\nDescribe the tools available to secure the IPV6 first hop\nTroubleshoot Cisco router security features\nTroubleshoot infrastructure security and services\n\n \nPre-Requisites\nBefore taking this course\, you should have: General understanding of network fundamentals Basic knowledge of how to implement LANs General understanding of how to manage network devices General understanding of how to secure network devices Basic knowledge of network automation These Cisco courses are recommended to help you meet these prerequisites: Implementing and Operating Cisco Enterprise Network Core Technologies (ENCOR) v1.0 Interconnecting Cisco Networking Devices\, Part 1 (ICND1) v3.0 Interconnecting Cisco Networking Devices\, Part 2 (ICND2) v3.0. \n \nCourse Details\nBrand: Cisco\nExam: 300-410 ENARSI\nCEU Credits: 3.5\nCourse Hours: 35\nNumber of Days: 5\nCourse PDF
URL:https://geaugagrowthpartnership.com/event/implementing-cisco-enterprise-advanced-routing-and-services-enarsi-v1-0/
CATEGORIES:All GGP Events,Workforce Development
END:VEVENT
END:VCALENDAR