BEGIN:VCALENDAR
VERSION:2.0
PRODID:-//Geauga Growth Partnership, Inc. - ECPv6.15.20//NONSGML v1.0//EN
CALSCALE:GREGORIAN
METHOD:PUBLISH
X-ORIGINAL-URL:https://geaugagrowthpartnership.com
X-WR-CALDESC:Events for Geauga Growth Partnership, Inc.
REFRESH-INTERVAL;VALUE=DURATION:PT1H
X-Robots-Tag:noindex
X-PUBLISHED-TTL:PT1H
BEGIN:VTIMEZONE
TZID:America/New_York
BEGIN:DAYLIGHT
TZOFFSETFROM:-0500
TZOFFSETTO:-0400
TZNAME:EDT
DTSTART:20250309T070000
END:DAYLIGHT
BEGIN:STANDARD
TZOFFSETFROM:-0400
TZOFFSETTO:-0500
TZNAME:EST
DTSTART:20251102T060000
END:STANDARD
BEGIN:DAYLIGHT
TZOFFSETFROM:-0500
TZOFFSETTO:-0400
TZNAME:EDT
DTSTART:20260308T070000
END:DAYLIGHT
BEGIN:STANDARD
TZOFFSETFROM:-0400
TZOFFSETTO:-0500
TZNAME:EST
DTSTART:20261101T060000
END:STANDARD
BEGIN:DAYLIGHT
TZOFFSETFROM:-0500
TZOFFSETTO:-0400
TZNAME:EDT
DTSTART:20270314T070000
END:DAYLIGHT
BEGIN:STANDARD
TZOFFSETFROM:-0400
TZOFFSETTO:-0500
TZNAME:EST
DTSTART:20271107T060000
END:STANDARD
END:VTIMEZONE
BEGIN:VEVENT
DTSTART;TZID=America/New_York:20260330T090000
DTEND;TZID=America/New_York:20260401T170000
DTSTAMP:20260424T190050
CREATED:20260320T130553Z
LAST-MODIFIED:20260320T153121Z
UID:9128-1774861200-1775062800@geaugagrowthpartnership.com
SUMMARY:Cyber Secure Coder (CSC)
DESCRIPTION:Description\nThis course presents an approach for dealing with security and privacy throughout the entire software development lifecycle. You will learn about vulnerabilities that undermine security\, and how to identify and remediate them in your own projects. You will learn general strategies for dealing with security defects and misconfiguration\, how to design software to deal with the human element in security\, and how to incorporate security into all phases of development. \n \nPre-Requisites\nThis course presents secure programming concepts that apply to many different types of software development projects. Although this course uses Python®\, HTML\, and JavaScript® to demonstrate various programming concepts\, you do not need to have experience in these languages to benefit from this course. However\, you should have some programming experience\, whether it be developing desktop\, mobile\, web\, or cloud applications. \n \nCourse Details\nBrand: CertNexus\nExam: CSC\nCEU Credits: 2.1\nCourse Hours: 21\nNumber of Days: 3\nCourse PDF
URL:https://geaugagrowthpartnership.com/event/cyber-secure-coder-csc/
CATEGORIES:All GGP Events,Workforce Development
END:VEVENT
BEGIN:VEVENT
DTSTART;TZID=America/New_York:20260330T090000
DTEND;TZID=America/New_York:20260403T170000
DTSTAMP:20260424T190050
CREATED:20260319T191314Z
LAST-MODIFIED:20260320T145340Z
UID:9133-1774861200-1775235600@geaugagrowthpartnership.com
SUMMARY:C)IHE: Certified Incident Handling Engineer
DESCRIPTION:Description\nThis course will cover understanding how to plan\, create and utilize their systems. Prevent\, detect and respond to attacks through the use of hands-on labs in our exclusive Cyber Range. \n \nObjectives\nUpon successful completion of this course\, students will: \n\nHave knowledge to perform network forensic examinations\nBe able to accurately report on their findings\nBe ready to sit for the C)NFE exam\n\n \nPre-Requisites\n\n12 months network technologies\nSound knowledge of networking and TCP/IP\nLinux knowledge is essential\n\n \nCourse Details\nBrand: Mile2\nExam: Mile2 C)IHE\nCEU Credits: 3.5\nCourse Hours: 35\nNumber of Days: 5\nCourse PDF
URL:https://geaugagrowthpartnership.com/event/cihe-certified-incident-handling-engineer/
CATEGORIES:All GGP Events,Workforce Development
END:VEVENT
BEGIN:VEVENT
DTSTART;TZID=America/New_York:20260330T090000
DTEND;TZID=America/New_York:20260403T170000
DTSTAMP:20260424T190050
CREATED:20260319T191417Z
LAST-MODIFIED:20260320T145603Z
UID:9135-1774861200-1775235600@geaugagrowthpartnership.com
SUMMARY:C)NFE: Certified Network Forensics Examiner
DESCRIPTION:Description\nIn this course you will cover 20+ modules of network forensic topics. The C)NFE provides practical experience through our lab exercises that simulate real-world scenarios covering investigation and recovery of data in network. The C)NFE focuses on centralizing and investigating logging systems as well as network devices. \n \nObjectives\nUpon successful completion of this course\, students will: \n\nHave knowledge to perform network forensic examinations\nBe able to accurately report on their findings\, and\nBe ready to sit for the C)NFE exam\n\n \nPre-Requisites\n\n2 years networking experience\n2 years in IT Security\nWorking knowledge of TCPIP\n\n \nCourse Details\nBrand: Mile2\nExam: Mile2 C)NFE\nCEU Credits: 3.5\nCourse Hours: 35\nNumber of Days: 5\nCourse PDF
URL:https://geaugagrowthpartnership.com/event/cnfe-certified-network-forensics-examiner/
CATEGORIES:All GGP Events,Workforce Development
END:VEVENT
END:VCALENDAR