BEGIN:VCALENDAR
VERSION:2.0
PRODID:-//Geauga Growth Partnership, Inc. - ECPv6.15.20//NONSGML v1.0//EN
CALSCALE:GREGORIAN
METHOD:PUBLISH
X-ORIGINAL-URL:https://geaugagrowthpartnership.com
X-WR-CALDESC:Events for Geauga Growth Partnership, Inc.
REFRESH-INTERVAL;VALUE=DURATION:PT1H
X-Robots-Tag:noindex
X-PUBLISHED-TTL:PT1H
BEGIN:VTIMEZONE
TZID:America/New_York
BEGIN:DAYLIGHT
TZOFFSETFROM:-0500
TZOFFSETTO:-0400
TZNAME:EDT
DTSTART:20250309T070000
END:DAYLIGHT
BEGIN:STANDARD
TZOFFSETFROM:-0400
TZOFFSETTO:-0500
TZNAME:EST
DTSTART:20251102T060000
END:STANDARD
BEGIN:DAYLIGHT
TZOFFSETFROM:-0500
TZOFFSETTO:-0400
TZNAME:EDT
DTSTART:20260308T070000
END:DAYLIGHT
BEGIN:STANDARD
TZOFFSETFROM:-0400
TZOFFSETTO:-0500
TZNAME:EST
DTSTART:20261101T060000
END:STANDARD
BEGIN:DAYLIGHT
TZOFFSETFROM:-0500
TZOFFSETTO:-0400
TZNAME:EDT
DTSTART:20270314T070000
END:DAYLIGHT
BEGIN:STANDARD
TZOFFSETFROM:-0400
TZOFFSETTO:-0500
TZNAME:EST
DTSTART:20271107T060000
END:STANDARD
END:VTIMEZONE
BEGIN:VEVENT
DTSTART;TZID=America/New_York:20260629T090000
DTEND;TZID=America/New_York:20260701T170000
DTSTAMP:20260424T222055
CREATED:20260319T211219Z
LAST-MODIFIED:20260420T145549Z
UID:9072-1782723600-1782925200@geaugagrowthpartnership.com
SUMMARY:C)VA: Vulnerability Assessor
DESCRIPTION:Description\nIn this course\, you will cover the tools an IT engineer needs to review an Information System. You will learn the importance of vulnerability assessments and how they are used to prevent serious cyber break-ins. Lessons include understanding malware and viruses and how they can infiltrate an organization’s network. After you take this course\, you will be able to assess a company’s security posture and perform a basic vulnerability test. Plus\, you will be able to generate reports to guide new security implementation. \n  \nObjectives\nUpon successful completion of this course students will be able to: \n\nCompetently take the C)VA exam\n\n  \nPre-Requisites\n\nBasic Networking Understanding\n\n\n\n                \n                        \n                            Virtual - C)VA: Vulnerability Assessor\n                             \n                        \n                        Attendee Name(Required)\n                            \n                            \n                                                    \n                                                    First\n                                                \n                            \n                            \n                                                    \n                                                    Last\n                                                \n                            \n                        Company Name(Required)Email(Required)\n                            \n                        Phone(Required)Select class registration (select one class):(Required)\n								\n								06/29/2026 - 07/01/2026 | 09:00 AM - 05:00 PM\n							\n								\n								11/11/2026 - 11/13/2026 | 09:00 AM - 05:00 PM\n							Are you a GGP Member?(Required)\n			\n					\n					Yes\n			\n			\n					\n					No\n			\n			\n					\n					Unknown\n			Comments - Please let us know what's on your mind. Have a question for GGP? Ask away!CAPTCHA\n          \n            \n            \n            \n            \n            \n            \n            \n            \n            \n            \n            \n            \n            \n        \n                        \n                        \n\nCourse Details\nBrand: Mile2\nExam: Mile2 C)VA\nCEU Credits: 2.1\nCourse Hours: 21\nNumber of Days: 3\nCourse PDF
URL:https://geaugagrowthpartnership.com/event/cva-vulnerability-assessor-2/
CATEGORIES:All GGP Events,Workforce Development
END:VEVENT
END:VCALENDAR