BEGIN:VCALENDAR
VERSION:2.0
PRODID:-//Geauga Growth Partnership, Inc. - ECPv6.15.20//NONSGML v1.0//EN
CALSCALE:GREGORIAN
METHOD:PUBLISH
X-WR-CALNAME:Geauga Growth Partnership, Inc.
X-ORIGINAL-URL:https://geaugagrowthpartnership.com
X-WR-CALDESC:Events for Geauga Growth Partnership, Inc.
REFRESH-INTERVAL;VALUE=DURATION:PT1H
X-Robots-Tag:noindex
X-PUBLISHED-TTL:PT1H
BEGIN:VTIMEZONE
TZID:America/New_York
BEGIN:DAYLIGHT
TZOFFSETFROM:-0500
TZOFFSETTO:-0400
TZNAME:EDT
DTSTART:20250309T070000
END:DAYLIGHT
BEGIN:STANDARD
TZOFFSETFROM:-0400
TZOFFSETTO:-0500
TZNAME:EST
DTSTART:20251102T060000
END:STANDARD
BEGIN:DAYLIGHT
TZOFFSETFROM:-0500
TZOFFSETTO:-0400
TZNAME:EDT
DTSTART:20260308T070000
END:DAYLIGHT
BEGIN:STANDARD
TZOFFSETFROM:-0400
TZOFFSETTO:-0500
TZNAME:EST
DTSTART:20261101T060000
END:STANDARD
BEGIN:DAYLIGHT
TZOFFSETFROM:-0500
TZOFFSETTO:-0400
TZNAME:EDT
DTSTART:20270314T070000
END:DAYLIGHT
BEGIN:STANDARD
TZOFFSETFROM:-0400
TZOFFSETTO:-0500
TZNAME:EST
DTSTART:20271107T060000
END:STANDARD
END:VTIMEZONE
BEGIN:VEVENT
DTSTART;TZID=America/New_York:20260803T090000
DTEND;TZID=America/New_York:20260805T170000
DTSTAMP:20260425T113356
CREATED:20260319T191330Z
LAST-MODIFIED:20260420T150533Z
UID:9027-1785747600-1785949200@geaugagrowthpartnership.com
SUMMARY:C)ISMS-LA: Certified ISMS Lead Auditor
DESCRIPTION:Description\nIn this course\, you will be prepared to conduct audits of information security management systems (“ISMS”) to ensure that they meet ISO/IEC 27001 standards in any organization. \n\n\nISMS ISO/IEC 27001 Audit Methodology:\n\n\n  \n\n\nPlanning\n\n\n  \n\n\nControl Evaluation\n\n\n  \n\n\nSubstantive Testing\n\n\n  \nCompletion\nThe C)ISMS-LA is perfect for those looking to perform an internal or external ISMS 1S0/IEC 27001 audit. \n  \nObjectives\nUpon successful completion of this course students will be able to: \n\nCompetently take the C)ISMS-LA exam\nAcquire the necessary knowledge to manage an ISMS audit\n\n  \nPre-Requisites\n\nExperience with Information Systems\nInterest in Auditing\n\n\n\n                \n                        \n                            Virtual - C)SLO: Certified Security Leadership Officer\n                             \n                        \n                        Attendee Name(Required)\n                            \n                            \n                                                    \n                                                    First\n                                                \n                            \n                            \n                                                    \n                                                    Last\n                                                \n                            \n                        Company Name(Required)Email(Required)\n                            \n                        Phone(Required)Select class registration (select one class):(Required)\n								\n								07/27/2026 - 07/28/2026 | 09:00 AM - 05:00 PM\n							Are you a GGP Member?(Required)\n			\n					\n					Yes\n			\n			\n					\n					No\n			\n			\n					\n					Unknown\n			Comments - Please let us know what's on your mind. Have a question for GGP? Ask away!CAPTCHA\n          \n            \n            \n            \n            \n            \n            \n            \n            \n            \n            \n            \n            \n            \n        \n                        \n                        \n\nCourse Details\nBrand: Mile2\nExam: Mile2 C)ISMS-LA\nCEU Credits: 2.1\nCourse Hours: 21\nNumber of Days: 3\nCourse PDF
URL:https://geaugagrowthpartnership.com/event/cisms-la-certified-isms-lead-auditor-2/
CATEGORIES:All GGP Events,Workforce Development
END:VEVENT
BEGIN:VEVENT
DTSTART;TZID=America/New_York:20260803T090000
DTEND;TZID=America/New_York:20260807T170000
DTSTAMP:20260425T113356
CREATED:20260319T191403Z
LAST-MODIFIED:20260406T153006Z
UID:9168-1785747600-1786122000@geaugagrowthpartnership.com
SUMMARY:C)ISSO: Information Systems Security Officer
DESCRIPTION:Description\nIf you are look for the “gotta have it” cybersecurity course\, then the Certified Information Systems Security Officer is for you. The C)ISSO will prepare you with a broad range of knowledge and skills required of a security officer. However\, these skills can be applied across a broad range of role-based careers. \nA C)ISSO is able to implement and maintain cost-effective security controls that are closely aligned with business and industry standards. The C)ISSO certification course is an ideal way to increase knowledge\, expertise\, and skill for managers\, auditors\, and INFOSEC professionals. The things you learn in this course can be applied to management\, prevention teams\, and recovery professionals. \n  \nObjectives\nUpon successful completion of this course\, students will not only be able to establish industry-acceptable Cyber Security & IS management standards with current best practices but also be prepared to competently take the CISSO exam. \n  \nPre-Requisites\n\nC)SP\nC)ISSM\n12 months of Information Systems Management Experience\n\n\n                \n                        \n                            Virtual - C)ISSO: Information Systems Security Officer\n                             \n                        \n                        Attendee Name(Required)\n                            \n                            \n                                                    \n                                                    First\n                                                \n                            \n                            \n                                                    \n                                                    Last\n                                                \n                            \n                        Company Name(Required)Email(Required)\n                            \n                        Phone(Required)Select class registration (select one class):(Required)\n								\n								04/06/2026 - 04/10/2026 | 09:00 AM - 05:00 PM\n							\n								\n								08/03/2026 - 08/07/2026 | 09:00 AM - 05:00 PM\n							\n								\n								09/28/2026 - 10/02/2026 | 09:00 AM - 05:00 PM\n							\n								\n								12/07/2026 - 12/11/2026 | 09:00 AM - 05:00 PM\n							Are you a GGP Member?(Required)\n			\n					\n					Yes\n			\n			\n					\n					No\n			\n			\n					\n					Unknown\n			Comments - Please let us know what's on your mind. Have a question for GGP? Ask away!CAPTCHA\n          \n            \n            \n            \n            \n            \n            \n            \n            \n            \n            \n            \n            \n            \n        \n                        \n                        \n\nCourse Details\nBrand: Mile2\nExam: Mile2 C)ISSO\nCEU Credits: 3.5\nCourse Hours: 35\nNumber of Days: 5\nCourse PDF
URL:https://geaugagrowthpartnership.com/event/cisso-information-systems-security-officer-2/
CATEGORIES:All GGP Events,Workforce Development
END:VEVENT
BEGIN:VEVENT
DTSTART;TZID=America/New_York:20260803T090000
DTEND;TZID=America/New_York:20260807T170000
DTSTAMP:20260425T113356
CREATED:20260319T222100Z
LAST-MODIFIED:20260320T151651Z
UID:9119-1785747600-1786122000@geaugagrowthpartnership.com
SUMMARY:CompTIA: A+ Core 1
DESCRIPTION:Description\nCompTIA A+ Core 1 is the first of two exams required to earn the industry-standard A+ certification\, designed to launch your tech career. This exam focuses on foundational skills in hardware\, networking\, mobile devices\, and troubleshooting. Passing Core 1 and Core 2 prepares you for roles like IT support specialist and help desk technician while building the knowledge needed to pursue advanced certifications like Network+ and Security+. \n \nObjectives\nUpon successful completion of this course\, students will: \n\nInstall\, configure\, and maintain computer equipment\, mobile devices\, and software for end users.\nService components based on customer requirements.\nUnderstand networking basics and apply basic cybersecurity methods to mitigate threats.\nProperly and safely diagnose\, resolve\, and document common hardware and software issues.\nApply troubleshooting skills and provide customer support using appropriate communication skills.\nUnderstand the basics of scripting\, cloud technologies\, virtualization\, and multi-OS deployments in corporate environments.\n\n \nPre-Requisites\nNone \n \nCourse Details\nBrand: CompTIA\nExam: CompTIA A+ Core 1 (220-1101)\nCEU Credits: 3.5\nCourse Hours: 35\nNumber of Days: 5\nCourse PDF
URL:https://geaugagrowthpartnership.com/event/comptia-a-core-1/
CATEGORIES:All GGP Events,Workforce Development
END:VEVENT
BEGIN:VEVENT
DTSTART;TZID=America/New_York:20260803T090000
DTEND;TZID=America/New_York:20260807T170000
DTSTAMP:20260425T113356
CREATED:20260320T123925Z
LAST-MODIFIED:20260406T154719Z
UID:9155-1785747600-1786122000@geaugagrowthpartnership.com
SUMMARY:CompTIA: Linux+
DESCRIPTION:Description\nIn this course\, you will cover: This course provides a comprehensive guide to common tasks performed by system administrators\, including installation\, customization\, and troubleshooting. Expanded coverage of networking and security provide everything you need to hit the ground running. This course maps to the LX0-101 and LX0-102 Linux+ Powered by LPI exams. \n  \nObjectives\nUpon successful completion of this course\, students will: \n\nIdentify Basic Linux Concepts\nAdminister Users and Groups\nConfigure Permissions\nImplement File Management\nAuthor Text Files\nDeploy Software\nAdminister Storage\nManage the Linux Kernel and Devices\nMaintain Services\nConfigure Network Settings\nSecure a Linux System\nInstall Linux\nScript with Bash and Python\nManage Containers in Linux\nAutomate Infrastructure Management\n\n  \nPre-Requisites\nTo ensure your success in this course\, you should have at least 12 months of hands-on experience working with Linux servers. CompTIA A+\, Network+\, and Server+ certifications\, or the equivalent knowledge\, are strongly recommended. \n\n                \n                        \n                            Virtual - CompTIA: Linux+\n                             \n                        \n                        Attendee Name(Required)\n                            \n                            \n                                                    \n                                                    First\n                                                \n                            \n                            \n                                                    \n                                                    Last\n                                                \n                            \n                        Company Name(Required)Email(Required)\n                            \n                        Phone(Required)Select class registration (select one class):(Required)\n								\n								04/06/2026 - 04/10/2026 | 09:00 AM - 05:00 PM\n							\n								\n								08/03/2026 - 08/07/2026 | 09:00 AM - 05:00 PM\n							\n								\n								09/14/2026 - 09/18/2026 | 09:00 AM - 05:00 PM\n							\n								\n								12/14/2026 - 12/18/2026 | 09:00 AM - 05:00 PM\n							Are you a GGP Member?(Required)\n			\n					\n					Yes\n			\n			\n					\n					No\n			\n			\n					\n					Unknown\n			Comments - Please let us know what's on your mind. Have a question for GGP? Ask away!CAPTCHA\n          \n            \n            \n            \n            \n            \n            \n            \n            \n            \n            \n            \n            \n            \n        \n                        \n                        \n\nCourse Details\nBrand: CompTIA\nExam: CompTIA Linux+\nCEU Credits: 3.5\nCourse Hours: 35\nNumber of Days: 5\nCourse PDF
URL:https://geaugagrowthpartnership.com/event/comptia-linux-4/
CATEGORIES:All GGP Events,Workforce Development
END:VEVENT
BEGIN:VEVENT
DTSTART;TZID=America/New_York:20260804T090000
DTEND;TZID=America/New_York:20260807T170000
DTSTAMP:20260425T113356
CREATED:20260319T174954Z
LAST-MODIFIED:20260406T160836Z
UID:9082-1785834000-1786122000@geaugagrowthpartnership.com
SUMMARY:AZ-305T00: Designing Microsoft Azure Infrastructure Solutions
DESCRIPTION:Description\nIn this course\, you will cover governance\, compute\, application architecture\, storage\, data integration\, authentication\, networks\, business continuity\, and migrations. The course combines lecture with case studies to demonstrate basic architect design principles. \n  \nObjectives\n\nDesign a governance solution.\nDesign a compute solution.\nDesign an application architecture.\nDesign storage\, non-relational and relational.\nDesign data integration solutions.\nDesign authentication\, authorization\, and identity solutions.\nDesign network solutions.\nDesign backup and disaster recovery solutions.\nDesign monitoring solutions.\nDesign migration solutions.\n\n  \nPre-Requisites\nBefore attending this course\, students must have previous experience deploying or administering Azure resources and strong conceptual knowledge of: \n\nAzure Active Directory\nAzure compute technologies such as VMs\, containers and serverless solutions\nAzure virtual networking to include load balancers\nAzure Storage technologies (unstructured and databases)\nGeneral application design concepts such as messaging and high availability\n\nPrerequisite courses (or equivalent knowledge and hands-on experience): This free online training will give you the experience you need to be successful in this course. \n\nAZ-104T00: Microsoft Azure Administrator\n\n\n                \n                        \n                            Virtual - AZ-305T00: Designing Microsoft Azure Infrastructure Solutions\n                             \n                        \n                        Attendee Name(Required)\n                            \n                            \n                                                    \n                                                    First\n                                                \n                            \n                            \n                                                    \n                                                    Last\n                                                \n                            \n                        Company Name(Required)Email(Required)\n                            \n                        Phone(Required)Select class registration (select one class):(Required)\n								\n								04/06/2026 - 04/09/2026 | 10:00 AM - 06:00 PM\n							\n								\n								06/01/2026 - 06/04/2026 | 10:00 AM - 06:00 PM\n							\n								\n								06/15/2026 - 06/18/2026 | 10:00 AM - 06:00 PM\n							\n								\n								08/04/2026 - 08/07/2026 | 09:00 AM - 05:00 PM\n							\n								\n								09/01/2026 - 09/04/2026 | 09:00 AM - 05:00 PM\n							\n								\n								10/06/2026 - 10/09/2026 | 09:00 AM - 05:00 PM\n							\n								\n								11/10/2026 - 11/13/2026 | 09:00 AM - 05:00 PM\n							\n								\n								12/15/2026 - 12/18/2026 | 09:00 AM - 05:00 PM\n							Are you a GGP Member?(Required)\n			\n					\n					Yes\n			\n			\n					\n					No\n			\n			\n					\n					Unknown\n			Comments - Please let us know what's on your mind. Have a question for GGP? Ask away!CAPTCHA\n          \n            \n            \n            \n            \n            \n            \n            \n            \n            \n            \n            \n            \n            \n        \n                        \n                        \n\nCourse Details\nBrand: Microsoft\nExam: Exam AZ-305: Designing Microsoft Azure Infrastructure Solutions\nCEU Credits: 2.8\nCourse Hours: 28\nNumber of Days: 4\nCourse PDF
URL:https://geaugagrowthpartnership.com/event/az-305t00-designing-microsoft-azure-infrastructure-solutions-5/
CATEGORIES:All GGP Events,Workforce Development
END:VEVENT
BEGIN:VEVENT
DTSTART;TZID=America/New_York:20260804T090000
DTEND;TZID=America/New_York:20260807T170000
DTSTAMP:20260425T113356
CREATED:20260319T183057Z
LAST-MODIFIED:20260413T160933Z
UID:9054-1785834000-1786122000@geaugagrowthpartnership.com
SUMMARY:AZ-800T00: Administering Windows Server Hybrid Core Infrastructure
DESCRIPTION:Description\nIn this course\, you will cover how to manage core Windows Server workloads and services using on-premises\, hybrid\, and cloud technologies. The course teaches IT Professionals how to implement and manage on-premises and hybrid solutions such as identity\, management\, compute\, networking\, and storage in a Windows Server hybrid environment. \n  \nObjectives\n\nUse administrative techniques and tools in Windows Server.\nIdentify tools used to implement hybrid solutions\, including Windows Admin Center and PowerShell.\nImplement identity services in Windows Server.\nImplement identity in hybrid scenarios\, including Azure AD DS on Azure IaaS and managed AD DS.\nIntegrate Azure AD DS with Azure AD.\nManage network infrastructure services.\nDeploy Azure VMs running Windows Server\, and configure networking and storage.\nAdminister and manage Windows Server IaaS Virtual Machine remotely.\nManage and maintain Azure VMs running Windows Server.\nConfigure file servers and storage.\nImplement File Services in hybrid scenarios\, using Azure Files and Azure File Sync.\n\n  \nPre-Requisites\nBefore attending this course\, students must have: \n\nExperience with managing Windows Server operating system and Windows Server workloads in on-premises scenarios\, including AD DS\, DNS\, DFS\, Hyper-V\, and File and Storage Services\nExperience with common Windows Server management tools (implied in the first prerequisite).\nBasic knowledge of core Microsoft compute\, storage\, networking\, and virtualization technologies (implied in the first prerequisite).\nExperience and an understanding of core networking technologies such as IP addressing\, name resolution\, and Dynamic Host Configuration Protocol (DHCP)\nExperience working with and an understanding of Microsoft Hyper-V and basic server virtualization concepts\nBasic experience with implementing and managing IaaS services in Microsoft Azure\nBasic knowledge of Azure Active Directory\nExperience working hands-on with Windows client operating systems such as Windows 10 or Windows 11\nBasic experience with Windows PowerShell\n\n\n                \n                        \n                            Virtual - AZ-800T00: Administering Windows Server Hybrid Core Infrastructure\n                             \n                        \n                        Attendee Name(Required)\n                            \n                            \n                                                    \n                                                    First\n                                                \n                            \n                            \n                                                    \n                                                    Last\n                                                \n                            \n                        Company Name(Required)Email(Required)\n                            \n                        Phone(Required)Select class registration (select one class):(Required)\n								\n								04/21/2026 - 04/24/2026 | 09:00 AM - 05:00 PM\n							\n								\n								05/11/2026 - 05/14/2026 | 10:00 AM - 06:00 PM\n							\n								\n								06/02/2026 - 06/05/2026 | 09:00 AM - 05:00 PM\n							\n								\n								07/07/2026 - 07/10/2026 | 09:00 AM - 05:00 PM\n							\n								\n								08/04/2026 - 08/07/2026 | 09:00 AM - 05:00 PM\n							\n								\n								09/08/2026 - 09/11/2026 | 09:00 AM - 05:00 PM\n							\n								\n								10/06/2026 - 10/09/2026 | 09:00 AM - 05:00 PM\n							\n								\n								11/03/2026 - 11/06/2026 | 09:00 AM - 05:00 PM\n							Are you a GGP Member?(Required)\n			\n					\n					Yes\n			\n			\n					\n					No\n			\n			\n					\n					Unknown\n			Comments - Please let us know what's on your mind. Have a question for GGP? Ask away!CAPTCHA\n          \n            \n            \n            \n            \n            \n            \n            \n            \n            \n            \n            \n            \n            \n        \n                        \n                        \n\nCourse Details\nBrand: Microsoft\nExam: AZ-800: Administering Windows Server Hybrid Core Infrastructure\nCEU Credits: 2.8\nCourse Hours: 28\nNumber of Days: 4\nCourse PDF
URL:https://geaugagrowthpartnership.com/event/az-800t00-administering-windows-server-hybrid-core-infrastructure-6/
CATEGORIES:All GGP Events,Workforce Development
END:VEVENT
BEGIN:VEVENT
DTSTART;TZID=America/New_York:20260804T090000
DTEND;TZID=America/New_York:20260807T170000
DTSTAMP:20260425T113356
CREATED:20260319T190128Z
LAST-MODIFIED:20260406T161133Z
UID:9183-1785834000-1786122000@geaugagrowthpartnership.com
SUMMARY:C)CSSM: Certified Cybersecurity Systems Manager
DESCRIPTION:Description\nCompanies will lean on a Certified Cybersecurity Systems Manager\, C)CSSM to create solutions for tomorrow’s problems\, today. When it comes to identifying critical issues and providing effective IS management solutions. The knowledge and course content provided in the Certified Cybersecurity Systems Manager – C)CSSM will cover a measurable certification that demonstrates proficiency in the IS Management Field. The Certified Cybersecurity Systems Manager covers the skills and knowledge to assess threat analysis and risks\, Risk & incident management\, and Security programs\, IS security strategy and frameworks\, Audit and Risk management creation of policies\, compliance\, and awareness. \n  \nObjectives\nUpon successful completion of this course\, students will: \n\nHave a strong foundation in Cyber Security & IS management standards with current best practices\nBe prepared to competently take the C)CSSM exam\n\n  \nPre-Requisites\n\nC)SP\n1 year experience in information systems\n\n\n                \n                        \n                            Virtual - C)CSSM: Certified Cybersecurity Systems Manager\n                             \n                        \n                        Attendee Name(Required)\n                            \n                            \n                                                    \n                                                    First\n                                                \n                            \n                            \n                                                    \n                                                    Last\n                                                \n                            \n                        Company Name(Required)Email(Required)\n                            \n                        Phone(Required)Select class registration (select one class):(Required)\n								\n								04/07/2026 - 04/10/2026 | 09:00 AM - 05:00 PM\n							\n								\n								06/08/2026 - 06/11/2026 | 09:00 AM - 05:00 PM\n							\n								\n								08/04/2026 - 08/07/2026 | 09:00 AM - 05:00 PM\n							\n								\n								12/08/2026 - 12/11/2026 | 09:00 AM - 05:00 PM\n							Are you a GGP Member?(Required)\n			\n					\n					Yes\n			\n			\n					\n					No\n			\n			\n					\n					Unknown\n			Comments - Please let us know what's on your mind. Have a question for GGP? Ask away!CAPTCHA\n          \n            \n            \n            \n            \n            \n            \n            \n            \n            \n            \n            \n            \n            \n        \n                        \n                        \n\nCourse Details\nBrand: Mile2\nExam: Mile2 C)CSSM\nCEU Credits: 2.8\nCourse Hours: 28\nNumber of Days: 4\nCourse PDF
URL:https://geaugagrowthpartnership.com/event/ccssm-certified-cybersecurity-systems-manager-4/
CATEGORIES:All GGP Events,Workforce Development
END:VEVENT
BEGIN:VEVENT
DTSTART;TZID=America/New_York:20260805T100000
DTEND;TZID=America/New_York:20260805T120000
DTSTAMP:20260425T113356
CREATED:20260320T132724Z
LAST-MODIFIED:20260413T163151Z
UID:9197-1785924000-1785931200@geaugagrowthpartnership.com
SUMMARY:DSBIZ: Data Science for Business Professionals
DESCRIPTION:Description\nThe ability to identify and respond to changing trends is a hallmark of a successful business. Whether those trends are related to customers and sales\, or to regulatory and industry standards\, businesses are wise to keep track of the variables that can affect the bottom line. In today’s business landscape\, data comes from numerous sources and in diverse forms. By leveraging data science concepts and technologies\, businesses can mold all that raw data into information that facilitates decisions to improve and expand the success of the business. \n  \nObjectives\nUpon successful completion of this course\, students will be able to: \n\nIdentify how data science supports informed business decisions.\nExplain the fundamentals of data science.\nIdentify functions of data science for business.\nImplement business requirements for data science.\n\n  \nPre-Requisites\nTo ensure your success with this course\, you should have basic knowledge of business processes\, general business concepts\, and relevant data that helps to solve business problems or achieve business goals. You should also have a basic understanding of information technology (IT) resources and systems\, including networks\, computers\, and other digital devices used in an enterprise setting. \n\n                \n                        \n                            Virtual - DSBIZ: Data Science for Business Professionals\n                             \n                        \n                        Attendee Name(Required)\n                            \n                            \n                                                    \n                                                    First\n                                                \n                            \n                            \n                                                    \n                                                    Last\n                                                \n                            \n                        Company Name(Required)Email(Required)\n                            \n                        Phone(Required)Select class registration (select one class):(Required)\n								\n								04/24/2026 | 10:00 AM - 12:00 PM\n							\n								\n								08/05/2026 | 10:00 AM - 12:00 PM\n							\n								\n								11/13/2026 | 10:00 AM - 12:00 PM\n							Are you a GGP Member?(Required)\n			\n					\n					Yes\n			\n			\n					\n					No\n			\n			\n					\n					Unknown\n			Comments - Please let us know what's on your mind. Have a question for GGP? Ask away!CAPTCHA\n          \n            \n            \n            \n            \n            \n            \n            \n            \n            \n            \n            \n            \n            \n        \n                        \n                        \n\nCourse Details\nBrand: CertNexus\nExam: DSBIZ\nCEU Credits: 0.2\nCourse Hours: 2\nNumber of Days: 1\nCourse PDF
URL:https://geaugagrowthpartnership.com/event/dsbiz-data-science-for-business-professionals-2/
CATEGORIES:All GGP Events,Workforce Development
END:VEVENT
END:VCALENDAR