BEGIN:VCALENDAR
VERSION:2.0
PRODID:-//Geauga Growth Partnership, Inc. - ECPv6.15.20//NONSGML v1.0//EN
CALSCALE:GREGORIAN
METHOD:PUBLISH
X-WR-CALNAME:Geauga Growth Partnership, Inc.
X-ORIGINAL-URL:https://geaugagrowthpartnership.com
X-WR-CALDESC:Events for Geauga Growth Partnership, Inc.
REFRESH-INTERVAL;VALUE=DURATION:PT1H
X-Robots-Tag:noindex
X-PUBLISHED-TTL:PT1H
BEGIN:VTIMEZONE
TZID:America/New_York
BEGIN:DAYLIGHT
TZOFFSETFROM:-0500
TZOFFSETTO:-0400
TZNAME:EDT
DTSTART:20250309T070000
END:DAYLIGHT
BEGIN:STANDARD
TZOFFSETFROM:-0400
TZOFFSETTO:-0500
TZNAME:EST
DTSTART:20251102T060000
END:STANDARD
BEGIN:DAYLIGHT
TZOFFSETFROM:-0500
TZOFFSETTO:-0400
TZNAME:EDT
DTSTART:20260308T070000
END:DAYLIGHT
BEGIN:STANDARD
TZOFFSETFROM:-0400
TZOFFSETTO:-0500
TZNAME:EST
DTSTART:20261101T060000
END:STANDARD
BEGIN:DAYLIGHT
TZOFFSETFROM:-0500
TZOFFSETTO:-0400
TZNAME:EDT
DTSTART:20270314T070000
END:DAYLIGHT
BEGIN:STANDARD
TZOFFSETFROM:-0400
TZOFFSETTO:-0500
TZNAME:EST
DTSTART:20271107T060000
END:STANDARD
END:VTIMEZONE
BEGIN:VEVENT
DTSTART;TZID=America/New_York:20260817T090000
DTEND;TZID=America/New_York:20260821T170000
DTSTAMP:20260425T160747
CREATED:20260319T191422Z
LAST-MODIFIED:20260420T151432Z
UID:9136-1786957200-1787331600@geaugagrowthpartnership.com
SUMMARY:C)NFE: Certified Network Forensics Examiner
DESCRIPTION:Description\nIn this course you will cover 20+ modules of network forensic topics. The C)NFE provides practical experience through our lab exercises that simulate real-world scenarios covering investigation and recovery of data in network. The C)NFE focuses on centralizing and investigating logging systems as well as network devices. \n  \nObjectives\nUpon successful completion of this course\, students will: \n\nHave knowledge to perform network forensic examinations\nBe able to accurately report on their findings\, and\nBe ready to sit for the C)NFE exam\n\n  \nPre-Requisites\n\n2 years networking experience\n2 years in IT Security\nWorking knowledge of TCPIP\n\n\n\n                \n                        \n                            Virtual - C)NFE: Certified Network Forensics Examiner\n                             \n                        \n                        Attendee Name(Required)\n                            \n                            \n                                                    \n                                                    First\n                                                \n                            \n                            \n                                                    \n                                                    Last\n                                                \n                            \n                        Company Name(Required)Email(Required)\n                            \n                        Phone(Required)Select class registration (select one class):(Required)\n								\n								08/17/2026 - 08/19/2026 | 09:00 AM - 05:00 PM\n							\n								\n								11/30/2026 - 12/02/2026 | 09:00 AM - 05:00 PM\n							Are you a GGP Member?(Required)\n			\n					\n					Yes\n			\n			\n					\n					No\n			\n			\n					\n					Unknown\n			Comments - Please let us know what's on your mind. Have a question for GGP? Ask away!CAPTCHA\n          \n            \n            \n            \n            \n            \n            \n            \n            \n            \n            \n            \n            \n            \n        \n                        \n                        \n\nCourse Details\nBrand: Mile2\nExam: Mile2 C)NFE\nCEU Credits: 3.5\nCourse Hours: 35\nNumber of Days: 5\nCourse PDF
URL:https://geaugagrowthpartnership.com/event/cnfe-certified-network-forensics-examiner-2/
CATEGORIES:All GGP Events,Workforce Development
END:VEVENT
BEGIN:VEVENT
DTSTART;TZID=America/New_York:20260817T090000
DTEND;TZID=America/New_York:20260821T170000
DTSTAMP:20260425T160747
CREATED:20260320T122431Z
LAST-MODIFIED:20260420T151649Z
UID:9239-1786957200-1787331600@geaugagrowthpartnership.com
SUMMARY:CompTIA: Data+
DESCRIPTION:Description\nIn this course\, you will cover the knowledge and skills required to transform business requirements in support of data-driven decisions by mining data\, manipulating data\, applying basic statistical methods\, and analyzing complex data sets while adhering to governance and quality standards throughout the entire data lifecycle. In addition\, it will help prepare candidates to take the CompTIA Data+ certification exam. \n  \nObjectives\nUpon successful completion of this course\, students will be able to: \n\nMine data\nManipulate data\nVisualize and report data\nApply basic statistical methods\nAnalyze complex datasets while adhering to governance and quality standards throughout the entire data life cycle\n\n  \nPre-Requisites\nBasic understanding of computers and operating systems. \n\n                \n                        \n                            Virtual - CompTIA: Data+\n                             \n                        \n                        Attendee Name(Required)\n                            \n                            \n                                                    \n                                                    First\n                                                \n                            \n                            \n                                                    \n                                                    Last\n                                                \n                            \n                        Company Name(Required)Email(Required)\n                            \n                        Phone(Required)Select class registration (select one class):(Required)\n								\n								08/17/2026 - 08/19/2026 | 09:00 AM - 05:00 PM\n							\n								\n								11/16/2026 - 11/18/2026 | 09:00 AM - 05:00 PM\n							Are you a GGP Member?(Required)\n			\n					\n					Yes\n			\n			\n					\n					No\n			\n			\n					\n					Unknown\n			Comments - Please let us know what's on your mind. Have a question for GGP? Ask away!CAPTCHA\n          \n            \n            \n            \n            \n            \n            \n            \n            \n            \n            \n            \n            \n            \n        \n                        \n                        \n\nCourse Details\nBrand: CompTIA\nExam: CompTIA Data+\nCEU Credits: 3.5\nCourse Hours: 35\nNumber of Days: 5\nCourse PDF
URL:https://geaugagrowthpartnership.com/event/comptia-data/
CATEGORIES:All GGP Events,Workforce Development
END:VEVENT
END:VCALENDAR