BEGIN:VCALENDAR
VERSION:2.0
PRODID:-//Geauga Growth Partnership, Inc. - ECPv6.15.20//NONSGML v1.0//EN
CALSCALE:GREGORIAN
METHOD:PUBLISH
X-ORIGINAL-URL:https://geaugagrowthpartnership.com
X-WR-CALDESC:Events for Geauga Growth Partnership, Inc.
REFRESH-INTERVAL;VALUE=DURATION:PT1H
X-Robots-Tag:noindex
X-PUBLISHED-TTL:PT1H
BEGIN:VTIMEZONE
TZID:America/New_York
BEGIN:DAYLIGHT
TZOFFSETFROM:-0500
TZOFFSETTO:-0400
TZNAME:EDT
DTSTART:20250309T070000
END:DAYLIGHT
BEGIN:STANDARD
TZOFFSETFROM:-0400
TZOFFSETTO:-0500
TZNAME:EST
DTSTART:20251102T060000
END:STANDARD
BEGIN:DAYLIGHT
TZOFFSETFROM:-0500
TZOFFSETTO:-0400
TZNAME:EDT
DTSTART:20260308T070000
END:DAYLIGHT
BEGIN:STANDARD
TZOFFSETFROM:-0400
TZOFFSETTO:-0500
TZNAME:EST
DTSTART:20261101T060000
END:STANDARD
BEGIN:DAYLIGHT
TZOFFSETFROM:-0500
TZOFFSETTO:-0400
TZNAME:EDT
DTSTART:20270314T070000
END:DAYLIGHT
BEGIN:STANDARD
TZOFFSETFROM:-0400
TZOFFSETTO:-0500
TZNAME:EST
DTSTART:20271107T060000
END:STANDARD
END:VTIMEZONE
BEGIN:VEVENT
DTSTART;TZID=America/New_York:20260824T090000
DTEND;TZID=America/New_York:20260828T170000
DTSTAMP:20260425T113534
CREATED:20260319T191320Z
LAST-MODIFIED:20260420T151828Z
UID:9134-1787562000-1787936400@geaugagrowthpartnership.com
SUMMARY:C)IHE: Certified Incident Handling Engineer
DESCRIPTION:Description\nThis course will cover understanding how to plan\, create and utilize their systems. Prevent\, detect and respond to attacks through the use of hands-on labs in our exclusive Cyber Range. \n  \nObjectives\nUpon successful completion of this course\, students will: \n\nHave knowledge to perform network forensic examinations\nBe able to accurately report on their findings\nBe ready to sit for the C)NFE exam\n\n  \nPre-Requisites\n\n12 months network technologies\nSound knowledge of networking and TCP/IP\nLinux knowledge is essential\n\n\n\n                \n                        \n                            Virtual - C)IHE: Certified Incident Handling Engineer\n                             \n                        \n                        Attendee Name(Required)\n                            \n                            \n                                                    \n                                                    First\n                                                \n                            \n                            \n                                                    \n                                                    Last\n                                                \n                            \n                        Company Name(Required)Email(Required)\n                            \n                        Phone(Required)Select class registration (select one class):(Required)\n								\n								08/24/2026 - 08/26/2026 | 09:00 AM - 05:00 PM\n							Are you a GGP Member?(Required)\n			\n					\n					Yes\n			\n			\n					\n					No\n			\n			\n					\n					Unknown\n			Comments - Please let us know what's on your mind. Have a question for GGP? Ask away!CAPTCHA\n          \n            \n            \n            \n            \n            \n            \n            \n            \n            \n            \n            \n            \n            \n        \n                        \n                        \n\nCourse Details\nBrand: Mile2\nExam: Mile2 C)IHE\nCEU Credits: 3.5\nCourse Hours: 35\nNumber of Days: 5\nCourse PDF
URL:https://geaugagrowthpartnership.com/event/cihe-certified-incident-handling-engineer-2/
CATEGORIES:All GGP Events,Workforce Development
END:VEVENT
BEGIN:VEVENT
DTSTART;TZID=America/New_York:20260824T090000
DTEND;TZID=America/New_York:20260828T170000
DTSTAMP:20260425T113534
CREATED:20260319T211314Z
LAST-MODIFIED:20260420T152027Z
UID:9241-1787562000-1787936400@geaugagrowthpartnership.com
SUMMARY:C)PTC: Certified Penetration Testing Consultant
DESCRIPTION:Description\nIn this course\, you will cover an in-depth look into specific penetration testing and techniques used against operating systems. This course will teach you the necessary skills to work with a penetration testing team\, the exploitation process\, and how to create a buffer overflow against programs running on Windows and Linux while subverting features such as DEP and ASLR. \n  \nObjectives\nUpon successful completion of this course students will: \n\nHave solid knowledge of testing and reporting proceedures which will prepare them for upper management roles within a cybersecurity system\nBe able to competently take the C)PTC exam\n\n  \nPre-Requisites\n\nC)PEH and C)PTE or equivalent knowledge\n2 years of experience in Networking Technologies\nSound Knowledge of TCP/IP\nComputer Hardware Knowledge\n\n\n                \n                        \n                            Virtual - C)PTC: Certified Penetration Testing Consultant\n                             \n                        \n                        Attendee Name(Required)\n                            \n                            \n                                                    \n                                                    First\n                                                \n                            \n                            \n                                                    \n                                                    Last\n                                                \n                            \n                        Company Name(Required)Email(Required)\n                            \n                        Phone(Required)Select class registration (select one class):(Required)\n								\n								08/24/2026 - 08/26/2026 | 09:00 AM - 05:00 PM\n							Are you a GGP Member?(Required)\n			\n					\n					Yes\n			\n			\n					\n					No\n			\n			\n					\n					Unknown\n			Comments - Please let us know what's on your mind. Have a question for GGP? Ask away!CAPTCHA\n          \n            \n            \n            \n            \n            \n            \n            \n            \n            \n            \n            \n            \n            \n        \n                        \n                        \n\nCourse Details\nBrand: Mile2\nExam: Mile2 C)PTC\nCEU Credits: 3.5\nCourse Hours: 35\nNumber of Days: 5\nCourse PDF
URL:https://geaugagrowthpartnership.com/event/cptc-certified-penetration-testing-consultant/
CATEGORIES:All GGP Events,Workforce Development
END:VEVENT
BEGIN:VEVENT
DTSTART;TZID=America/New_York:20260824T090000
DTEND;TZID=America/New_York:20260828T170000
DTSTAMP:20260425T113534
CREATED:20260320T124349Z
LAST-MODIFIED:20260420T143949Z
UID:9219-1787562000-1787936400@geaugagrowthpartnership.com
SUMMARY:CompTIA: Network+
DESCRIPTION:Description\nThe Official CompTIA® Network+® (Exam N10-007) course builds on your existing user-level knowledge and experience with personal computer operating systems and networks to present the fundamental skills and concepts that you will need to use on the job in any type of networking career. It also addresses the content described in the exam objectives for the CompTIA Network+ certification. If you are pursuing a CompTIA technical certification path\, obtaining the CompTIA® A+® certification is an excellent first step to take before preparing for the CompTIA Network+ examination. \nThe Official CompTIA® Network+® (Exam N10-007) course can benefit you in several ways: \n\nIf you are preparing for any type of network-related career\, it provides the background knowledge and skills you will require to be successful.\nIt contains information and procedures that can help you if your job duties include network troubleshooting\, installation\, or maintenance.\nIt can assist you in preparing for the CompTIA Network+ examination (Exam N10-007).\n\nYou will be able to: \n\nIdentify basic network theory concepts and major network communications methods.\nDescribe bounded network media.\nDescribe unbounded network media.\nIdentify the major types of network implementations.\nIdentify TCP/IP addressing and data delivery methods.\nAnalyze routing and switching technologies.\nIdentify the components of a TCP/IP implementation.\nAnalyze network security.\nImplement network security.\nIdentify the components of a WAN implementation.\nIdentify the components used in cloud computing and virtualization.\nIdentify the components of a remote network implementation.\nManage networks.\nTroubleshoot network issues.\n\n  \nPre-Requisites\nTo ensure your success in this course\, you will need basic Windows end-user computer skills. \n\n                \n                        \n                            Virtual - CompTIA: Network+\n                             \n                        \n                        Attendee Name(Required)\n                            \n                            \n                                                    \n                                                    First\n                                                \n                            \n                            \n                                                    \n                                                    Last\n                                                \n                            \n                        Company Name(Required)Email(Required)\n                            \n                        Phone(Required)Select class registration (select one class):(Required)\n								\n								06/01/2026 - 06/03/2026 | 09:00 AM - 05:00 PM\n							\n								\n								08/24/2026 - 08/26/2026 | 09:00 AM - 05:00 PM\n							\n								\n								10/25/2026 - 10/27/2026 | 09:00 AM - 05:00 PM\n							Are you a GGP Member?(Required)\n			\n					\n					Yes\n			\n			\n					\n					No\n			\n			\n					\n					Unknown\n			Comments - Please let us know what's on your mind. Have a question for GGP? Ask away!CAPTCHA\n          \n            \n            \n            \n            \n            \n            \n            \n            \n            \n            \n            \n            \n            \n        \n                        \n                        \n\nCourse Details\nBrand: CompTIA\nExam: CompTIA Network+\nCEU Credits: 3.5\nCourse Hours: 35\nNumber of Days: 5\nCourse PDF
URL:https://geaugagrowthpartnership.com/event/comptia-network-2/
CATEGORIES:All GGP Events,Workforce Development
END:VEVENT
BEGIN:VEVENT
DTSTART;TZID=America/New_York:20260824T090000
DTEND;TZID=America/New_York:20260828T170000
DTSTAMP:20260425T113534
CREATED:20260320T131436Z
LAST-MODIFIED:20260406T160355Z
UID:8995-1787562000-1787936400@geaugagrowthpartnership.com
SUMMARY:CyberSec First Responder (CFR)
DESCRIPTION:Description\nThis course covers network defense and incident response methods\, tactics\, and procedures that are in alignment with industry frameworks such as NIST 800-61r2 (Computer Security Incident Handling Guide)\, US-CERT’s National Cyber Incident Response Plan (NCIRP)\, and Presidential Policy Directive (PPD)-41 on Cyber Incident Coordination. It is ideal for candidates who have been tasked with the responsibility of monitoring and detecting security incidents in information systems and networks\, and for executing standardized responses to such incidents. The course introduces tools\, tactics\, and procedures to manage cybersecurity risks\, identify various types of common threats\, evaluate the organization’s security\, collect and analyze cybersecurity intelligence\, and remediate and report incidents as they occur. This course provides a comprehensive methodology for individuals responsible for defending the cybersecurity of their organization. \n  \nPre-Requisites\nTo ensure your success in this course\, you should meet the following requirements: \n\nAt least two years (recommended) of experience or education in computer network security technology or a related field.\nThe ability or curiosity to recognize information security vulnerabilities and threats in the context of risk management.\nFoundational knowledge of the concepts and operational framework of common assurance safeguards in network environments. Safeguards include\, but are not limited to\, firewalls\, intrusion prevention systems\, and VPNs.\nGeneral knowledge of the concepts and operational framework of common assurance safeguards in computing environments. Safeguards include\, but are not limited to\, basic authentication and authorization\, resource permissions\, and anti-malware mechanisms.\nFoundation-level skills with some of the common operating systems for computing environments.\nEntry-level understanding of some of the common concepts for network environments\, such as routing and switching.\nGeneral or practical knowledge of major TCP/IP networking protocols\, including\, but not limited to\, TCP\, IP\, UDP\, DNS\, HTTP\, ARP\, ICMP\, and DHCP.\n\n\n                \n                        \n                            Virtual - CyberSec First Responder (CFR)\n                             \n                        \n                        Attendee Name(Required)\n                            \n                            \n                                                    \n                                                    First\n                                                \n                            \n                            \n                                                    \n                                                    Last\n                                                \n                            \n                        Company Name(Required)Email(Required)\n                            \n                        Phone(Required)Select class registration (select one class):(Required)\n								\n								04/06/2026 - 04/10/2026 | 09:00 AM - 05:00 PM\n							\n								\n								05/11/2026 - 05/15/2026 | 09:00 AM - 05:00 PM\n							\n								\n								06/15/2026 - 06/19/2026 | 09:00 AM - 05:00 PM\n							\n								\n								07/10/2026 - 07/14/2026 | 09:00 AM - 05:00 PM\n							\n								\n								08/24/2026 - 08/28/2026 | 09:00 AM - 05:00 PM\n							\n								\n								09/07/2026 - 09/11/2026 | 09:00 AM - 05:00 PM\n							\n								\n								10/05/2026 - 10/09/2026 | 09:00 AM - 05:00 PM\n							\n								\n								11/30/2026 - 12/04/2026 | 09:00 AM - 05:00 PM\n							\n								\n								01/04/2027 - 01/08/2027 | 09:00 AM - 05:00 PM\n							Are you a GGP Member?(Required)\n			\n					\n					Yes\n			\n			\n					\n					No\n			\n			\n					\n					Unknown\n			Comments - Please let us know what's on your mind. Have a question for GGP? Ask away!CAPTCHA\n          \n            \n            \n            \n            \n            \n            \n            \n            \n            \n            \n            \n            \n            \n        \n                        \n                        \n\nCourse Details\nBrand: CertNexus\nExam: CFR\nCEU Credits: 3.5\nCourse Hours: 35\nNumber of Days: 5\nCourse PDF
URL:https://geaugagrowthpartnership.com/event/cybersec-first-responder-cfr-5/
CATEGORIES:All GGP Events,Workforce Development
END:VEVENT
END:VCALENDAR