BEGIN:VCALENDAR
VERSION:2.0
PRODID:-//Geauga Growth Partnership, Inc. - ECPv6.15.20//NONSGML v1.0//EN
CALSCALE:GREGORIAN
METHOD:PUBLISH
X-ORIGINAL-URL:https://geaugagrowthpartnership.com
X-WR-CALDESC:Events for Geauga Growth Partnership, Inc.
REFRESH-INTERVAL;VALUE=DURATION:PT1H
X-Robots-Tag:noindex
X-PUBLISHED-TTL:PT1H
BEGIN:VTIMEZONE
TZID:America/New_York
BEGIN:DAYLIGHT
TZOFFSETFROM:-0500
TZOFFSETTO:-0400
TZNAME:EDT
DTSTART:20250309T070000
END:DAYLIGHT
BEGIN:STANDARD
TZOFFSETFROM:-0400
TZOFFSETTO:-0500
TZNAME:EST
DTSTART:20251102T060000
END:STANDARD
BEGIN:DAYLIGHT
TZOFFSETFROM:-0500
TZOFFSETTO:-0400
TZNAME:EDT
DTSTART:20260308T070000
END:DAYLIGHT
BEGIN:STANDARD
TZOFFSETFROM:-0400
TZOFFSETTO:-0500
TZNAME:EST
DTSTART:20261101T060000
END:STANDARD
BEGIN:DAYLIGHT
TZOFFSETFROM:-0500
TZOFFSETTO:-0400
TZNAME:EDT
DTSTART:20270314T070000
END:DAYLIGHT
BEGIN:STANDARD
TZOFFSETFROM:-0400
TZOFFSETTO:-0500
TZNAME:EST
DTSTART:20271107T060000
END:STANDARD
END:VTIMEZONE
BEGIN:VEVENT
DTSTART;TZID=America/New_York:20260907T090000
DTEND;TZID=America/New_York:20260911T170000
DTSTAMP:20260425T144527
CREATED:20260319T213820Z
LAST-MODIFIED:20260413T152353Z
UID:9188-1788771600-1789146000@geaugagrowthpartnership.com
SUMMARY:C)WSE: Certified Wireless Security Engineer
DESCRIPTION:Description\nIn this course\, you will cover how a Wireless Security Engineer designs\, implements\, and maintains secure wireless networks. You will also learn how they assess security risks and vulnerabilities\, configure security solutions\, and ensure the confidentiality\, integrity\, and availability of data transmitted over wireless networks. This includes implementing security protocols such as WPA2\, 802.1X\, and others\, monitoring network activity for security threats\, and responding to security incidents. They also stay up to date with emerging security trends and technologies to continuously improve the security posture of their organization’s wireless network. \n  \nObjectives\nUpon successful completion of this course students will: \n\nBe able to establish industry acceptable Cyber Security & IS management standards with current best practices\nBe prepared to competently take the C)WSE exam\n\n  \nPre-Requisites\n\nC)SP\n12 months of Information Systems Management Experience\n\n\n\n                \n                        \n                            Virtual - C)WSE: Certified Wireless Security Engineer\n                             \n                        \n                        Attendee Name(Required)\n                            \n                            \n                                                    \n                                                    First\n                                                \n                            \n                            \n                                                    \n                                                    Last\n                                                \n                            \n                        Company Name(Required)Email(Required)\n                            \n                        Phone(Required)Select class registration (select one class):(Required)\n								\n								04/13/2026 - 04/17/2026 | 09:00 AM - 05:00 PM\n							\n								\n								09/07/2026 - 09/11/2026 | 09:00 AM - 05:00 PM\n							Are you a GGP Member?(Required)\n			\n					\n					Yes\n			\n			\n					\n					No\n			\n			\n					\n					Unknown\n			Comments - Please let us know what's on your mind. Have a question for GGP? Ask away!CAPTCHA\n          \n            \n            \n            \n            \n            \n            \n            \n            \n            \n            \n            \n            \n            \n        \n                        \n                        \n\nCourse Details\nBrand: Mile2\nExam: Mile2 C)WSE\nCEU Credits: 3.5\nCourse Hours: 35\nNumber of Days: 5\nCourse PDF
URL:https://geaugagrowthpartnership.com/event/cwse-certified-wireless-security-engineer-2/
CATEGORIES:All GGP Events,Workforce Development
END:VEVENT
BEGIN:VEVENT
DTSTART;TZID=America/New_York:20260907T090000
DTEND;TZID=America/New_York:20260911T170000
DTSTAMP:20260425T144527
CREATED:20260320T131445Z
LAST-MODIFIED:20260320T153305Z
UID:8996-1788771600-1789146000@geaugagrowthpartnership.com
SUMMARY:CyberSec First Responder (CFR)
DESCRIPTION:Description\nThis course covers network defense and incident response methods\, tactics\, and procedures that are in alignment with industry frameworks such as NIST 800-61r2 (Computer Security Incident Handling Guide)\, US-CERT’s National Cyber Incident Response Plan (NCIRP)\, and Presidential Policy Directive (PPD)-41 on Cyber Incident Coordination. It is ideal for candidates who have been tasked with the responsibility of monitoring and detecting security incidents in information systems and networks\, and for executing standardized responses to such incidents. The course introduces tools\, tactics\, and procedures to manage cybersecurity risks\, identify various types of common threats\, evaluate the organization’s security\, collect and analyze cybersecurity intelligence\, and remediate and report incidents as they occur. This course provides a comprehensive methodology for individuals responsible for defending the cybersecurity of their organization. \n \nPre-Requisites\nTo ensure your success in this course\, you should meet the following requirements: \n\nAt least two years (recommended) of experience or education in computer network security technology or a related field.\nThe ability or curiosity to recognize information security vulnerabilities and threats in the context of risk management.\nFoundational knowledge of the concepts and operational framework of common assurance safeguards in network environments. Safeguards include\, but are not limited to\, firewalls\, intrusion prevention systems\, and VPNs.\nGeneral knowledge of the concepts and operational framework of common assurance safeguards in computing environments. Safeguards include\, but are not limited to\, basic authentication and authorization\, resource permissions\, and anti-malware mechanisms.\nFoundation-level skills with some of the common operating systems for computing environments.\nEntry-level understanding of some of the common concepts for network environments\, such as routing and switching.\nGeneral or practical knowledge of major TCP/IP networking protocols\, including\, but not limited to\, TCP\, IP\, UDP\, DNS\, HTTP\, ARP\, ICMP\, and DHCP.\n\n \nCourse Details\nBrand: CertNexus\nExam: CFR\nCEU Credits: 3.5\nCourse Hours: 35\nNumber of Days: 5\nCourse PDF
URL:https://geaugagrowthpartnership.com/event/cybersec-first-responder-cfr-6/
CATEGORIES:All GGP Events,Workforce Development
END:VEVENT
BEGIN:VEVENT
DTSTART;TZID=America/New_York:20260907T090000
DTEND;TZID=America/New_York:20260911T170000
DTSTAMP:20260425T144527
CREATED:20260320T135738Z
LAST-MODIFIED:20260406T160609Z
UID:9165-1788771600-1789146000@geaugagrowthpartnership.com
SUMMARY:MD-102T00: Microsoft 365 Endpoint Administrator
DESCRIPTION:Description\nIn this course\, students will learn to plan and execute an endpoint deployment strategy using contemporary deployment techniques and implementing update strategies. The course introduces essential elements of modern management\, co-management approaches\, and Microsoft Intune integration. It covers app deployment\, management of browser-based applications\, and key security concepts such as authentication\, identities\, access\, and compliance policies. Technologies like Azure Active Directory\, Azure Information Protection\, and Microsoft Defender for Endpoint are explored to protect devices and data. \n  \nObjectives\n\nExplain the enterprise desktop life-cycle model.\nSelect the most suitable Windows device for your needs.\nUse Windows PowerShell cmdlets to manage Azure AD.\nManage devices joined to Azure AD.\nDeploy the Configuration Manager client.\nConfigure Microsoft Intune for automatic enrollment.\nAnd so much more!\n\n  \nPre-Requisites\nThe Modern Desktop Administrator must be familiar with M365 workloads and must have strong skills and experience of deploying\, configuring\, and maintaining Windows 11 and later\, and non-Windows devices. \n\n                \n                        \n                            Virtual - MD-102T00: Microsoft 365 Endpoint Administrator\n                             \n                        \n                        Attendee Name(Required)\n                            \n                            \n                                                    \n                                                    First\n                                                \n                            \n                            \n                                                    \n                                                    Last\n                                                \n                            \n                        Company Name(Required)Email(Required)\n                            \n                        Phone(Required)Select class registration (select one class):(Required)\n								\n								04/06/2026 - 04/10/2026 | 09:00 AM - 05:00 PM\n							\n								\n								05/11/2026 - 05/15/2026 | 09:00 AM - 05:00 PM\n							\n								\n								07/13/2026 - 07/17/2026 | 09:00 AM - 05:00 PM\n							\n								\n								09/07/2026 - 09/11/2026 | 09:00 AM - 05:00 PM\n							\n								\n								11/02/2026 - 11/06/2026 | 09:00 AM - 05:00 PM\n							Are you a GGP Member?(Required)\n			\n					\n					Yes\n			\n			\n					\n					No\n			\n			\n					\n					Unknown\n			Comments - Please let us know what's on your mind. Have a question for GGP? Ask away!CAPTCHA\n          \n            \n            \n            \n            \n            \n            \n            \n            \n            \n            \n            \n            \n            \n        \n                        \n                        \n\nCourse Details\nBrand: Microsoft\nExam: MD-102: Endpoint Administrator\nCEU Credits: 3.5\nCourse Hours: 35\nNumber of Days: 5\nCourse PDF
URL:https://geaugagrowthpartnership.com/event/md-102t00-microsoft-365-endpoint-administrator-3/
CATEGORIES:All GGP Events,Workforce Development
END:VEVENT
BEGIN:VEVENT
DTSTART;TZID=America/New_York:20260908T090000
DTEND;TZID=America/New_York:20260908T170000
DTSTAMP:20260425T144527
CREATED:20260320T132541Z
LAST-MODIFIED:20260413T151053Z
UID:9179-1788858000-1788886800@geaugagrowthpartnership.com
SUMMARY:DP-900T00: Microsoft Azure Data Fundamentals
DESCRIPTION:Description\nIn this course\, students will learn the fundamentals of database concepts in a cloud environment\, get basic skilling in cloud data services\, and build their foundational knowledge of cloud data services within Microsoft Azure. Students will identify and describe core data concepts such as relational\, non-relational\, big data\, and analytics\, and explore how this technology is implemented with Microsoft Azure. They will explore the roles\, tasks\, and responsibilities in the world of data. The students will explore relational data offerings\, provisioning and deploying relational databases\, and querying relational data through cloud data solutions with Microsoft Azure. They will explore non-relational data offerings\, provisioning and deploying non-relational databases\, and non-relational data stores with Microsoft Azure. Students will explore the processing options available for building data analytics solutions in Azure. They will explore Azure Synapse Analytics\, Azure Databricks\, and Azure HDInsight. Students will learn what Power BI is\, including its building blocks and how they work together. \n\n                \n                        \n                            Virtual - DP-900T00: Microsoft Azure Data Fundamentals\n                             \n                        \n                        Attendee Name(Required)\n                            \n                            \n                                                    \n                                                    First\n                                                \n                            \n                            \n                                                    \n                                                    Last\n                                                \n                            \n                        Company Name(Required)Email(Required)\n                            \n                        Phone(Required)Select class registration (select one class):(Required)\n								\n								04/07/2026 | 09:00 AM - 04:00 PM\n							\n								\n								07/07/2026 | 09:00 AM - 04:00 PM\n							\n								\n								09/08/2026 | 09:00 AM - 04:00 PM\n							\n								\n								11/03/2026 | 09:00 AM - 04:00 PM\n							Are you a GGP Member?(Required)\n			\n					\n					Yes\n			\n			\n					\n					No\n			\n			\n					\n					Unknown\n			Comments - Please let us know what's on your mind. Have a question for GGP? Ask away!CAPTCHA\n          \n            \n            \n            \n            \n            \n            \n            \n            \n            \n            \n            \n            \n            \n        \n                        \n                        \n\nCourse Details\nBrand: Microsoft\nExam: DP-900: Microsoft Azure Data Fundamentals\nCEU Credits: 0.7\nCourse Hours: 7\nNumber of Days: 1\nCourse PDF
URL:https://geaugagrowthpartnership.com/event/dp-900t00-microsoft-azure-data-fundamentals-3/
CATEGORIES:All GGP Events,Workforce Development
END:VEVENT
BEGIN:VEVENT
DTSTART;TZID=America/New_York:20260908T090000
DTEND;TZID=America/New_York:20260908T170000
DTSTAMP:20260425T144527
CREATED:20260406T151829Z
LAST-MODIFIED:20260406T151829Z
UID:9101-1788858000-1788886800@geaugagrowthpartnership.com
SUMMARY:AZ-900T00 - Microsoft Azure Fundamentals
DESCRIPTION:Description\nThis course will provide foundational level knowledge of cloud services and how those services are provided with Microsoft Azure. The course can be taken as an optional first step in learning about cloud services and Microsoft Azure\, before taking further Microsoft Azure or Microsoft cloud services courses. \nThe course will cover general cloud computing concepts as well as general cloud computing models and services such as Public\, Private and Hybrid cloud and Infrastructure-as-a-Service (IaaS)\, Platform-as-a-Service (PaaS) and Software-as-a-Service (SaaS). \nIt will also cover some core Azure services and solutions\, as well as key Azure pillar services concerning security\, privacy\, compliance and trust. It will finally cover pricing and support services available with Azure. \n\n                \n                        \n                            Virtual - AZ-900T00 - Microsoft Azure Fundamentals\n                             \n                        \n                        Attendee Name(Required)\n                            \n                            \n                                                    \n                                                    First\n                                                \n                            \n                            \n                                                    \n                                                    Last\n                                                \n                            \n                        Company Name(Required)Email(Required)\n                            \n                        Phone(Required)Select class registration (select one class):(Required)\n								\n								04/06/2026 | 09:00 AM - 04:00 PM\n							\n								\n								05/12/2026 | 09:00 AM - 04:00 PM\n							\n								\n								06/09/2026 | 09:00 AM - 04:00 PM\n							\n								\n								07/07/2026 | 09:00 AM - 04:00 PM\n							\n								\n								08/04/2026 | 09:00 AM - 04:00 PM\n							\n								\n								09/08/2026 | 09:00 AM - 04:00 PM\n							\n								\n								10/27/2026 | 09:00 AM - 04:00 PM\n							\n								\n								11/17/2026 | 09:00 AM - 04:00 PM\n							\n								\n								12/15/2026 | 09:00 AM - 04:00 PM\n							Are you a GGP Member?(Required)\n			\n					\n					Yes\n			\n			\n					\n					No\n			\n			\n					\n					Unknown\n			Comments - Please let us know what's on your mind. Have a question for GGP? Ask away!CAPTCHA\n          \n            \n            \n            \n            \n            \n            \n            \n            \n            \n            \n            \n            \n            \n        \n                        \n                        \n\nCourse Details\nBrand: Microsoft\nExam: AZ-900: Microsoft Azure Fundamentals\nCEU Credits: 0.7\nCourse Hours: 7\nNumber of Days: 1\nCourse PDF
URL:https://geaugagrowthpartnership.com/event/az-900t00-microsoft-azure-fundamentals-7/
CATEGORIES:All GGP Events,Workforce Development
END:VEVENT
BEGIN:VEVENT
DTSTART;TZID=America/New_York:20260908T090000
DTEND;TZID=America/New_York:20260910T170000
DTSTAMP:20260425T144527
CREATED:20260319T221148Z
LAST-MODIFIED:20260420T142532Z
UID:9213-1788858000-1789059600@geaugagrowthpartnership.com
SUMMARY:Certified IoT Practitioner (CIoTP)
DESCRIPTION:Description\nIn this course\, students will learn general strategies for planning\, designing\, developing\, implementing\, and maintaining an IoT system through various case studies and by assembling and configuring an IoT device to work in a sensor network. Students will create an IoT device based on an ESP8266 microcontroller\, implementing various common IoT features\, such as analog and digital sensors\, a web-based interface\, MQTT messaging\, and data encryption. \n  \nPre-Requisites\nTo ensure your success in this course you should be an experienced computer user who is comfortable setting up and configuring computers and electronic devices. \n\n                \n                        \n                            Virtual - Certified IoT Practitioner (CIoTP)\n                             \n                        \n                        Attendee Name(Required)\n                            \n                            \n                                                    \n                                                    First\n                                                \n                            \n                            \n                                                    \n                                                    Last\n                                                \n                            \n                        Company Name(Required)Email(Required)\n                            \n                        Phone(Required)Select class registration (select one class):(Required)\n								\n								05/27/2026 - 05/29/2026 | 09:00 AM - 05:00 PM\n							\n								\n								09/08/2026 - 09/10/2026 | 09:00 AM - 05:00 PM\n							\n								\n								12/09/2026 - 12/11/2026 | 09:00 AM - 05:00 PM\n							Are you a GGP Member?(Required)\n			\n					\n					Yes\n			\n			\n					\n					No\n			\n			\n					\n					Unknown\n			Comments - Please let us know what's on your mind. Have a question for GGP? Ask away!CAPTCHA\n          \n            \n            \n            \n            \n            \n            \n            \n            \n            \n            \n            \n            \n            \n        \n                        \n                        \n\nCourse Details\nBrand: CertNexus\nExam: CIoTP\nCEU Credits: 2.1\nCourse Hours: 21\nNumber of Days: 3\nCourse PDF
URL:https://geaugagrowthpartnership.com/event/certified-iot-practitioner-ciotp-2/
CATEGORIES:All GGP Events,Workforce Development
END:VEVENT
BEGIN:VEVENT
DTSTART;TZID=America/New_York:20260908T090000
DTEND;TZID=America/New_York:20260911T170000
DTSTAMP:20260425T144527
CREATED:20260319T183102Z
LAST-MODIFIED:20260413T160939Z
UID:9055-1788858000-1789146000@geaugagrowthpartnership.com
SUMMARY:AZ-800T00: Administering Windows Server Hybrid Core Infrastructure
DESCRIPTION:Description\nIn this course\, you will cover how to manage core Windows Server workloads and services using on-premises\, hybrid\, and cloud technologies. The course teaches IT Professionals how to implement and manage on-premises and hybrid solutions such as identity\, management\, compute\, networking\, and storage in a Windows Server hybrid environment. \n  \nObjectives\n\nUse administrative techniques and tools in Windows Server.\nIdentify tools used to implement hybrid solutions\, including Windows Admin Center and PowerShell.\nImplement identity services in Windows Server.\nImplement identity in hybrid scenarios\, including Azure AD DS on Azure IaaS and managed AD DS.\nIntegrate Azure AD DS with Azure AD.\nManage network infrastructure services.\nDeploy Azure VMs running Windows Server\, and configure networking and storage.\nAdminister and manage Windows Server IaaS Virtual Machine remotely.\nManage and maintain Azure VMs running Windows Server.\nConfigure file servers and storage.\nImplement File Services in hybrid scenarios\, using Azure Files and Azure File Sync.\n\n  \nPre-Requisites\nBefore attending this course\, students must have: \n\nExperience with managing Windows Server operating system and Windows Server workloads in on-premises scenarios\, including AD DS\, DNS\, DFS\, Hyper-V\, and File and Storage Services\nExperience with common Windows Server management tools (implied in the first prerequisite).\nBasic knowledge of core Microsoft compute\, storage\, networking\, and virtualization technologies (implied in the first prerequisite).\nExperience and an understanding of core networking technologies such as IP addressing\, name resolution\, and Dynamic Host Configuration Protocol (DHCP)\nExperience working with and an understanding of Microsoft Hyper-V and basic server virtualization concepts\nBasic experience with implementing and managing IaaS services in Microsoft Azure\nBasic knowledge of Azure Active Directory\nExperience working hands-on with Windows client operating systems such as Windows 10 or Windows 11\nBasic experience with Windows PowerShell\n\n\n                \n                        \n                            Virtual - AZ-800T00: Administering Windows Server Hybrid Core Infrastructure\n                             \n                        \n                        Attendee Name(Required)\n                            \n                            \n                                                    \n                                                    First\n                                                \n                            \n                            \n                                                    \n                                                    Last\n                                                \n                            \n                        Company Name(Required)Email(Required)\n                            \n                        Phone(Required)Select class registration (select one class):(Required)\n								\n								04/21/2026 - 04/24/2026 | 09:00 AM - 05:00 PM\n							\n								\n								05/11/2026 - 05/14/2026 | 10:00 AM - 06:00 PM\n							\n								\n								06/02/2026 - 06/05/2026 | 09:00 AM - 05:00 PM\n							\n								\n								07/07/2026 - 07/10/2026 | 09:00 AM - 05:00 PM\n							\n								\n								08/04/2026 - 08/07/2026 | 09:00 AM - 05:00 PM\n							\n								\n								09/08/2026 - 09/11/2026 | 09:00 AM - 05:00 PM\n							\n								\n								10/06/2026 - 10/09/2026 | 09:00 AM - 05:00 PM\n							\n								\n								11/03/2026 - 11/06/2026 | 09:00 AM - 05:00 PM\n							Are you a GGP Member?(Required)\n			\n					\n					Yes\n			\n			\n					\n					No\n			\n			\n					\n					Unknown\n			Comments - Please let us know what's on your mind. Have a question for GGP? Ask away!CAPTCHA\n          \n            \n            \n            \n            \n            \n            \n            \n            \n            \n            \n            \n            \n            \n        \n                        \n                        \n\nCourse Details\nBrand: Microsoft\nExam: AZ-800: Administering Windows Server Hybrid Core Infrastructure\nCEU Credits: 2.8\nCourse Hours: 28\nNumber of Days: 4\nCourse PDF
URL:https://geaugagrowthpartnership.com/event/az-800t00-administering-windows-server-hybrid-core-infrastructure-7/
CATEGORIES:All GGP Events,Workforce Development
END:VEVENT
BEGIN:VEVENT
DTSTART;TZID=America/New_York:20260908T090000
DTEND;TZID=America/New_York:20260911T170000
DTSTAMP:20260425T144527
CREATED:20260320T132358Z
LAST-MODIFIED:20260420T145736Z
UID:9235-1788858000-1789146000@geaugagrowthpartnership.com
SUMMARY:DP-300T00: Implement scalable database solutions using Azure SQL
DESCRIPTION:Description\nThis course provides students with the knowledge and skills to administer a SQL Server database infrastructure for cloud\, on-premises\, and hybrid relational databases and who work with the Microsoft PaaS relational database offerings. Additionally\, it will be of use to individuals who develop applications that deliver content from SQL-based relational databases. \n  \nPre-Requisites\nIn addition to their professional experience\, students who take this training should have technical knowledge equivalent to the following courses: \n\nAzure Fundamentals\nAzure Data Fundamentals\n\n\n                \n                        \n                            Virtual - DP-300T00: Implement scalable database solutions using Azure SQL\n                             \n                        \n                        Attendee Name(Required)\n                            \n                            \n                                                    \n                                                    First\n                                                \n                            \n                            \n                                                    \n                                                    Last\n                                                \n                            \n                        Company Name(Required)Email(Required)\n                            \n                        Phone(Required)Select class registration (select one class):(Required)\n								\n								07/07/2026 - 07/09/2026 | 09:00 AM - 05:00 PM\n							\n								\n								09/08/2026 - 09/10/2026 | 09:00 AM - 05:00 PM\n							\n								\n								11/03/2026 - 11/05/2026 | 09:00 AM - 05:00 PM\n							Are you a GGP Member?(Required)\n			\n					\n					Yes\n			\n			\n					\n					No\n			\n			\n					\n					Unknown\n			Comments - Please let us know what's on your mind. Have a question for GGP? Ask away!CAPTCHA\n          \n            \n            \n            \n            \n            \n            \n            \n            \n            \n            \n            \n            \n            \n        \n                        \n                        \n\nCourse Details\nBrand: Microsoft\nExam: DP-300: Administering Relational Databases on Microsoft Azure\nCEU Credits: 2.8\nCourse Hours: 28\nNumber of Days: 4\nCourse PDF
URL:https://geaugagrowthpartnership.com/event/dp-300t00-implement-scalable-database-solutions-using-azure-sql-2/
CATEGORIES:All GGP Events,Workforce Development
END:VEVENT
END:VCALENDAR