BEGIN:VCALENDAR
VERSION:2.0
PRODID:-//Geauga Growth Partnership, Inc. - ECPv6.15.20//NONSGML v1.0//EN
CALSCALE:GREGORIAN
METHOD:PUBLISH
X-WR-CALNAME:Geauga Growth Partnership, Inc.
X-ORIGINAL-URL:https://geaugagrowthpartnership.com
X-WR-CALDESC:Events for Geauga Growth Partnership, Inc.
REFRESH-INTERVAL;VALUE=DURATION:PT1H
X-Robots-Tag:noindex
X-PUBLISHED-TTL:PT1H
BEGIN:VTIMEZONE
TZID:America/New_York
BEGIN:DAYLIGHT
TZOFFSETFROM:-0500
TZOFFSETTO:-0400
TZNAME:EDT
DTSTART:20250309T070000
END:DAYLIGHT
BEGIN:STANDARD
TZOFFSETFROM:-0400
TZOFFSETTO:-0500
TZNAME:EST
DTSTART:20251102T060000
END:STANDARD
BEGIN:DAYLIGHT
TZOFFSETFROM:-0500
TZOFFSETTO:-0400
TZNAME:EDT
DTSTART:20260308T070000
END:DAYLIGHT
BEGIN:STANDARD
TZOFFSETFROM:-0400
TZOFFSETTO:-0500
TZNAME:EST
DTSTART:20261101T060000
END:STANDARD
BEGIN:DAYLIGHT
TZOFFSETFROM:-0500
TZOFFSETTO:-0400
TZNAME:EDT
DTSTART:20270314T070000
END:DAYLIGHT
BEGIN:STANDARD
TZOFFSETFROM:-0400
TZOFFSETTO:-0500
TZNAME:EST
DTSTART:20271107T060000
END:STANDARD
END:VTIMEZONE
BEGIN:VEVENT
DTSTART;TZID=America/New_York:20260203T090000
DTEND;TZID=America/New_York:20260204T170000
DTSTAMP:20260424T235403
CREATED:20260128T164511Z
LAST-MODIFIED:20260128T164511Z
UID:8792-1770109200-1770224400@geaugagrowthpartnership.com
SUMMARY:Virtual – Power BI: DAX for Power BI
DESCRIPTION:02/03/2026 – 02/04/2026 @ 09:00 AM – 05:00 PM \nSimple Description: Master DAX formulas to unlock advanced metrics and custom analytics. \nGreat For: Experienced Power BI users\, analysts\, data professionals. \nFull description: This hands-on course will show you how to write DAX formulas to solve real-world business problems and explore your data at a much deeper level. Topics include date/time and time intelligence functions\, filtering and conditional logic with CALCULATE() and FILTER()\, statistical and text-based calculations\, troubleshooting\, and optimization. \nPrerequesites:\nAlthough experience with Power BI Desktop is not strictly required for this class\, students with at least some familiarity will be better equipped to get the most out of the lab work. \nCourse price: $1300 \n\n\n                \n                        \n                            Virtual - Power BI classes\n                             \n                        \n                        Attendee Name(Required)\n                            \n                            \n                                                    \n                                                    First\n                                                \n                            \n                            \n                                                    \n                                                    Last\n                                                \n                            \n                        Company Name(Required)Email(Required)\n                            \n                        Phone(Required)Select class registration (select one class):(Required)\n								\n								Power BI: PL-300 Data Analyst | 04/21/2026 - 04/23/2026| 09:00 AM - 05:00 PM\n							\n								\n								Power BI: PL-300 Data Analyst | 06/09/2026 - 06/11/2026 | 09:00 AM - 05:00 PM\n							\n								\n								Power BI: PL-300 Data Analyst | 07/07/2026 - 07/09/2026 | 09:00 AM - 05:00 PM\n							\n								\n								Power BI: PL-300 Data Analyst | 08/18/2026 - 08/20/2026 | 09:00 AM - 05:00 PM\n							\n								\n								Power BI: PL-300 Data Analyst | 09/09/2026 - 09/11/2026 | 09:00 AM - 05:00 PM\n							\n								\n								Power BI: PL-300 Data Analyst | 10/06/2026 - 10/08/2026 | 09:00 AM - 05:00 PM\n							\n								\n								Power BI: PL-300 Data Analyst | 11/04/2026 - 11/06/2026 | 09:00 AM - 05:00 PM\n							\n								\n								Power BI: PL-300 Data Analyst | 12/08/2026 - 12/10/2026 | 09:00 AM - 05:00 PM\n							Are you a GGP Member?(Required)\n			\n					\n					Yes\n			\n			\n					\n					No\n			\n			\n					\n					Unknown\n			Comments - Please let us know what's on your mind. Have a question for GGP? Ask away!CAPTCHA\n          \n            \n            \n            \n            \n            \n            \n            \n            \n            \n            \n            \n            \n            \n        \n                        \n                        \n \nPlease contact the Geauga Growth Partnership (GGP) office if you have any questions.\n440-564-1060 or info@geaugagrowth.com.  \nThis course is TechCred eligible for reimbursement! Learn more and see if you qualify by clicking here: FAQ | TechCred \nRegistration closes one week before the class date. If you’re interested in registering within a week of the class\, please contact a member of the Geauga Growth Partnership team for availability. Contact information: 440-564-1060 | info@geaugagrowth.com  \nGeauga Growth Partnership Board of Directors is dedicated to providing a positive and respectful environment for all event and training participants. GGP employees\, members\, guests of members\, attendees\, speakers\, sponsors\, and volunteers are expected to observe high standards of behavior and personal ethics in their conduct at any GGP event or training.  \nAnyone engaging in inappropriate behavior during these events or trainings will be asked by a GGP representative to discontinue the offensive behavior immediately. Should the behavior continue or if the behavior is deemed severe enough\, the individual(s) will be removed from the event or training (without a refund) and may be denied entry to future events or trainings.  \n 
URL:https://geaugagrowthpartnership.com/event/virtual-power-bi-dax-for-power-bi/
CATEGORIES:All GGP Events,Virtual Training,Workforce Development
END:VEVENT
BEGIN:VEVENT
DTSTART;TZID=America/New_York:20260211T090000
DTEND;TZID=America/New_York:20260211T170000
DTSTAMP:20260424T235403
CREATED:20251217T194854Z
LAST-MODIFIED:20251217T194854Z
UID:8673-1770800400-1770829200@geaugagrowthpartnership.com
SUMMARY:Virtual – Excel 365 Level 1
DESCRIPTION:02/11/2026 @ 09:00 AM – 05:00 PM \nSimple Description: Build your Excel 365 foundation with shortcuts\, formulas\, and quick tools. \nGreat For: Beginners\, professionals needing a refresher\, office staff. \nFull description: The Computer Workshop writes their own curriculum for Excel\, making it easy to customize a class specific to your needs. Many think they are past the basics\, but our course has many valuable shortcuts and quick data entry methods built in to give you a good foundation. Even if you have used Excel for a number of years\, it is worth taking the Level 1 class. This course will make ordinary tasks much easier for you to accomplish in much less time. \nCourse price: $279 \n\n                \n                        \n                            Virtual - Excel Level 1\n                             \n                        \n                        Attendee Name(Required)\n                            \n                            \n                                                    \n                                                    First\n                                                \n                            \n                            \n                                                    \n                                                    Last\n                                                \n                            \n                        Company Name(Required)Email(Required)\n                            \n                        Phone(Required)Select class registration (select one class):(Required)\n								\n								Excel 365 Level 1 | 03/10/2026| 09:00 AM - 05:00 PM\n							\n								\n								Excel 365 Level 1 | 04/25/2026 - 05/02/2026| 01:00 PM - 04:30 PM\n							\n								\n								Excel 365 Level 1 | 04/29/2026| 09:00 AM - 05:00 PM\n							Are you a GGP Member?(Required)\n			\n					\n					Yes\n			\n			\n					\n					No\n			\n			\n					\n					Unknown\n			Comments - Please let us know what's on your mind. Have a question for GGP? Ask away!CAPTCHA\n          \n            \n            \n            \n            \n            \n            \n            \n            \n            \n            \n            \n            \n            \n        \n                        \n                        \n \nPlease contact the Geauga Growth Partnership (GGP) office if you have any questions.\n440-564-1060 or info@geaugagrowth.com.  \nThis course is TechCred eligible for reimbursement! Learn more and see if you qualify by clicking here: FAQ | TechCred \nRegistration closes one week before the class date. If you’re interested in registering within a week of the class\, please contact a member of the Geauga Growth Partnership team for availability. Contact information: 440-564-1060 | info@geaugagrowth.com  \nGeauga Growth Partnership Board of Directors is dedicated to providing a positive and respectful environment for all event and training participants. GGP employees\, members\, guests of members\, attendees\, speakers\, sponsors\, and volunteers are expected to observe high standards of behavior and personal ethics in their conduct at any GGP event or training.  \nAnyone engaging in inappropriate behavior during these events or trainings will be asked by a GGP representative to discontinue the offensive behavior immediately. Should the behavior continue or if the behavior is deemed severe enough\, the individual(s) will be removed from the event or training (without a refund) and may be denied entry to future events or trainings. 
URL:https://geaugagrowthpartnership.com/event/virtual-excel-365-level-1-2/
CATEGORIES:All GGP Events,Virtual Training,Workforce Development
END:VEVENT
BEGIN:VEVENT
DTSTART;TZID=America/New_York:20260211T090000
DTEND;TZID=America/New_York:20260213T170000
DTSTAMP:20260424T235403
CREATED:20260128T170051Z
LAST-MODIFIED:20260128T170051Z
UID:8795-1770800400-1771002000@geaugagrowthpartnership.com
SUMMARY:Virtual – Power BI: PL-300 Data Analyst
DESCRIPTION:02/11/2026 – 02/13/2026 @ 09:00 AM – 05:00 PM \nSimple Description: Learn how to prepare\, model\, and visualize data with Power BI to earn your Microsoft Certified: Data Analyst Associate credential. \nGreat For: Data analysts\, business intelligence professionals\, Excel power users. \nFull description: Kickstart your Power BI journey with this comprehensive course that teaches you how to ingest\, clean\, transform\, and model data using best practices. Learn to build interactive dashboards and manage report deployment with security and scalability in mind. \nPrerequesites:\nSuccessful Data Analysts start this role with experience of working with data in the cloud. \nSpecifically: \nUnderstanding core data concepts. \nKnowledge of working with relational data in the cloud. \nKnowledge of working with non-relational data in the cloud. \nKnowledge of data analysis and visualization concepts. \nCourse price: $1739 \n\n                \n                        \n                            Virtual - Power BI classes\n                             \n                        \n                        Attendee Name(Required)\n                            \n                            \n                                                    \n                                                    First\n                                                \n                            \n                            \n                                                    \n                                                    Last\n                                                \n                            \n                        Company Name(Required)Email(Required)\n                            \n                        Phone(Required)Select class registration (select one class):(Required)\n								\n								Power BI: PL-300 Data Analyst | 04/21/2026 - 04/23/2026| 09:00 AM - 05:00 PM\n							\n								\n								Power BI: PL-300 Data Analyst | 06/09/2026 - 06/11/2026 | 09:00 AM - 05:00 PM\n							\n								\n								Power BI: PL-300 Data Analyst | 07/07/2026 - 07/09/2026 | 09:00 AM - 05:00 PM\n							\n								\n								Power BI: PL-300 Data Analyst | 08/18/2026 - 08/20/2026 | 09:00 AM - 05:00 PM\n							\n								\n								Power BI: PL-300 Data Analyst | 09/09/2026 - 09/11/2026 | 09:00 AM - 05:00 PM\n							\n								\n								Power BI: PL-300 Data Analyst | 10/06/2026 - 10/08/2026 | 09:00 AM - 05:00 PM\n							\n								\n								Power BI: PL-300 Data Analyst | 11/04/2026 - 11/06/2026 | 09:00 AM - 05:00 PM\n							\n								\n								Power BI: PL-300 Data Analyst | 12/08/2026 - 12/10/2026 | 09:00 AM - 05:00 PM\n							Are you a GGP Member?(Required)\n			\n					\n					Yes\n			\n			\n					\n					No\n			\n			\n					\n					Unknown\n			Comments - Please let us know what's on your mind. Have a question for GGP? Ask away!CAPTCHA\n          \n            \n            \n            \n            \n            \n            \n            \n            \n            \n            \n            \n            \n            \n        \n                        \n                        \n \nPlease contact the Geauga Growth Partnership (GGP) office if you have any questions.\n440-564-1060 or info@geaugagrowth.com.  \nThis course is TechCred eligible for reimbursement! Learn more and see if you qualify by clicking here: FAQ | TechCred \nRegistration closes one week before the class date. If you’re interested in registering within a week of the class\, please contact a member of the Geauga Growth Partnership team for availability. Contact information: 440-564-1060 | info@geaugagrowth.com  \nGeauga Growth Partnership Board of Directors is dedicated to providing a positive and respectful environment for all event and training participants. GGP employees\, members\, guests of members\, attendees\, speakers\, sponsors\, and volunteers are expected to observe high standards of behavior and personal ethics in their conduct at any GGP event or training.  \nAnyone engaging in inappropriate behavior during these events or trainings will be asked by a GGP representative to discontinue the offensive behavior immediately. Should the behavior continue or if the behavior is deemed severe enough\, the individual(s) will be removed from the event or training (without a refund) and may be denied entry to future events or trainings.  \n 
URL:https://geaugagrowthpartnership.com/event/virtual-power-bi-pl-300-data-analyst-3/
CATEGORIES:All GGP Events,Virtual Training,Workforce Development
END:VEVENT
BEGIN:VEVENT
DTSTART;TZID=America/New_York:20260219T090000
DTEND;TZID=America/New_York:20260219T170000
DTSTAMP:20260424T235403
CREATED:20260128T170123Z
LAST-MODIFIED:20260128T170123Z
UID:8797-1771491600-1771520400@geaugagrowthpartnership.com
SUMMARY:Virtual – Excel 365 Level 2
DESCRIPTION:02/19/2026 @ 09:00 AM – 05:00 PM \nSimple Description: Take Excel 365 to the next level with multiple worksheets\, charts\, and advanced formatting. \nGreat For: Intermediate Excel users\, business professionals managing complex data. \nFull description: In this course\, you will cover how to work with large worksheets in Microsoft Excel 365\, and use multiple worksheets and workbooks efficiently. You will sort and filter data\, use conditional formatting\, and create and format tables and charts. You will learn how to protect worksheets and files\, as well as referring to data in other workbooks through 3D formulas. Finally\, you will create names\, customize a template\, and work with comments and graphics. \nPrerequesites:\nTo ensure success\, students should have completed Microsoft® Excel® for Office 365™ (Desktop or Online): Part 1 or have the equivalent knowledge and experience. \nCourse price: $289 \n\n                \n                        \n                            Virtual - Excel Level 2\n                             \n                        \n                        Attendee Name(Required)\n                            \n                            \n                                                    \n                                                    First\n                                                \n                            \n                            \n                                                    \n                                                    Last\n                                                \n                            \n                        Company Name(Required)Email(Required)\n                            \n                        Phone(Required)Select class registration (select one class):(Required)\n								\n								Excel 365 Level 2 | 02/19/2026 | 09:00 AM - 05:00 PM\n							\n								\n								Excel 365 Level 2 | 03/11/2026 | 09:00 AM - 05:00 PM\n							\n								\n								Excel 365 Level 2 | 05/15/2026 | 09:00 AM - 05:00 PM\n							Are you a GGP Member?(Required)\n			\n					\n					Yes\n			\n			\n					\n					No\n			\n			\n					\n					Unknown\n			Comments - Please let us know what's on your mind. Have a question for GGP? Ask away!CAPTCHA\n          \n            \n            \n            \n            \n            \n            \n            \n            \n            \n            \n            \n            \n            \n        \n                        \n                        \n \nPlease contact the Geauga Growth Partnership (GGP) office if you have any questions.\n440-564-1060 or info@geaugagrowth.com.  \nThis course is TechCred eligible for reimbursement! Learn more and see if you qualify by clicking here: FAQ | TechCred \nRegistration closes one week before the class date. If you’re interested in registering within a week of the class\, please contact a member of the Geauga Growth Partnership team for availability. Contact information: 440-564-1060 | info@geaugagrowth.com  \nGeauga Growth Partnership Board of Directors is dedicated to providing a positive and respectful environment for all event and training participants. GGP employees\, members\, guests of members\, attendees\, speakers\, sponsors\, and volunteers are expected to observe high standards of behavior and personal ethics in their conduct at any GGP event or training.  \nAnyone engaging in inappropriate behavior during these events or trainings will be asked by a GGP representative to discontinue the offensive behavior immediately. Should the behavior continue or if the behavior is deemed severe enough\, the individual(s) will be removed from the event or training (without a refund) and may be denied entry to future events or trainings. 
URL:https://geaugagrowthpartnership.com/event/virtual-excel-365-level-2-4/
CATEGORIES:All GGP Events,Virtual Training,Workforce Development
END:VEVENT
BEGIN:VEVENT
DTSTART;TZID=America/New_York:20260220T080000
DTEND;TZID=America/New_York:20260220T120000
DTSTAMP:20260424T235403
CREATED:20251217T194531Z
LAST-MODIFIED:20251217T194531Z
UID:8663-1771574400-1771588800@geaugagrowthpartnership.com
SUMMARY:Virtual – Excel 2019 Data Analysis with Power Pivot
DESCRIPTION:02/20/2026 @ 08:00 AM – 12:00 PM \nSimple Description: Use Power Pivot to organize\, manipulate\, and report on large datasets. \nGreat For: Business analysts\, data managers\, and Excel power users. \nFull description: We are now living in the age of big data. Data is being collected all the time and for increasingly detailed transactions. This can lead to an overwhelming amount of data\, which brings about a need for people who can analyze large amounts of data quickly. Fortunately\, Excel provides Power Pivot to help you organize\, manipulate\, and report on your data in the best way possible. Since a tool is only as good as the person using it\, it is important to gain a solid understanding of Power Pivot to maximize your effectiveness when analyzing data. \nPrerequesites:\nLevels 1 & 2 and PivotTables \nCourse price: $219 \n\n                \n                        \n                            Virtual - Misc Excel Classes\n                             \n                        \n                        Attendee Name(Required)\n                            \n                            \n                                                    \n                                                    First\n                                                \n                            \n                            \n                                                    \n                                                    Last\n                                                \n                            \n                        Company Name(Required)Email(Required)\n                            \n                        Phone(Required)Select class registration (select one class):(Required)\n								\n								Excel 2019 Charts | 04/24/2026 | 08:00 AM - 12:00 PM\n							\n								\n								Excel 2019 Pivot Tables | 04/24/2026| 01:00 PM - 05:00 PM\n							\n								\n								Excel 365 Formulas | 04/29/2026 - 04/30/2026| 09:00 AM - 04:00 PM\n							\n								\n								Excel 2019 Pivot Tables | 05/20/2026| 01:00 PM - 05:00 PM\n							Are you a GGP Member?(Required)\n			\n					\n					Yes\n			\n			\n					\n					No\n			\n			\n					\n					Unknown\n			Comments - Please let us know what's on your mind. Have a question for GGP? Ask away!CAPTCHA\n          \n            \n            \n            \n            \n            \n            \n            \n            \n            \n            \n            \n            \n            \n        \n                        \n                        \n \nPlease contact the Geauga Growth Partnership (GGP) office if you have any questions.\n440-564-1060 or info@geaugagrowth.com.  \nThis course is TechCred eligible for reimbursement! Learn more and see if you qualify by clicking here: FAQ | TechCred \nRegistration closes one week before the class date. If you’re interested in registering within a week of the class\, please contact a member of the Geauga Growth Partnership team for availability. Contact information: 440-564-1060 | info@geaugagrowth.com  \nGeauga Growth Partnership Board of Directors is dedicated to providing a positive and respectful environment for all event and training participants. GGP employees\, members\, guests of members\, attendees\, speakers\, sponsors\, and volunteers are expected to observe high standards of behavior and personal ethics in their conduct at any GGP event or training.  \nAnyone engaging in inappropriate behavior during these events or trainings will be asked by a GGP representative to discontinue the offensive behavior immediately. Should the behavior continue or if the behavior is deemed severe enough\, the individual(s) will be removed from the event or training (without a refund) and may be denied entry to future events or trainings. 
URL:https://geaugagrowthpartnership.com/event/virtual-excel-2019-data-analysis-with-power-pivot-6/
CATEGORIES:All GGP Events,Virtual Training,Workforce Development
END:VEVENT
BEGIN:VEVENT
DTSTART;TZID=America/New_York:20260226T090000
DTEND;TZID=America/New_York:20260226T170000
DTSTAMP:20260424T235403
CREATED:20260128T170159Z
LAST-MODIFIED:20260128T170159Z
UID:8799-1772096400-1772125200@geaugagrowthpartnership.com
SUMMARY:Virtual – Excel 365 Level 3
DESCRIPTION:02/26/2026 @ 09:00 AM – 05:00 PM \nSimple Description: Master Excel 365 with advanced formulas\, macros\, and collaboration tools. \nGreat For: Advanced Excel users\, analysts\, professionals automating or sharing data. \nFull description: In this course\, you will cover how to create and work with Macros and VBA Programming\, as well as how to add Form Controls and assign a Macro to a Form Control. You will learn about formula auditing\, and will learn about common errors\, how to correct them\, and how to use the Watch Window to see changes in formulas. You will also work with creating and modifying hyperlinks\, getting data from the internet\, as well as saving workbooks\, worksheets\, charts\, and ranges as web pages. You will create custom styles and learn how to use advanced conditional formatting. Finally\, you will learn how to create and use a shared workbook\, including how to protect\, consolidate\, and resolve editing conflicts in a shared workbook. \nPrerequesites:\nTo ensure success\, students can take the following courses\, or should possess the equivalent skill level: \nMicrosoft® Excel® for Office 365™ (Desktop or Online): Part 1 \nMicrosoft® Excel® for Office 365™ (Desktop or Online): Part 2 \nCourse price: $299 \n\n                \n                        \n                            Virtual - Excel Level 3\n                             \n                        \n                        Attendee Name(Required)\n                            \n                            \n                                                    \n                                                    First\n                                                \n                            \n                            \n                                                    \n                                                    Last\n                                                \n                            \n                        Company Name(Required)Email(Required)\n                            \n                        Phone(Required)Select class registration (select one class):(Required)\n								\n								Excel 365 Level 3 | 03/17/2026| 09:00 AM - 05:00 PM\n							Are you a GGP Member?(Required)\n			\n					\n					Yes\n			\n			\n					\n					No\n			\n			\n					\n					Unknown\n			Comments - Please let us know what's on your mind. Have a question for GGP? Ask away!CAPTCHA\n          \n            \n            \n            \n            \n            \n            \n            \n            \n            \n            \n            \n            \n            \n        \n                        \n                        \n \nPlease contact the Geauga Growth Partnership (GGP) office if you have any questions.\n440-564-1060 or info@geaugagrowth.com.  \nThis course is TechCred eligible for reimbursement! Learn more and see if you qualify by clicking here: FAQ | TechCred \nRegistration closes one week before the class date. If you’re interested in registering within a week of the class\, please contact a member of the Geauga Growth Partnership team for availability. Contact information: 440-564-1060 | info@geaugagrowth.com  \nGeauga Growth Partnership Board of Directors is dedicated to providing a positive and respectful environment for all event and training participants. GGP employees\, members\, guests of members\, attendees\, speakers\, sponsors\, and volunteers are expected to observe high standards of behavior and personal ethics in their conduct at any GGP event or training.  \nAnyone engaging in inappropriate behavior during these events or trainings will be asked by a GGP representative to discontinue the offensive behavior immediately. Should the behavior continue or if the behavior is deemed severe enough\, the individual(s) will be removed from the event or training (without a refund) and may be denied entry to future events or trainings.  \n 
URL:https://geaugagrowthpartnership.com/event/virtual-excel-365-level-3-4/
CATEGORIES:All GGP Events,Virtual Training,Workforce Development
END:VEVENT
END:VCALENDAR